BEGIN:VCALENDAR
VERSION:2.0
PRODID:-//IIDA Carolinas - ECPv6.15.13//NONSGML v1.0//EN
CALSCALE:GREGORIAN
METHOD:PUBLISH
X-ORIGINAL-URL:https://www.iida-carolinas.org
X-WR-CALDESC:Events for IIDA Carolinas
REFRESH-INTERVAL;VALUE=DURATION:PT1H
X-Robots-Tag:noindex
X-PUBLISHED-TTL:PT1H
BEGIN:VTIMEZONE
TZID:America/New_York
BEGIN:DAYLIGHT
TZOFFSETFROM:-0500
TZOFFSETTO:-0400
TZNAME:EDT
DTSTART:20240310T070000
END:DAYLIGHT
BEGIN:STANDARD
TZOFFSETFROM:-0400
TZOFFSETTO:-0500
TZNAME:EST
DTSTART:20241103T060000
END:STANDARD
BEGIN:DAYLIGHT
TZOFFSETFROM:-0500
TZOFFSETTO:-0400
TZNAME:EDT
DTSTART:20250309T070000
END:DAYLIGHT
BEGIN:STANDARD
TZOFFSETFROM:-0400
TZOFFSETTO:-0500
TZNAME:EST
DTSTART:20251102T060000
END:STANDARD
BEGIN:DAYLIGHT
TZOFFSETFROM:-0500
TZOFFSETTO:-0400
TZNAME:EDT
DTSTART:20260308T070000
END:DAYLIGHT
BEGIN:STANDARD
TZOFFSETFROM:-0400
TZOFFSETTO:-0500
TZNAME:EST
DTSTART:20261101T060000
END:STANDARD
END:VTIMEZONE
BEGIN:VEVENT
DTSTART;VALUE=DATE:20250213
DTEND;VALUE=DATE:20250214
DTSTAMP:20260423T180142
CREATED:20250209T200651Z
LAST-MODIFIED:20250209T200651Z
UID:18587-1739404800-1739491199@www.iida-carolinas.org
SUMMARY:Winthrop University- Bake Sale- Save the Date!
DESCRIPTION:
URL:https://www.iida-carolinas.org/event/winthrop-university-bake-sale-save-the-date/
CATEGORIES:Campus Centers
ORGANIZER;CN="Ayden Quin McClellan":MAILTO:mcclellana4@winthrop.edu
END:VEVENT
BEGIN:VEVENT
DTSTART;TZID=America/New_York:20250217T080000
DTEND;TZID=America/New_York:20250217T170000
DTSTAMP:20260423T180142
CREATED:20250209T201525Z
LAST-MODIFIED:20250209T201525Z
UID:18596-1739779200-1739811600@www.iida-carolinas.org
SUMMARY:Western Carolina University- SDD- Save the Date!
DESCRIPTION:
URL:https://www.iida-carolinas.org/event/western-carolina-university-sdd-save-the-date/
CATEGORIES:Campus Centers
ORGANIZER;CN="shani kitchen":MAILTO:sfkitchen3@catamount.wcu.edu
END:VEVENT
BEGIN:VEVENT
DTSTART;VALUE=DATE:20250223
DTEND;VALUE=DATE:20250224
DTSTAMP:20260423T180142
CREATED:20250209T200933Z
LAST-MODIFIED:20250209T200933Z
UID:18589-1740268800-1740355199@www.iida-carolinas.org
SUMMARY:Queens University- Portfolio and Panel review- Save the Date!
DESCRIPTION:
URL:https://www.iida-carolinas.org/event/queens-university-portfolio-and-panel-review-save-the-date/
CATEGORIES:Campus Centers
ORGANIZER;CN="Esther Monahan":MAILTO:monahane@queens.edu
END:VEVENT
END:VCALENDAR