BEGIN:VCALENDAR
VERSION:2.0
PRODID:-//IIDA Carolinas - ECPv6.15.13//NONSGML v1.0//EN
CALSCALE:GREGORIAN
METHOD:PUBLISH
X-ORIGINAL-URL:https://www.iida-carolinas.org
X-WR-CALDESC:Events for IIDA Carolinas
REFRESH-INTERVAL;VALUE=DURATION:PT1H
X-Robots-Tag:noindex
X-PUBLISHED-TTL:PT1H
BEGIN:VTIMEZONE
TZID:America/New_York
BEGIN:DAYLIGHT
TZOFFSETFROM:-0500
TZOFFSETTO:-0400
TZNAME:EDT
DTSTART:20250309T070000
END:DAYLIGHT
BEGIN:STANDARD
TZOFFSETFROM:-0400
TZOFFSETTO:-0500
TZNAME:EST
DTSTART:20251102T060000
END:STANDARD
BEGIN:DAYLIGHT
TZOFFSETFROM:-0500
TZOFFSETTO:-0400
TZNAME:EDT
DTSTART:20260308T070000
END:DAYLIGHT
BEGIN:STANDARD
TZOFFSETFROM:-0400
TZOFFSETTO:-0500
TZNAME:EST
DTSTART:20261101T060000
END:STANDARD
BEGIN:DAYLIGHT
TZOFFSETFROM:-0500
TZOFFSETTO:-0400
TZNAME:EDT
DTSTART:20270314T070000
END:DAYLIGHT
BEGIN:STANDARD
TZOFFSETFROM:-0400
TZOFFSETTO:-0500
TZNAME:EST
DTSTART:20271107T060000
END:STANDARD
END:VTIMEZONE
BEGIN:VEVENT
DTSTART;TZID=America/New_York:20260203T120000
DTEND;TZID=America/New_York:20260203T130000
DTSTAMP:20260423T000936
CREATED:20260126T142231Z
LAST-MODIFIED:20260126T142242Z
UID:20659-1770120000-1770123600@www.iida-carolinas.org
SUMMARY:Western Carolina- CEU- Save the Date!
DESCRIPTION:More Information to follow!
URL:https://www.iida-carolinas.org/event/western-carolina-ceu-save-the-date/
CATEGORIES:Campus Centers
END:VEVENT
BEGIN:VEVENT
DTSTART;TZID=America/New_York:20260205T163000
DTEND;TZID=America/New_York:20260205T173000
DTSTAMP:20260423T000936
CREATED:20260126T142321Z
LAST-MODIFIED:20260126T142321Z
UID:20662-1770309000-1770312600@www.iida-carolinas.org
SUMMARY:Western Carolina- Club Meeting- Save the Date!
DESCRIPTION:More Information the Follow!
URL:https://www.iida-carolinas.org/event/western-carolina-club-meeting-save-the-date/
CATEGORIES:Campus Centers
END:VEVENT
BEGIN:VEVENT
DTSTART;TZID=America/New_York:20260209T130000
DTEND;TZID=America/New_York:20260209T140000
DTSTAMP:20260423T000936
CREATED:20260126T142413Z
LAST-MODIFIED:20260126T142413Z
UID:20664-1770642000-1770645600@www.iida-carolinas.org
SUMMARY:Western Carolina- CEU- Save the Date!
DESCRIPTION:More Information the Follow!
URL:https://www.iida-carolinas.org/event/western-carolina-ceu-save-the-date-2/
CATEGORIES:Campus Centers
END:VEVENT
BEGIN:VEVENT
DTSTART;TZID=America/New_York:20260219T163000
DTEND;TZID=America/New_York:20260219T173000
DTSTAMP:20260423T000936
CREATED:20260126T143141Z
LAST-MODIFIED:20260126T143141Z
UID:20679-1771518600-1771522200@www.iida-carolinas.org
SUMMARY:Western Carolina- Club Meeting- Save the Date!
DESCRIPTION:More Information to Follow!
URL:https://www.iida-carolinas.org/event/western-carolina-club-meeting-save-the-date-7/
CATEGORIES:Campus Centers
END:VEVENT
BEGIN:VEVENT
DTSTART;TZID=America/New_York:20260223T093000
DTEND;TZID=America/New_York:20260223T103000
DTSTAMP:20260423T000936
CREATED:20260126T142511Z
LAST-MODIFIED:20260126T142537Z
UID:20666-1771839000-1771842600@www.iida-carolinas.org
SUMMARY:Western Carolina- Student Design Days- Save the Date!
DESCRIPTION:More Information to Follow!
URL:https://www.iida-carolinas.org/event/western-carolina-club-meeting-save-the-date-2/
CATEGORIES:Campus Centers
END:VEVENT
BEGIN:VEVENT
DTSTART;TZID=America/New_York:20260226T163000
DTEND;TZID=America/New_York:20260226T173000
DTSTAMP:20260423T000936
CREATED:20260126T142632Z
LAST-MODIFIED:20260126T142632Z
UID:20669-1772123400-1772127000@www.iida-carolinas.org
SUMMARY:Western Carolina- Club Meeting- Save the Date!
DESCRIPTION:More Information to Follow!
URL:https://www.iida-carolinas.org/event/western-carolina-club-meeting-save-the-date-3/
CATEGORIES:Campus Centers
END:VEVENT
END:VCALENDAR