BEGIN:VCALENDAR
VERSION:2.0
PRODID:-//IIDA Carolinas - ECPv6.15.13//NONSGML v1.0//EN
CALSCALE:GREGORIAN
METHOD:PUBLISH
X-ORIGINAL-URL:https://www.iida-carolinas.org
X-WR-CALDESC:Events for IIDA Carolinas
REFRESH-INTERVAL;VALUE=DURATION:PT1H
X-Robots-Tag:noindex
X-PUBLISHED-TTL:PT1H
BEGIN:VTIMEZONE
TZID:America/New_York
BEGIN:DAYLIGHT
TZOFFSETFROM:-0500
TZOFFSETTO:-0400
TZNAME:EDT
DTSTART:20240310T070000
END:DAYLIGHT
BEGIN:STANDARD
TZOFFSETFROM:-0400
TZOFFSETTO:-0500
TZNAME:EST
DTSTART:20241103T060000
END:STANDARD
BEGIN:DAYLIGHT
TZOFFSETFROM:-0500
TZOFFSETTO:-0400
TZNAME:EDT
DTSTART:20250309T070000
END:DAYLIGHT
BEGIN:STANDARD
TZOFFSETFROM:-0400
TZOFFSETTO:-0500
TZNAME:EST
DTSTART:20251102T060000
END:STANDARD
BEGIN:DAYLIGHT
TZOFFSETFROM:-0500
TZOFFSETTO:-0400
TZNAME:EDT
DTSTART:20260308T070000
END:DAYLIGHT
BEGIN:STANDARD
TZOFFSETFROM:-0400
TZOFFSETTO:-0500
TZNAME:EST
DTSTART:20261101T060000
END:STANDARD
END:VTIMEZONE
BEGIN:VEVENT
DTSTART;TZID=America/New_York:20250521T170000
DTEND;TZID=America/New_York:20250521T190000
DTSTAMP:20260424T175927
CREATED:20250106T184031Z
LAST-MODIFIED:20250331T174003Z
UID:18526-1747846800-1747854000@www.iida-carolinas.org
SUMMARY:Charlotte - Philanthropic Event - Register Now!
DESCRIPTION:IIDA Philanthropy 2025: Blankets & Baskets\nJoin us in supporting Charlotte’s local Ronald McDonald House by making fleece blankets and baskets of essential supplies for the families and children being supported in our community! We would appreciate for you to bring any additional donations listed below that we will be collecting at the event: – Hand lotion – Gum – Water bottle – Gas cards – Gift cards – Socks – Hand sanitizer – Journals – Games Please see the link below if you or your company would like to make an additional donation to Ronald McDonald House! https://rmhclt.org/donate/ Food and drinks provided at the event
URL:https://www.iida-carolinas.org/event/charlotte-philanthropic-event-save-the-date-2/
LOCATION:JLL\, 650 S. Tryon St.\, Suite 600\, charlotte\, NC\, 28202\, United States
CATEGORIES:Charlotte
ORGANIZER;CN="dustin webb":MAILTO:dustin_webb@mohawkind.com
END:VEVENT
END:VCALENDAR