BEGIN:VCALENDAR
VERSION:2.0
PRODID:-//IIDA Carolinas - ECPv6.15.13//NONSGML v1.0//EN
CALSCALE:GREGORIAN
METHOD:PUBLISH
X-WR-CALNAME:IIDA Carolinas
X-ORIGINAL-URL:https://www.iida-carolinas.org
X-WR-CALDESC:Events for IIDA Carolinas
REFRESH-INTERVAL;VALUE=DURATION:PT1H
X-Robots-Tag:noindex
X-PUBLISHED-TTL:PT1H
BEGIN:VTIMEZONE
TZID:America/New_York
BEGIN:DAYLIGHT
TZOFFSETFROM:-0500
TZOFFSETTO:-0400
TZNAME:EDT
DTSTART:20250309T070000
END:DAYLIGHT
BEGIN:STANDARD
TZOFFSETFROM:-0400
TZOFFSETTO:-0500
TZNAME:EST
DTSTART:20251102T060000
END:STANDARD
BEGIN:DAYLIGHT
TZOFFSETFROM:-0500
TZOFFSETTO:-0400
TZNAME:EDT
DTSTART:20260308T070000
END:DAYLIGHT
BEGIN:STANDARD
TZOFFSETFROM:-0400
TZOFFSETTO:-0500
TZNAME:EST
DTSTART:20261101T060000
END:STANDARD
BEGIN:DAYLIGHT
TZOFFSETFROM:-0500
TZOFFSETTO:-0400
TZNAME:EDT
DTSTART:20270314T070000
END:DAYLIGHT
BEGIN:STANDARD
TZOFFSETFROM:-0400
TZOFFSETTO:-0500
TZNAME:EST
DTSTART:20271107T060000
END:STANDARD
END:VTIMEZONE
BEGIN:VEVENT
DTSTART;TZID=America/New_York:20260115T073000
DTEND;TZID=America/New_York:20260115T090000
DTSTAMP:20260425T062114
CREATED:20251201T143535Z
LAST-MODIFIED:20251201T143535Z
UID:20116-1768462200-1768467600@www.iida-carolinas.org
SUMMARY:Charlotte- Coffee and Collaborate- Register Now!
DESCRIPTION:
URL:https://www.iida-carolinas.org/event/charlotte-coffee-and-collaborate-register-now/
LOCATION:Not Just Coffee\, 1026 Jay St.\, Charlotte\, NC\, 28208\, United States
CATEGORIES:Charlotte
END:VEVENT
BEGIN:VEVENT
DTSTART;TZID=America/New_York:20260219T113000
DTEND;TZID=America/New_York:20260219T153000
DTSTAMP:20260425T062114
CREATED:20251117T204611Z
LAST-MODIFIED:20260127T143347Z
UID:19750-1771500600-1771515000@www.iida-carolinas.org
SUMMARY:Charlotte- 2026 Student Design Days- Register Now!
DESCRIPTION:Charlotte Student Design Day\nJoin us for an afternoon where leading design professionals share valuable insights into their respective market sectors. Through dynamic presentations\, you’ll gain a better understanding of industry trends and career pathways. \nAfter the presentations\, take advantage of an exclusive networking session—an opportunity to connect directly with professionals\, ask questions\, and build relationships that could shape your future career. \nOur Experts: \nWorkplace – Natasha Edwards (Little) \nHealthcare – Maggie Gordon (JLL) \nEducation – Chelsea Lawrence (LS3P)\nRetail – Jessica Taylor (Southwick)\nRegister Here!
URL:https://www.iida-carolinas.org/event/charlotte-2026-student-design-days/
LOCATION:LS3P Charlotte\, 600 S. Tryon St.\, charlotte\, NC\, 28202\, United States
CATEGORIES:Charlotte
END:VEVENT
BEGIN:VEVENT
DTSTART;TZID=America/New_York:20260313T130000
DTEND;TZID=America/New_York:20260315T143000
DTSTAMP:20260425T062114
CREATED:20251212T165844Z
LAST-MODIFIED:20251215T151705Z
UID:20165-1773406800-1773585000@www.iida-carolinas.org
SUMMARY:NCIDQ-  Q Prep Course- Register Now!
DESCRIPTION:
URL:https://www.iida-carolinas.org/event/ncidq-q-prep-course-save-the-date/
LOCATION:Officeworks\, 925 tuckaseegee rd\, suite 101\, charlotte\, NC\, 28208\, United States
CATEGORIES:Charlotte,Coastal,Columbia,Triad,Triangle,Upstate,Wilmington
END:VEVENT
BEGIN:VEVENT
DTSTART;TZID=America/New_York:20260423T163000
DTEND;TZID=America/New_York:20260423T183000
DTSTAMP:20260425T062114
CREATED:20260126T141007Z
LAST-MODIFIED:20260305T163648Z
UID:20646-1776961800-1776969000@www.iida-carolinas.org
SUMMARY:Charlotte- CEU- Register Now!
DESCRIPTION:
URL:https://www.iida-carolinas.org/event/charlotte-spring-breakfast-club-ceu-save-the-date/
LOCATION:NC
CATEGORIES:Charlotte
END:VEVENT
BEGIN:VEVENT
DTSTART;TZID=America/New_York:20260520T170000
DTEND;TZID=America/New_York:20260520T193000
DTSTAMP:20260425T062114
CREATED:20260126T141058Z
LAST-MODIFIED:20260421T171418Z
UID:20648-1779296400-1779305400@www.iida-carolinas.org
SUMMARY:Charlotte- Philanthropy Event- Register Now!
DESCRIPTION:
URL:https://www.iida-carolinas.org/event/charlotte-philanthropy-event-save-the-date/
LOCATION:Tipsy Pickle\, 201 Camp Rd.; Suite 120\, Charlotte\, NC\, United States
CATEGORIES:Charlotte,Volunteer
END:VEVENT
BEGIN:VEVENT
DTSTART;VALUE=DATE:20260624
DTEND;VALUE=DATE:20260625
DTSTAMP:20260425T062114
CREATED:20260126T141155Z
LAST-MODIFIED:20260126T141155Z
UID:20650-1782259200-1782345599@www.iida-carolinas.org
SUMMARY:Charlotte- Summer Social- Save the Date!
DESCRIPTION:More Information to Follow!
URL:https://www.iida-carolinas.org/event/charlotte-summer-social-save-the-date-5/
LOCATION:NC
CATEGORIES:Charlotte
END:VEVENT
BEGIN:VEVENT
DTSTART;VALUE=DATE:20260916
DTEND;VALUE=DATE:20260917
DTSTAMP:20260425T062114
CREATED:20260126T141244Z
LAST-MODIFIED:20260126T141244Z
UID:20652-1789516800-1789603199@www.iida-carolinas.org
SUMMARY:Charlotte- Fall CEU- Save the Date!
DESCRIPTION:More Information to Follow!
URL:https://www.iida-carolinas.org/event/charlotte-fall-ceu-save-the-date-6/
LOCATION:NC
CATEGORIES:Charlotte
END:VEVENT
BEGIN:VEVENT
DTSTART;VALUE=DATE:20261021
DTEND;VALUE=DATE:20261022
DTSTAMP:20260425T062114
CREATED:20260126T141331Z
LAST-MODIFIED:20260126T141809Z
UID:20654-1792540800-1792627199@www.iida-carolinas.org
SUMMARY:Charlotte- Membership Event- Save the Date!
DESCRIPTION:More Information to Follow!
URL:https://www.iida-carolinas.org/event/charlotte-membership-event-save-the-date/
LOCATION:NC
CATEGORIES:Charlotte
END:VEVENT
BEGIN:VEVENT
DTSTART;VALUE=DATE:20261202
DTEND;VALUE=DATE:20261203
DTSTAMP:20260425T062114
CREATED:20260126T141413Z
LAST-MODIFIED:20260126T141413Z
UID:20656-1796169600-1796255999@www.iida-carolinas.org
SUMMARY:Charlotte- Holiday Party- Save the Date!
DESCRIPTION:More Information the Follow!
URL:https://www.iida-carolinas.org/event/charlotte-holiday-party-save-the-date-4/
LOCATION:NC
CATEGORIES:Charlotte
END:VEVENT
END:VCALENDAR