BEGIN:VCALENDAR
VERSION:2.0
PRODID:-//IIDA Carolinas - ECPv6.15.13//NONSGML v1.0//EN
CALSCALE:GREGORIAN
METHOD:PUBLISH
X-WR-CALNAME:IIDA Carolinas
X-ORIGINAL-URL:https://www.iida-carolinas.org
X-WR-CALDESC:Events for IIDA Carolinas
REFRESH-INTERVAL;VALUE=DURATION:PT1H
X-Robots-Tag:noindex
X-PUBLISHED-TTL:PT1H
BEGIN:VTIMEZONE
TZID:America/New_York
BEGIN:DAYLIGHT
TZOFFSETFROM:-0500
TZOFFSETTO:-0400
TZNAME:EDT
DTSTART:20230312T070000
END:DAYLIGHT
BEGIN:STANDARD
TZOFFSETFROM:-0400
TZOFFSETTO:-0500
TZNAME:EST
DTSTART:20231105T060000
END:STANDARD
BEGIN:DAYLIGHT
TZOFFSETFROM:-0500
TZOFFSETTO:-0400
TZNAME:EDT
DTSTART:20240310T070000
END:DAYLIGHT
BEGIN:STANDARD
TZOFFSETFROM:-0400
TZOFFSETTO:-0500
TZNAME:EST
DTSTART:20241103T060000
END:STANDARD
BEGIN:DAYLIGHT
TZOFFSETFROM:-0500
TZOFFSETTO:-0400
TZNAME:EDT
DTSTART:20250309T070000
END:DAYLIGHT
BEGIN:STANDARD
TZOFFSETFROM:-0400
TZOFFSETTO:-0500
TZNAME:EST
DTSTART:20251102T060000
END:STANDARD
END:VTIMEZONE
BEGIN:VEVENT
DTSTART;TZID=America/New_York:20241015T163000
DTEND;TZID=America/New_York:20241015T183000
DTSTAMP:20260424T015351
CREATED:20240226T181009Z
LAST-MODIFIED:20241007T201022Z
UID:18141-1729009800-1729017000@www.iida-carolinas.org
SUMMARY:Coastal- Membership Drive- Fall Into IIDA- Register Now!
DESCRIPTION:IIDA Coastal Membership Drive Event\nWe’re celebrating you\, our amazing members! Come and learn from a pro how to decorate royal icing cookies like a true artist. 🍪✨ \nWhat to Expect: Hands-on decorating demonstration Tips and tricks from an expert Fun activities and delicious treats Networking with fellow members \nWhen: October 15th @ 4:30 Where: IBUMOVEMENT 183 King St 2nd floor\, Charleston\, SC 29401 Whether you’re a seasoned baker or just looking to have some fun\, this event is for everyone. Bring your friends and let’s celebrate together! \nRSVP by October 12th to secure your spot! \nWe can’t wait to see you there
URL:https://www.iida-carolinas.org/event/coastal-membership-drive-pumpkins-and-partnership-save-the-date/
LOCATION:IBUMOVEMENT\, 183 King St.\, Charleston\, SC\, 29401\, United States
CATEGORIES:Coastal
END:VEVENT
END:VCALENDAR