BEGIN:VCALENDAR
VERSION:2.0
PRODID:-//IIDA Carolinas - ECPv6.15.13//NONSGML v1.0//EN
CALSCALE:GREGORIAN
METHOD:PUBLISH
X-WR-CALNAME:IIDA Carolinas
X-ORIGINAL-URL:https://www.iida-carolinas.org
X-WR-CALDESC:Events for IIDA Carolinas
REFRESH-INTERVAL;VALUE=DURATION:PT1H
X-Robots-Tag:noindex
X-PUBLISHED-TTL:PT1H
BEGIN:VTIMEZONE
TZID:America/New_York
BEGIN:DAYLIGHT
TZOFFSETFROM:-0500
TZOFFSETTO:-0400
TZNAME:EDT
DTSTART:20210314T070000
END:DAYLIGHT
BEGIN:STANDARD
TZOFFSETFROM:-0400
TZOFFSETTO:-0500
TZNAME:EST
DTSTART:20211107T060000
END:STANDARD
BEGIN:DAYLIGHT
TZOFFSETFROM:-0500
TZOFFSETTO:-0400
TZNAME:EDT
DTSTART:20220313T070000
END:DAYLIGHT
BEGIN:STANDARD
TZOFFSETFROM:-0400
TZOFFSETTO:-0500
TZNAME:EST
DTSTART:20221106T060000
END:STANDARD
BEGIN:DAYLIGHT
TZOFFSETFROM:-0500
TZOFFSETTO:-0400
TZNAME:EDT
DTSTART:20230312T070000
END:DAYLIGHT
BEGIN:STANDARD
TZOFFSETFROM:-0400
TZOFFSETTO:-0500
TZNAME:EST
DTSTART:20231105T060000
END:STANDARD
BEGIN:DAYLIGHT
TZOFFSETFROM:-0500
TZOFFSETTO:-0400
TZNAME:EDT
DTSTART:20240310T070000
END:DAYLIGHT
BEGIN:STANDARD
TZOFFSETFROM:-0400
TZOFFSETTO:-0500
TZNAME:EST
DTSTART:20241103T060000
END:STANDARD
BEGIN:DAYLIGHT
TZOFFSETFROM:-0500
TZOFFSETTO:-0400
TZNAME:EDT
DTSTART:20250309T070000
END:DAYLIGHT
BEGIN:STANDARD
TZOFFSETFROM:-0400
TZOFFSETTO:-0500
TZNAME:EST
DTSTART:20251102T060000
END:STANDARD
BEGIN:DAYLIGHT
TZOFFSETFROM:-0500
TZOFFSETTO:-0400
TZNAME:EDT
DTSTART:20260308T070000
END:DAYLIGHT
BEGIN:STANDARD
TZOFFSETFROM:-0400
TZOFFSETTO:-0500
TZNAME:EST
DTSTART:20261101T060000
END:STANDARD
END:VTIMEZONE
BEGIN:VEVENT
DTSTART;VALUE=DATE:20250307
DTEND;VALUE=DATE:20250308
DTSTAMP:20260423T034444
CREATED:20250106T182830Z
LAST-MODIFIED:20250209T184953Z
UID:18485-1741305600-1741391999@www.iida-carolinas.org
SUMMARY:IIDA Carolinas - Spring Forum - Wilmington Design Journey: CEUs + Scenic Views - Register Now!
DESCRIPTION: 
URL:https://www.iida-carolinas.org/event/iida-carolinas-spring-forum-wilmington-design-journey-ceus-scenic-views-save-the-date/
CATEGORIES:Charlotte,Coastal,Columbia,IIDA Carolinas,Triad,Triangle,Upstate
ORGANIZER;CN="Jordan Cahill":MAILTO:jordan.cahill@nwravin.com
END:VEVENT
BEGIN:VEVENT
DTSTART;VALUE=DATE:20250220
DTEND;VALUE=DATE:20250221
DTSTAMP:20260423T034444
CREATED:20250209T182632Z
LAST-MODIFIED:20250209T182632Z
UID:18566-1740009600-1740095999@www.iida-carolinas.org
SUMMARY:Columbia- Espresso Yourself- Save the Date!
DESCRIPTION:More Information to Follow!
URL:https://www.iida-carolinas.org/event/columbia-espresso-yourself-save-the-date/
LOCATION:Knowledge Perk Coffee\, 1527 Gervais St.\, Columbia\, SC\, 29201\, United States
CATEGORIES:Columbia
END:VEVENT
BEGIN:VEVENT
DTSTART;VALUE=DATE:20250206
DTEND;VALUE=DATE:20250207
DTSTAMP:20260423T034444
CREATED:20241112T192634Z
LAST-MODIFIED:20250106T182242Z
UID:18455-1738800000-1738886399@www.iida-carolinas.org
SUMMARY:South Carolina - Student Design Days- Save the Date!
DESCRIPTION:More Information to Follow….
URL:https://www.iida-carolinas.org/event/coastal-student-design-days-save-the-date/
CATEGORIES:Coastal,Columbia,Upstate
END:VEVENT
BEGIN:VEVENT
DTSTART;TZID=America/New_York:20241212T173000
DTEND;TZID=America/New_York:20241212T190000
DTSTAMP:20260423T034444
CREATED:20240226T181533Z
LAST-MODIFIED:20241119T212633Z
UID:18149-1734024600-1734030000@www.iida-carolinas.org
SUMMARY:Columbia- Holiday Party- Save the Date!
DESCRIPTION:IIDA Columbia – “Griswold Style” Holiday Party\nAll\, join us to celebrate the holidays\, Griswold Style! Come dressed in your best National Lampoon Christmas Vacation fashion\, and enjoy a festive evening with fellow industry friends. Delicious appetizers\, a holiday themed bar and back by popular demand\, we will be raffling off Holiday Yard Inflatables again this year. We are excited to celebrate with everyone and look forward to seeing your “Griswold Style”!
URL:https://www.iida-carolinas.org/event/columbia-holiday-party-save-the-date-3/
LOCATION:The Girl Scouts HQ\, 1107 Williams St.\, Columbia\, SC\, 29201\, United States
CATEGORIES:Columbia
END:VEVENT
BEGIN:VEVENT
DTSTART;TZID=America/New_York:20241108T173000
DTEND;TZID=America/New_York:20241108T200000
DTSTAMP:20260423T034444
CREATED:20240226T181237Z
LAST-MODIFIED:20240912T132641Z
UID:18143-1731087000-1731096000@www.iida-carolinas.org
SUMMARY:Chapter Wide Event- Fall Forum 2024; Register Now!
DESCRIPTION:IIDA Silent Auction Under the Big Top | Chapter Wide Event\nJoin us for the IIDA Carolinas Chapter’s “Under the Big Top Silent Auction” on Friday\, November 8th in Columbia\, SC! Enjoy a night of carnival-themed fun\, bid on unique items\, and support design advocacy in South Carolina. Mingle with fellow industry professionals\, participate in our annual meeting\, and savor delicious food and entertainment. EARLY BIRD Special: Register by September 14th for a discount! Let’s make a difference together! Sponsorships are available on the registration page. Book your stay at Cambira Hotel with group code WW6700 before Oct. 11th to secure your reservation
URL:https://www.iida-carolinas.org/event/chapter-wide-event-fall-forum-2024/
LOCATION:701 Whaley\, 701 Whaley St.\, Columbia\, SC\, 29201\, United States
CATEGORIES:Charlotte,Coastal,Columbia,Triad,Triangle,Upstate
END:VEVENT
BEGIN:VEVENT
DTSTART;TZID=America/New_York:20241016T163000
DTEND;TZID=America/New_York:20241016T190000
DTSTAMP:20260423T034444
CREATED:20240226T180849Z
LAST-MODIFIED:20241007T202213Z
UID:18137-1729096200-1729105200@www.iida-carolinas.org
SUMMARY:Columbia- Membership Drive and Product Show- Register Now!
DESCRIPTION:The Bonitz Product Show is back this month! Located at the Fireflies Stadium\, on October 16th\, from 4:30 – 7pm. \n\nIIDA Columbia will be at the show\, hosting a booth for our 2024 Membership Drive. \nBe sure to stop by\, grab a bingo raffle card\, get the vendors’ stamps and put the card in for a raffle prize of an IIDA One-Year Membership! (along with other raffle prizes). \nKeep an eye out for the IIDA Balloons\, excited to see everyone there!
URL:https://www.iida-carolinas.org/event/columbia-membership-drive-pumpkins-and-partnership-save-the-date/
LOCATION:Segra Park Stadium\, 1640 Freed St.\, Columbia\, SC\, United States
CATEGORIES:Columbia
END:VEVENT
BEGIN:VEVENT
DTSTART;TZID=America/New_York:20240920T130000
DTEND;TZID=America/New_York:20240922T143000
DTSTAMP:20260423T034444
CREATED:20240722T165106Z
LAST-MODIFIED:20240722T165106Z
UID:17946-1726837200-1727015400@www.iida-carolinas.org
SUMMARY:NCIDQ- Prep Course 2024
DESCRIPTION:
URL:https://www.iida-carolinas.org/event/ncidq-prep-course-2024/
LOCATION:Alfred Williams- Raleigh\, 410 S. Salisbury St.\, 200\, Raleigh\, NC\, 27601\, United States
CATEGORIES:Charlotte,Coastal,Columbia,Triad,Triangle,Upstate
ORGANIZER;CN="Whitlie Nock":MAILTO:whitlie.nock@mechoshade.com
END:VEVENT
BEGIN:VEVENT
DTSTART;TZID=America/New_York:20240919T150000
DTEND;TZID=America/New_York:20240919T183000
DTSTAMP:20260423T034444
CREATED:20240226T180326Z
LAST-MODIFIED:20240910T203154Z
UID:18125-1726758000-1726770600@www.iida-carolinas.org
SUMMARY:Columbia- Fall CEU- Register Now!
DESCRIPTION:Join us for IIDA’s Third Thursday CEU Event\, hosted by Alfred Williams & Company.\n3pm CEU – Origins of hospitality\, the guest-host relationship\, and considerations for supporting hospitality in healthcare environments. 4:30pm CEU – Modernism’s roots in Bauhaus\, relationship of midcentury designers\, their influence on 2 companies at the center of Modernism + shaping America’s taste in design. 5:30pm – Charcuterie Board + Wine Pairing. Discover the art of perfect pairings as you’re guided through artisanal charcuterie\, paired with a curated selection of wines. Lauren Ragsdale\, previously a wine rep/sommelier & now Account Manager for AWC\, will lead us in this pairing.Show lesschevronNorth icon\nLocation: Alfred Williams & Company\, 1835 Gervais St\, Columbia\, SC 29201 \nDate and time: Thu\, Sep 19\, 2024 3:00 PM – 6:30 PM \nOrganizer: IIDA Carolinas | Columbia City Center\, columbia.citycenter@gmail.com
URL:https://www.iida-carolinas.org/event/columbia-fall-ceu-save-the-date-3/
LOCATION:Alfred Williams – Columbia\, 1835 Gervais Street Suite A\, Columbia\, SC\, 29201
CATEGORIES:Columbia
END:VEVENT
BEGIN:VEVENT
DTSTART;TZID=America/New_York:20240814T170000
DTEND;TZID=America/New_York:20240814T190000
DTSTAMP:20260423T034444
CREATED:20240226T175756Z
LAST-MODIFIED:20240807T131806Z
UID:18113-1723654800-1723662000@www.iida-carolinas.org
SUMMARY:Columbia- Summer Social- Register Now!
DESCRIPTION:IIDA Columbia | Summer Social\nOur 2024 Summer Social will be held at Bierkeller Brewing Company in Canalside Apartments–and we’d love for you to attend! This will be a FAMILY-FRIENDLY event and FREE FOR MEMBERS\, so please bring your whole crew! There will be a sampling of German food\, Bierkeller’s latest brews\, and a selection of wines and ciders for everyone to enjoy. There will even be lawn games and face painting to entertain the kiddos! We’ll also be collecting school supplies to benefit those in need. Details on this drive will be sent out closer to the event date to those who have registered
URL:https://www.iida-carolinas.org/event/columbia-summer-social-save-the-date-3/
LOCATION:Bierkeller\, 600 Canalside St.\, Columbia\, 29201\, United States
CATEGORIES:Columbia
ORGANIZER;CN="Jimmy Wall":MAILTO:columbia.citycenter@gmail.com
END:VEVENT
BEGIN:VEVENT
DTSTART;TZID=America/New_York:20240516T130000
DTEND;TZID=America/New_York:20240516T143000
DTSTAMP:20260423T034444
CREATED:20240411T205435Z
LAST-MODIFIED:20240411T205744Z
UID:18232-1715864400-1715869800@www.iida-carolinas.org
SUMMARY:Columbia- Philanthropic Event- Plan to Attend!
DESCRIPTION:May is Philanthropy Month for IIDA – Carolinas\, and we hope you can join us at Harvest Hope Food Bank on May 16. We’re not sure what our task will be this year\, but last year we packed several hundred “backpack bags” during our volunteer session. We are scheduled to volunteer from 1 to 2:30 PM on May 16. Keep in mind that the group is limited to 15 people. If we have more than 15 interested volunteers\, then we can add a shift from 3 to 4:30.
URL:https://www.iida-carolinas.org/event/columbia-philanthropic-event-plan-to-attend/
LOCATION:Harvest Hope Food Bank\, 2220 Shop Rd.\, Columbia\, South Carolina\, 29201
CATEGORIES:Columbia,Volunteer
ORGANIZER;CN="Lynne Leach":MAILTO:columbia.citycenter@gmail.com
END:VEVENT
BEGIN:VEVENT
DTSTART;TZID=America/New_York:20240418T110000
DTEND;TZID=America/New_York:20240418T110000
DTSTAMP:20260423T034444
CREATED:20240226T174542Z
LAST-MODIFIED:20240411T210021Z
UID:18088-1713438000-1713438000@www.iida-carolinas.org
SUMMARY:Columbia- Spring CEU- Register Now!
DESCRIPTION:IIDA Columbia | Spring CEU Blitz\nCI Group will be hosting our Spring CEU Blitz on Thursday\, April 18th from 11:00 – 1:30. Two CEUs will be offered and lunch will be provided. Come for both CEUs or just one\, whichever your schedule allows.
URL:https://www.iida-carolinas.org/event/columbia-spring-ceu-save-the-date-2/
LOCATION:CI Group\, 1051 Market Street\, Columbia\, South Carolina\, 29201
CATEGORIES:Columbia
ORGANIZER;CN="Lynne Leach":MAILTO:columbia.citycenter@gmail.com
END:VEVENT
BEGIN:VEVENT
DTSTART;TZID=America/New_York:20240229T150000
DTEND;TZID=America/New_York:20240229T170000
DTSTAMP:20260423T034444
CREATED:20240210T205932Z
LAST-MODIFIED:20240226T172718Z
UID:18028-1709218800-1709226000@www.iida-carolinas.org
SUMMARY:Columbia- 2024 Student Design Days 4of4
DESCRIPTION:
URL:https://www.iida-carolinas.org/event/columbia-2024-student-design-days-4of4/
LOCATION:Converse University\, 580 E. Main St.\, Spartanburg\, South Carolina\, 29302
CATEGORIES:Columbia
ORGANIZER;CN="Hope Williams":MAILTO:hope.williams@cbi-sc.com
END:VEVENT
BEGIN:VEVENT
DTSTART;TZID=America/New_York:20240227T180000
DTEND;TZID=America/New_York:20240227T200000
DTSTAMP:20260423T034444
CREATED:20240210T205115Z
LAST-MODIFIED:20240226T172821Z
UID:18015-1709056800-1709064000@www.iida-carolinas.org
SUMMARY:Columbia- 2024 Student Design Days 3of4
DESCRIPTION:
URL:https://www.iida-carolinas.org/event/columbia-2024-student-design-days-3of4/
LOCATION:Western Carolina University\, 1 University Dr.\, Cullowhee\, NC\, 28723\, United States
CATEGORIES:Columbia
ORGANIZER;CN="Hope Williams":MAILTO:hope.williams@cbi-sc.com
END:VEVENT
BEGIN:VEVENT
DTSTART;TZID=America/New_York:20240223T100000
DTEND;TZID=America/New_York:20240223T120000
DTSTAMP:20260423T034444
CREATED:20240210T204607Z
LAST-MODIFIED:20240226T172944Z
UID:18007-1708682400-1708689600@www.iida-carolinas.org
SUMMARY:Columbia- 2024 Design Days 2of4
DESCRIPTION:
URL:https://www.iida-carolinas.org/event/columbia-2024-design-days-2of3/
LOCATION:Anderson University\, 316 Boulevard\, Anderson\, South Carolina\, 29621
CATEGORIES:Columbia
ORGANIZER;CN="Hope Williams":MAILTO:hope.williams@cbi-sc.com
END:VEVENT
BEGIN:VEVENT
DTSTART;TZID=America/New_York:20240220T170000
DTEND;TZID=America/New_York:20240220T190000
DTSTAMP:20260423T034444
CREATED:20240210T203428Z
LAST-MODIFIED:20240226T173126Z
UID:17984-1708448400-1708455600@www.iida-carolinas.org
SUMMARY:Columbia- 2024 Design Days 1of4
DESCRIPTION:
URL:https://www.iida-carolinas.org/event/columbia-2024-design-days/
LOCATION:BOb Jones University\, 1700 Wade Hampton Blvd\, Greenville\, South Carolina\, 29614
CATEGORIES:Columbia
ORGANIZER;CN="Hope Williams":MAILTO:hope.williams@cbi-sc.com
END:VEVENT
BEGIN:VEVENT
DTSTART;VALUE=DATE:20231208
DTEND;VALUE=DATE:20231209
DTSTAMP:20260423T034444
CREATED:20230622T145035Z
LAST-MODIFIED:20230623T150511Z
UID:16834-1701993600-1702079999@www.iida-carolinas.org
SUMMARY:2023 Designworks - Save the Date
DESCRIPTION:
URL:https://www.iida-carolinas.org/event/2023-designworks-save-the-date/
LOCATION:JW Marriot\, Charlotte\, NC
CATEGORIES:Charlotte,Coastal,Columbia,IIDA Carolinas,Multiple Centers,Triad,Triangle,Upstate
END:VEVENT
BEGIN:VEVENT
DTSTART;TZID=America/New_York:20231019T170000
DTEND;TZID=America/New_York:20231019T190000
DTSTAMP:20260423T034444
CREATED:20230111T132252Z
LAST-MODIFIED:20231006T210416Z
UID:16576-1697734800-1697742000@www.iida-carolinas.org
SUMMARY:Columbia - Membership Drive
DESCRIPTION:
URL:https://www.iida-carolinas.org/event/columbia-membership-drive-save-the-date-2/
LOCATION:Hall of Horrors Haunted Attraction\, 1153 Walter Price St.\, Cayce\, SC\, United States
CATEGORIES:Columbia
ORGANIZER;CN="Jimmy Wall":MAILTO:columbia.citycenter@gmail.com
END:VEVENT
BEGIN:VEVENT
DTSTART;VALUE=DATE:20230928
DTEND;VALUE=DATE:20230929
DTSTAMP:20260423T034444
CREATED:20230111T132131Z
LAST-MODIFIED:20230111T132131Z
UID:16574-1695859200-1695945599@www.iida-carolinas.org
SUMMARY:Columbia - Fall CEU - Save the Date!
DESCRIPTION:More info to come!
URL:https://www.iida-carolinas.org/event/columbia-fall-ceu-save-the-date-2/
CATEGORIES:Columbia
ORGANIZER;CN="Jimmy Wall":MAILTO:columbia.citycenter@gmail.com
END:VEVENT
BEGIN:VEVENT
DTSTART;TZID=America/New_York:20230830T170000
DTEND;TZID=America/New_York:20230830T200000
DTSTAMP:20260423T034444
CREATED:20230111T132012Z
LAST-MODIFIED:20230714T185609Z
UID:16572-1693414800-1693425600@www.iida-carolinas.org
SUMMARY:Columbia - Summer Social - Save the Date!
DESCRIPTION:
URL:https://www.iida-carolinas.org/event/columbia-summer-social-save-the-date-2/
LOCATION:Steel Hands Brewing\, 2350 Foreman St\, Cayce\, SC
CATEGORIES:Columbia
ORGANIZER;CN="Jimmy Wall":MAILTO:columbia.citycenter@gmail.com
END:VEVENT
BEGIN:VEVENT
DTSTART;TZID=America/New_York:20230519T140000
DTEND;TZID=America/New_York:20230519T190000
DTSTAMP:20260423T034444
CREATED:20230111T133853Z
LAST-MODIFIED:20230316T145902Z
UID:16590-1684504800-1684522800@www.iida-carolinas.org
SUMMARY:Chapter Wide Event  - Spring Forum 2023
DESCRIPTION:
URL:https://www.iida-carolinas.org/event/chapter-wide-event-spring-forum-2023/
LOCATION:Grand Bohemian Hotel Greenville\, SC
CATEGORIES:Charlotte,Coastal,Columbia,Triad,Triangle,Upstate
ORGANIZER;CN="Whitlie Nock":MAILTO:whitlie.nock@mechoshade.com
END:VEVENT
BEGIN:VEVENT
DTSTART;VALUE=DATE:20230427
DTEND;VALUE=DATE:20230428
DTSTAMP:20260423T034444
CREATED:20230111T131843Z
LAST-MODIFIED:20230328T205300Z
UID:16567-1682553600-1682639999@www.iida-carolinas.org
SUMMARY:Columbia - Philanthropic Event - Save the Date!
DESCRIPTION:More info to come!
URL:https://www.iida-carolinas.org/event/columbia-philanthropic-event-save-the-date-2/
CATEGORIES:Columbia,Volunteer
ORGANIZER;CN="Jimmy Wall":MAILTO:columbia.citycenter@gmail.com
END:VEVENT
BEGIN:VEVENT
DTSTART;TZID=America/New_York:20230323T110000
DTEND;TZID=America/New_York:20230323T133000
DTSTAMP:20260423T034444
CREATED:20230111T131727Z
LAST-MODIFIED:20230310T193647Z
UID:16565-1679569200-1679578200@www.iida-carolinas.org
SUMMARY:Columbia - Spring CEU
DESCRIPTION:
URL:https://www.iida-carolinas.org/event/columbia-spring-ceu-save-the-date/
LOCATION:Young Office – Columbia\, 1104 Shop Rd\, Columbia\, SC
CATEGORIES:Columbia
ORGANIZER;CN="Jimmy Wall":MAILTO:columbia.citycenter@gmail.com
END:VEVENT
BEGIN:VEVENT
DTSTART;TZID=America/New_York:20230224T130000
DTEND;TZID=America/New_York:20230226T130000
DTSTAMP:20260423T034444
CREATED:20230112T150411Z
LAST-MODIFIED:20230112T150411Z
UID:16620-1677243600-1677416400@www.iida-carolinas.org
SUMMARY:NCIDQ - Spring Prep Course 2023
DESCRIPTION:
URL:https://www.iida-carolinas.org/event/ncidq-spring-prep-course-2023/
LOCATION:Interior Elements – Charlotte\, 1018 Jay Street\, Suite 210\, Charlotte\, NC\, 28208
CATEGORIES:Charlotte,Coastal,Columbia,Triad,Triangle,Upstate
ORGANIZER;CN="Whitlie Nock":MAILTO:whitlie.nock@mechoshade.com
END:VEVENT
BEGIN:VEVENT
DTSTART;VALUE=DATE:20230223
DTEND;VALUE=DATE:20230224
DTSTAMP:20260423T034444
CREATED:20230111T124716Z
LAST-MODIFIED:20230111T124849Z
UID:16530-1677110400-1677196799@www.iida-carolinas.org
SUMMARY:Coastal/Columbia/Upstate Joint Student Design Day - Save the Date!
DESCRIPTION:More info to come! \nJoint Event with our Coastal\, Columbia and Upstate City Centers!
URL:https://www.iida-carolinas.org/event/coastal-columbia-upstate-joint-student-design-day-save-the-date/
CATEGORIES:Coastal,Columbia,Upstate
ORGANIZER;CN="Avonlea Denny":MAILTO:adenney@hitt-gc.com
END:VEVENT
BEGIN:VEVENT
DTSTART;TZID=America/New_York:20221208T180000
DTEND;TZID=America/New_York:20221208T220000
DTSTAMP:20260423T034444
CREATED:20220408T171613Z
LAST-MODIFIED:20221114T180741Z
UID:15540-1670522400-1670536800@www.iida-carolinas.org
SUMMARY:Columbia - Holiday Party
DESCRIPTION:
URL:https://www.iida-carolinas.org/event/columbia-holiday-party-save-the-date-2/
LOCATION:Girls Scouts of South Carolina\, 1107 Williams Street\, Columbia\, SC
CATEGORIES:Columbia
ORGANIZER;CN="Lynne Leach":MAILTO:columbia.citycenter@gmail.com
END:VEVENT
BEGIN:VEVENT
DTSTART;TZID=America/New_York:20221104T163000
DTEND;TZID=America/New_York:20221104T210000
DTSTAMP:20260423T034444
CREATED:20220916T182835Z
LAST-MODIFIED:20220916T191933Z
UID:16254-1667579400-1667595600@www.iida-carolinas.org
SUMMARY:Carolinas Chapter Fall Forum
DESCRIPTION:
URL:https://www.iida-carolinas.org/event/carolinas-chapter-fall-forum/
LOCATION:The Cotton Room\, 807 E. Main Street Unit 350\, Durham\, NC
CATEGORIES:Charlotte,Coastal,Columbia,IIDA Carolinas,Triad,Triangle,Upstate
ORGANIZER;CN="Whitlie Nock":MAILTO:whitlie.nock@mechoshade.com
END:VEVENT
BEGIN:VEVENT
DTSTART;TZID=America/New_York:20221020T113000
DTEND;TZID=America/New_York:20221020T130000
DTSTAMP:20260423T034444
CREATED:20220408T171521Z
LAST-MODIFIED:20220930T180820Z
UID:15538-1666265400-1666270800@www.iida-carolinas.org
SUMMARY:Columbia - Membership Drive Pumpkins & Partnership
DESCRIPTION:
URL:https://www.iida-carolinas.org/event/columbia-membership-drive-save-the-date/
LOCATION:5th & Sloan\, 2901 Rosewood Drive\, Columbai\, SC
CATEGORIES:Columbia
ORGANIZER;CN="Lynne Leach":MAILTO:columbia.citycenter@gmail.com
END:VEVENT
BEGIN:VEVENT
DTSTART;TZID=America/New_York:20220927T113000
DTEND;TZID=America/New_York:20220927T130000
DTSTAMP:20260423T034444
CREATED:20220408T171235Z
LAST-MODIFIED:20220909T125748Z
UID:15536-1664278200-1664283600@www.iida-carolinas.org
SUMMARY:Columbia - Fall CEU
DESCRIPTION:
URL:https://www.iida-carolinas.org/event/columbia-fall-ceu-save-the-date/
LOCATION:Bonitz Columbia\, 645 Rosewood Drive\, Columbia\, north carolina\, 29201
CATEGORIES:Columbia
ORGANIZER;CN="Lynne Leach":MAILTO:columbia.citycenter@gmail.com
END:VEVENT
BEGIN:VEVENT
DTSTART;VALUE=DATE:20220818
DTEND;VALUE=DATE:20220819
DTSTAMP:20260423T034444
CREATED:20220408T171130Z
LAST-MODIFIED:20220408T171130Z
UID:15534-1660780800-1660867199@www.iida-carolinas.org
SUMMARY:Columbia - Summer Social Save the Date
DESCRIPTION:More info to come! \nPlease SAVE THE DATE!
URL:https://www.iida-carolinas.org/event/columbia-summer-social-save-the-date/
CATEGORIES:Columbia
END:VEVENT
BEGIN:VEVENT
DTSTART;VALUE=DATE:20220421
DTEND;VALUE=DATE:20220422
DTSTAMP:20260423T034444
CREATED:20220408T170955Z
LAST-MODIFIED:20220408T171027Z
UID:15532-1650499200-1650585599@www.iida-carolinas.org
SUMMARY:Columbia - Philanthropic Event Save the Date
DESCRIPTION:More info to come! \nPlease SAVE THE DATE!
URL:https://www.iida-carolinas.org/event/columbia-philanthropic-event-save-the-date/
CATEGORIES:Columbia
END:VEVENT
END:VCALENDAR