BEGIN:VCALENDAR
VERSION:2.0
PRODID:-//IIDA Carolinas - ECPv6.15.13//NONSGML v1.0//EN
CALSCALE:GREGORIAN
METHOD:PUBLISH
X-WR-CALNAME:IIDA Carolinas
X-ORIGINAL-URL:https://www.iida-carolinas.org
X-WR-CALDESC:Events for IIDA Carolinas
REFRESH-INTERVAL;VALUE=DURATION:PT1H
X-Robots-Tag:noindex
X-PUBLISHED-TTL:PT1H
BEGIN:VTIMEZONE
TZID:America/New_York
BEGIN:DAYLIGHT
TZOFFSETFROM:-0500
TZOFFSETTO:-0400
TZNAME:EDT
DTSTART:20180311T070000
END:DAYLIGHT
BEGIN:STANDARD
TZOFFSETFROM:-0400
TZOFFSETTO:-0500
TZNAME:EST
DTSTART:20181104T060000
END:STANDARD
BEGIN:DAYLIGHT
TZOFFSETFROM:-0500
TZOFFSETTO:-0400
TZNAME:EDT
DTSTART:20190310T070000
END:DAYLIGHT
BEGIN:STANDARD
TZOFFSETFROM:-0400
TZOFFSETTO:-0500
TZNAME:EST
DTSTART:20191103T060000
END:STANDARD
BEGIN:DAYLIGHT
TZOFFSETFROM:-0500
TZOFFSETTO:-0400
TZNAME:EDT
DTSTART:20200308T070000
END:DAYLIGHT
BEGIN:STANDARD
TZOFFSETFROM:-0400
TZOFFSETTO:-0500
TZNAME:EST
DTSTART:20201101T060000
END:STANDARD
BEGIN:DAYLIGHT
TZOFFSETFROM:-0500
TZOFFSETTO:-0400
TZNAME:EDT
DTSTART:20210314T070000
END:DAYLIGHT
BEGIN:STANDARD
TZOFFSETFROM:-0400
TZOFFSETTO:-0500
TZNAME:EST
DTSTART:20211107T060000
END:STANDARD
BEGIN:DAYLIGHT
TZOFFSETFROM:-0500
TZOFFSETTO:-0400
TZNAME:EDT
DTSTART:20220313T070000
END:DAYLIGHT
BEGIN:STANDARD
TZOFFSETFROM:-0400
TZOFFSETTO:-0500
TZNAME:EST
DTSTART:20221106T060000
END:STANDARD
END:VTIMEZONE
BEGIN:VEVENT
DTSTART;TZID=America/New_York:20210225T160000
DTEND;TZID=America/New_York:20210225T173000
DTSTAMP:20260423T102512
CREATED:20210211T165219Z
LAST-MODIFIED:20210211T165524Z
UID:14466-1614268800-1614274200@www.iida-carolinas.org
SUMMARY:Columbia/Coastal  - Student Virtual Portfolio Reviews
DESCRIPTION:
URL:https://www.iida-carolinas.org/event/columbia-coastal-student-virtual-portfolio-reviews/
CATEGORIES:Coastal,Columbia,Multiple Centers
END:VEVENT
BEGIN:VEVENT
DTSTART;TZID=America/New_York:20201015T113000
DTEND;TZID=America/New_York:20201015T133000
DTSTAMP:20260423T102512
CREATED:20201006T185319Z
LAST-MODIFIED:20201006T185319Z
UID:14264-1602761400-1602768600@www.iida-carolinas.org
SUMMARY:Columbia - Membership Appreciation Drop In Lunch
DESCRIPTION:Join us for a Membership Appreciation Drop In Lunch\, sponsored by Spartan Surfaces on October 15\, 2020 from 11:30 – 1:30pm (2 sessions). Come in during your lunch hour and hang out with us! We are doing this as a drop in lunch\, so please make sure to sign up for a time so that we can keep the number of people in the space to a safe number.
URL:https://www.iida-carolinas.org/event/columbia-membership-appreciation-drop-in-lunch/
LOCATION:McWaters\, 1104 Shop Rd.\, Columbia\, SC\, 29201\, United States
CATEGORIES:Columbia
END:VEVENT
BEGIN:VEVENT
DTSTART;TZID=America/New_York:20200827T191500
DTEND;TZID=America/New_York:20200827T203000
DTSTAMP:20260423T102512
CREATED:20191030T222204Z
LAST-MODIFIED:20200827T151558Z
UID:13499-1598555700-1598560200@www.iida-carolinas.org
SUMMARY:DesignWorks 2020: Virtual Awards Show
DESCRIPTION:We hope that you’ll join us for another exciting IIDA Carolinas DesignWorks Awards + Forum Event. This year\, the event will be virtual. \nWatch live here: \n\nDESIGNWORKS 2020 \n\nTune into a watch party here: \nhttps://us02web.zoom.us/j/85810326908?pwd=QmNYUmZOUzdQU1R0bHhLVHpOMC9MQT09#success \nAnd use the password: watchparty \n 
URL:https://www.iida-carolinas.org/event/designworks-2020/
LOCATION:NC\, United States
CATEGORIES:Charlotte,Coastal,Columbia,IIDA Carolinas,Multiple Centers,Triad,Triangle,Upstate
ATTACH;FMTTYPE=image/jpeg:https://www.iida-carolinas.org/wp-content/uploads/2020/04/IIDA-2020_Register-To-Attend_V7-scaled.jpg
END:VEVENT
BEGIN:VEVENT
DTSTART;VALUE=DATE:20200326
DTEND;VALUE=DATE:20200327
DTSTAMP:20260423T102512
CREATED:20200318T113527Z
LAST-MODIFIED:20200318T113527Z
UID:13662-1585180800-1585267199@www.iida-carolinas.org
SUMMARY:Columbia CEU - CANCELED
DESCRIPTION:This event has been canceled.
URL:https://www.iida-carolinas.org/event/columbia-ceu-canceled/
CATEGORIES:Columbia
END:VEVENT
BEGIN:VEVENT
DTSTART;VALUE=DATE:20200227
DTEND;VALUE=DATE:20200228
DTSTAMP:20260423T102512
CREATED:20200117T014407Z
LAST-MODIFIED:20200117T014407Z
UID:13568-1582761600-1582847999@www.iida-carolinas.org
SUMMARY:Student Design Days
DESCRIPTION:#IIDA_DesignDays
URL:https://www.iida-carolinas.org/event/student-design-days-2/
CATEGORIES:Columbia
END:VEVENT
BEGIN:VEVENT
DTSTART;VALUE=DATE:20200114
DTEND;VALUE=DATE:20200115
DTSTAMP:20260423T102512
CREATED:20200114T195010Z
LAST-MODIFIED:20200114T195010Z
UID:13561-1578960000-1579046399@www.iida-carolinas.org
SUMMARY:IIDA 2020 Student Mentoring Registration
DESCRIPTION:The IIDA Student Mentoring Program is one of the most dynamic student/mentor programs in the interior design industry. Throughout the country\, IIDA pairs more than 1\,000 students and mentors\, taking students out of the classroom and placing them into the world of interior design for a day of job shadowing in March 2020. You must be an IIDA Student Member to participate. Please note: Students and mentors are responsible for setting up a date in March for their mentoring session. \nOn Monday\, February 10\, 2020\, IIDA will provide you with information regarding your match. \n  \nLast day to Register is Friday\, January 31\, 2020!
URL:https://www.iida-carolinas.org/event/iida-2020-student-mentoring-registration/
CATEGORIES:Campus Centers,Charlotte,Coastal,Columbia,Multiple Centers,Triad,Triangle,Upstate
ATTACH;FMTTYPE=image/png:https://www.iida-carolinas.org/wp-content/uploads/2020/01/mentoring.png
END:VEVENT
BEGIN:VEVENT
DTSTART;TZID=America/New_York:20191212T180000
DTEND;TZID=America/New_York:20191212T210000
DTSTAMP:20260423T102512
CREATED:20190830T092727Z
LAST-MODIFIED:20191030T215351Z
UID:12978-1576173600-1576184400@www.iida-carolinas.org
SUMMARY:Holiday Party - Columbia
DESCRIPTION:Join us for a Holiday Party at City Market Place hosted by IIDA\, CREW\, and Friends! Come ready to mingle with industry friends and celebrate the holiday season. Enjoy heavy appetizers\, a beer and wine bar\, festive music by DJ Gratis\, AND a Silent Auction benefiting Epworth Children’s Home. Cocktail Attire requested.
URL:https://www.iida-carolinas.org/event/holiday-party-silent-auction/
LOCATION:City Market Place\, 705B Gervais Street\, Columbia\, SC\, 29201\, United States
CATEGORIES:Columbia,IIDA Carolinas
ATTACH;FMTTYPE=image/png:https://www.iida-carolinas.org/wp-content/uploads/2019/08/Columbia_2019-12-12_Holiday-Party.png
END:VEVENT
BEGIN:VEVENT
DTSTART;VALUE=DATE:20191025
DTEND;VALUE=DATE:20191026
DTSTAMP:20260423T102512
CREATED:20191001T152102Z
LAST-MODIFIED:20191018T154612Z
UID:13414-1571961600-1572047999@www.iida-carolinas.org
SUMMARY:Healthcare Forum
DESCRIPTION:Join us for the Healthcare Forum! Our CEU this year will be : “FleXX: A Framework for Flexibility\, Tested in Practice” by Annette Klaus ! \nDuring this event we will also be offering FREE headshots! \nRegister today! \nThe Venue\n21 N Market St\nAsheville\, NC 28801
URL:https://www.iida-carolinas.org/event/fall-forum/
LOCATION:The Venue\, 21 N Market Street\, Asheville\, NC\, 28801\, United States
CATEGORIES:Charlotte,Coastal,Columbia,IIDA Carolinas,Multiple Centers,Triad,Triangle,Upstate
ATTACH;FMTTYPE=image/png:https://www.iida-carolinas.org/wp-content/uploads/2019/09/Register_Updated_10012019.png
END:VEVENT
END:VCALENDAR