BEGIN:VCALENDAR
VERSION:2.0
PRODID:-//IIDA Carolinas - ECPv6.15.13//NONSGML v1.0//EN
CALSCALE:GREGORIAN
METHOD:PUBLISH
X-ORIGINAL-URL:https://www.iida-carolinas.org
X-WR-CALDESC:Events for IIDA Carolinas
REFRESH-INTERVAL;VALUE=DURATION:PT1H
X-Robots-Tag:noindex
X-PUBLISHED-TTL:PT1H
BEGIN:VTIMEZONE
TZID:America/New_York
BEGIN:DAYLIGHT
TZOFFSETFROM:-0500
TZOFFSETTO:-0400
TZNAME:EDT
DTSTART:20240310T070000
END:DAYLIGHT
BEGIN:STANDARD
TZOFFSETFROM:-0400
TZOFFSETTO:-0500
TZNAME:EST
DTSTART:20241103T060000
END:STANDARD
BEGIN:DAYLIGHT
TZOFFSETFROM:-0500
TZOFFSETTO:-0400
TZNAME:EDT
DTSTART:20250309T070000
END:DAYLIGHT
BEGIN:STANDARD
TZOFFSETFROM:-0400
TZOFFSETTO:-0500
TZNAME:EST
DTSTART:20251102T060000
END:STANDARD
BEGIN:DAYLIGHT
TZOFFSETFROM:-0500
TZOFFSETTO:-0400
TZNAME:EDT
DTSTART:20260308T070000
END:DAYLIGHT
BEGIN:STANDARD
TZOFFSETFROM:-0400
TZOFFSETTO:-0500
TZNAME:EST
DTSTART:20261101T060000
END:STANDARD
BEGIN:DAYLIGHT
TZOFFSETFROM:-0500
TZOFFSETTO:-0400
TZNAME:EDT
DTSTART:20270314T070000
END:DAYLIGHT
BEGIN:STANDARD
TZOFFSETFROM:-0400
TZOFFSETTO:-0500
TZNAME:EST
DTSTART:20271107T060000
END:STANDARD
END:VTIMEZONE
BEGIN:VEVENT
DTSTART;TZID=America/New_York:20250626T173000
DTEND;TZID=America/New_York:20250626T200000
DTSTAMP:20260424T094759
CREATED:20250106T185512Z
LAST-MODIFIED:20250603T132010Z
UID:18543-1750959000-1750968000@www.iida-carolinas.org
SUMMARY:Triad - Summer Social - Register Now!
DESCRIPTION:
URL:https://www.iida-carolinas.org/event/triad-summer-social-save-the-date-4/
LOCATION:Tuckers Tapyard\, 1010 N. Liberty St.\, Winston Salem\, NC\, 27101\, United States
CATEGORIES:Triad
END:VEVENT
BEGIN:VEVENT
DTSTART;TZID=America/New_York:20250822T130000
DTEND;TZID=America/New_York:20250824T143000
DTSTAMP:20260424T094759
CREATED:20250623T144814Z
LAST-MODIFIED:20250623T145308Z
UID:18831-1755867600-1756045800@www.iida-carolinas.org
SUMMARY:NCIDQ PREP COURSE- FALL 2025- Register Here!
DESCRIPTION:2025 IIDA Carolinas Chapter Fall Q Prep Course\nIIDA Carolinas Chapter is providing an NCIDQ prep course for members to prepare for the Practicum portion of the NCIDQ exam. This three day course will take a deep dive to set you up for success. Our Benefactors have made it possible for us to provide this as free benefit to our members.  \nSchedule:  \nFriday 8/22 – 1 pm – 6 pm  \nSaturday 8/23 – 8 am – 5 pm (lunch provided)  \nSunday 8/24 – 8 am – 2:30 pm (box lunch)  \n** Note – this course is in Raleigh\, NC IF REGISTRATION IS FULL FOR IIDA CAROLINAS\, EMAIL ALISON VOLCKENS avolckens@cdesigninc.com FOR A WAITING LIST. THERE ARE PAID SPOTS AVAILABLE. \n  \nLocation: Alfred Williams & Company\, 410 S Salisbury St\, Suite 200\, Raleigh\, NC 27601 \nDate and time: Fri\, Aug 22\, 2025 1:00 PM – Sun\, Aug 24\, 2025 2:30 PM \nOrganizer: Alison Volckens\, (704) 930-6034\, avolckens@cdesigninc.com
URL:https://www.iida-carolinas.org/event/ncidq-prep-course-fall-2025-register-here/
LOCATION:Alfred Williams- Raleigh\, 410 S. Salisbury St.\, 200\, Raleigh\, NC\, 27601\, United States
CATEGORIES:Charlotte,Coastal,Columbia,IIDA Carolinas,Triad,Triangle,Upstate,Wilmington
ORGANIZER;CN="Alison Volckens":MAILTO:avolckens@cdesigninc.com
END:VEVENT
BEGIN:VEVENT
DTSTART;TZID=America/New_York:20250911T083000
DTEND;TZID=America/New_York:20250911T103000
DTSTAMP:20260424T094759
CREATED:20250807T203106Z
LAST-MODIFIED:20250807T203106Z
UID:18949-1757579400-1757586600@www.iida-carolinas.org
SUMMARY:Triad Fall CEU-Register Now!
DESCRIPTION:FREE CEU | The Art of Leather\n\n\n\n\n\n\n\nJoin us over coffee & breakfast for CEU credit & networking. \nThe Art of Leather\, presented by Julia Edwards.\nIDCEC & HSW Certified. \nRegistration closes at 11:30pm on 9/9/25.\nVenue accessible by stairs only
URL:https://www.iida-carolinas.org/event/triad-fall-ceu-register-now/
LOCATION:CBI Winston Salem\, 814 Angelo Bros Ave.\, Winston Salem\, NC\, 27101\, United States
CATEGORIES:Triad
END:VEVENT
BEGIN:VEVENT
DTSTART;TZID=America/New_York:20251009T170000
DTEND;TZID=America/New_York:20251009T190000
DTSTAMP:20260424T094759
CREATED:20250303T162330Z
LAST-MODIFIED:20250925T202824Z
UID:18624-1760029200-1760036400@www.iida-carolinas.org
SUMMARY:Triad Membership Drive- Register Now!
DESCRIPTION:
URL:https://www.iida-carolinas.org/event/triad-membership-drive-save-the-date-3/
LOCATION:Beaufurn\, 1005 W. Fairfield Rd.\, High Point\, NC\, 27263\, United States
CATEGORIES:Triad
END:VEVENT
BEGIN:VEVENT
DTSTART;TZID=America/New_York:20251114T180000
DTEND;TZID=America/New_York:20251114T230000
DTSTAMP:20260424T094759
CREATED:20250106T185702Z
LAST-MODIFIED:20251104T212814Z
UID:18547-1763143200-1763161200@www.iida-carolinas.org
SUMMARY:IIDA Carolinas - Designworks 30th Anniversary Event
DESCRIPTION:
URL:https://www.iida-carolinas.org/event/iida-carolinas-designworks-30th-anniversary-event-save-the-date/
LOCATION:Case by Beau Monde\, 1837 North Tryon St\, Suite 102\, charlotte\, NC\, 28206\, United States
CATEGORIES:Charlotte,Coastal,Columbia,IIDA Carolinas,Triad,Triangle,Upstate
END:VEVENT
BEGIN:VEVENT
DTSTART;TZID=America/New_York:20260313T130000
DTEND;TZID=America/New_York:20260315T143000
DTSTAMP:20260424T094759
CREATED:20251212T165844Z
LAST-MODIFIED:20251215T151705Z
UID:20165-1773406800-1773585000@www.iida-carolinas.org
SUMMARY:NCIDQ-  Q Prep Course- Register Now!
DESCRIPTION:
URL:https://www.iida-carolinas.org/event/ncidq-q-prep-course-save-the-date/
LOCATION:Officeworks\, 925 tuckaseegee rd\, suite 101\, charlotte\, NC\, 28208\, United States
CATEGORIES:Charlotte,Coastal,Columbia,Triad,Triangle,Upstate,Wilmington
END:VEVENT
BEGIN:VEVENT
DTSTART;TZID=America/New_York:20260319T163000
DTEND;TZID=America/New_York:20260319T183000
DTSTAMP:20260424T094759
CREATED:20251117T204707Z
LAST-MODIFIED:20260213T134704Z
UID:19752-1773937800-1773945000@www.iida-carolinas.org
SUMMARY:Triad- 2026 Student Design Days! Register Now!
DESCRIPTION:
URL:https://www.iida-carolinas.org/event/triad-2026-student-design-days/
LOCATION:High Point Furniture Ind Inc\, 1104 Bedford St.\, High Point\, NC\, 27263\, United States
CATEGORIES:Triad
END:VEVENT
BEGIN:VEVENT
DTSTART;TZID=America/New_York:20260416T083000
DTEND;TZID=America/New_York:20260416T103000
DTSTAMP:20260424T094759
CREATED:20260401T173453Z
LAST-MODIFIED:20260401T174342Z
UID:20764-1776328200-1776335400@www.iida-carolinas.org
SUMMARY:Triad- Spring CEU- Register Now!
DESCRIPTION:
URL:https://www.iida-carolinas.org/event/triad-spring-ceu-register-now/
LOCATION:interior Elements- Winston Salem\, 450 N Patterson Ave.\, #220\, Winston Salem\, NC\, 27101\, United States
CATEGORIES:Triad
END:VEVENT
BEGIN:VEVENT
DTSTART;TZID=America/New_York:20260514T113000
DTEND;TZID=America/New_York:20260514T130000
DTSTAMP:20260424T094759
CREATED:20260423T194218Z
LAST-MODIFIED:20260423T194324Z
UID:20791-1778758200-1778763600@www.iida-carolinas.org
SUMMARY:Triad- Philanthropy Event- Regsiter Now!
DESCRIPTION:
URL:https://www.iida-carolinas.org/event/triad-philanthropy-event-regsiter-now/
LOCATION:Workplace Architecture and Design\, 500 W. 5th St.\, Winston Salem\, NC\, 27101\, United States
CATEGORIES:Triad,Volunteer
END:VEVENT
END:VCALENDAR