BEGIN:VCALENDAR
VERSION:2.0
PRODID:-//IIDA Carolinas - ECPv6.15.13//NONSGML v1.0//EN
CALSCALE:GREGORIAN
METHOD:PUBLISH
X-ORIGINAL-URL:https://www.iida-carolinas.org
X-WR-CALDESC:Events for IIDA Carolinas
REFRESH-INTERVAL;VALUE=DURATION:PT1H
X-Robots-Tag:noindex
X-PUBLISHED-TTL:PT1H
BEGIN:VTIMEZONE
TZID:America/New_York
BEGIN:DAYLIGHT
TZOFFSETFROM:-0500
TZOFFSETTO:-0400
TZNAME:EDT
DTSTART:20210314T070000
END:DAYLIGHT
BEGIN:STANDARD
TZOFFSETFROM:-0400
TZOFFSETTO:-0500
TZNAME:EST
DTSTART:20211107T060000
END:STANDARD
BEGIN:DAYLIGHT
TZOFFSETFROM:-0500
TZOFFSETTO:-0400
TZNAME:EDT
DTSTART:20220313T070000
END:DAYLIGHT
BEGIN:STANDARD
TZOFFSETFROM:-0400
TZOFFSETTO:-0500
TZNAME:EST
DTSTART:20221106T060000
END:STANDARD
BEGIN:DAYLIGHT
TZOFFSETFROM:-0500
TZOFFSETTO:-0400
TZNAME:EDT
DTSTART:20230312T070000
END:DAYLIGHT
BEGIN:STANDARD
TZOFFSETFROM:-0400
TZOFFSETTO:-0500
TZNAME:EST
DTSTART:20231105T060000
END:STANDARD
BEGIN:DAYLIGHT
TZOFFSETFROM:-0500
TZOFFSETTO:-0400
TZNAME:EDT
DTSTART:20240310T070000
END:DAYLIGHT
BEGIN:STANDARD
TZOFFSETFROM:-0400
TZOFFSETTO:-0500
TZNAME:EST
DTSTART:20241103T060000
END:STANDARD
BEGIN:DAYLIGHT
TZOFFSETFROM:-0500
TZOFFSETTO:-0400
TZNAME:EDT
DTSTART:20250309T070000
END:DAYLIGHT
BEGIN:STANDARD
TZOFFSETFROM:-0400
TZOFFSETTO:-0500
TZNAME:EST
DTSTART:20251102T060000
END:STANDARD
BEGIN:DAYLIGHT
TZOFFSETFROM:-0500
TZOFFSETTO:-0400
TZNAME:EDT
DTSTART:20260308T070000
END:DAYLIGHT
BEGIN:STANDARD
TZOFFSETFROM:-0400
TZOFFSETTO:-0500
TZNAME:EST
DTSTART:20261101T060000
END:STANDARD
END:VTIMEZONE
BEGIN:VEVENT
DTSTART;TZID=America/New_York:20250515T173000
DTEND;TZID=America/New_York:20250515T200000
DTSTAMP:20260423T012718
CREATED:20250106T183939Z
LAST-MODIFIED:20250209T184510Z
UID:18524-1747330200-1747339200@www.iida-carolinas.org
SUMMARY:Triangle - Philanthropic Product Runway - Register Now!
DESCRIPTION:
URL:https://www.iida-carolinas.org/event/triangle-philanthropic-project-runway-save-the-date/
LOCATION:PMC Raleigh\, 1331 Sunday Drive\, Raleigh\, NC\, 27607
CATEGORIES:Triangle
ORGANIZER;CN="Vince Antkiewicz":MAILTO:vantkiewicz@redlinedg.com
END:VEVENT
BEGIN:VEVENT
DTSTART;TZID=America/New_York:20250422T160000
DTEND;TZID=America/New_York:20250422T180000
DTSTAMP:20260423T012718
CREATED:20250106T183720Z
LAST-MODIFIED:20250318T222304Z
UID:18520-1745337600-1745344800@www.iida-carolinas.org
SUMMARY:Triangle - Spring CEU - Register Here!
DESCRIPTION:More info to come!
URL:https://www.iida-carolinas.org/event/triangle-spring-ceu-save-the-date-3/
LOCATION:Cosentino\, 221 S. Rogers Ln.\, Suite 100\, Raleigh\, NC\, 27610\, United States
CATEGORIES:Triangle
ORGANIZER;CN="Vince Antkiewicz":MAILTO:vantkiewicz@redlinedg.com
END:VEVENT
BEGIN:VEVENT
DTSTART;VALUE=DATE:20250307
DTEND;VALUE=DATE:20250308
DTSTAMP:20260423T012718
CREATED:20250106T182830Z
LAST-MODIFIED:20250209T184953Z
UID:18485-1741305600-1741391999@www.iida-carolinas.org
SUMMARY:IIDA Carolinas - Spring Forum - Wilmington Design Journey: CEUs + Scenic Views - Register Now!
DESCRIPTION: 
URL:https://www.iida-carolinas.org/event/iida-carolinas-spring-forum-wilmington-design-journey-ceus-scenic-views-save-the-date/
LOCATION:NC
CATEGORIES:Charlotte,Coastal,Columbia,IIDA Carolinas,Triad,Triangle,Upstate
ORGANIZER;CN="Jordan Cahill":MAILTO:jordan.cahill@nwravin.com
END:VEVENT
BEGIN:VEVENT
DTSTART;TZID=America/New_York:20250128T163000
DTEND;TZID=America/New_York:20250128T190000
DTSTAMP:20260423T012718
CREATED:20250106T181213Z
LAST-MODIFIED:20250107T201244Z
UID:18494-1738081800-1738090800@www.iida-carolinas.org
SUMMARY:Triangle - Student Design Days
DESCRIPTION:
URL:https://www.iida-carolinas.org/event/triangle-student-design-days-save-the-date/
LOCATION:Alfred Williams- Raleigh\, 410 S. Salisbury St.\, 200\, Raleigh\, NC\, 27601\, United States
CATEGORIES:Triangle
ORGANIZER;CN="Vince Antkiewicz":MAILTO:vantkiewicz@redlinedg.com
END:VEVENT
BEGIN:VEVENT
DTSTART;TZID=America/New_York:20250116T170000
DTEND;TZID=America/New_York:20250116T190000
DTSTAMP:20260423T012718
CREATED:20250103T143809Z
LAST-MODIFIED:20250106T190722Z
UID:18479-1737046800-1737054000@www.iida-carolinas.org
SUMMARY:Wilmington - Membership Drive
DESCRIPTION:Please join us to learn more about IIDA Carolinas and our plans for the Wilmington area!  We have several events planned for the coast\, and hope you will join us! \nWe will have a free CEU – sponsored by Sesco Lighting – Everything is Acoustic (IDCEC and AIA credits – including HSW designation)! \nDrinks and Appetizers for a fun Happy Hour with friends and colleagues to kick off the New Year!
URL:https://www.iida-carolinas.org/event/wilmington-membership-drive/
LOCATION:Azalea Station\, 1502 Castle Street\, Wilmington\, NC\, 28401
CATEGORIES:Coastal,IIDA Carolinas,Triangle
END:VEVENT
BEGIN:VEVENT
DTSTART;TZID=America/New_York:20241203T173000
DTEND;TZID=America/New_York:20241203T203000
DTSTAMP:20260423T012718
CREATED:20240226T181456Z
LAST-MODIFIED:20241112T191953Z
UID:18147-1733247000-1733257800@www.iida-carolinas.org
SUMMARY:Triangle- Holiday Party- Register Now!
DESCRIPTION:Please join us for IIDA Triangle’s Holiday Social! \nJoin us for a festive holiday event to celebrate with IIDA Triangle. \nWe will have stocking design contest filled with toys to donate to Toys for Tots! \nWe can’t wait to see you there!
URL:https://www.iida-carolinas.org/event/triangle-holiday-party-save-the-date-3/
LOCATION:Press\, 400 Hillsborough St\, Suite 108\, Raleigh\, NC\, 27603\, United States
CATEGORIES:Triangle
END:VEVENT
BEGIN:VEVENT
DTSTART;TZID=America/New_York:20241108T173000
DTEND;TZID=America/New_York:20241108T200000
DTSTAMP:20260423T012718
CREATED:20240226T181237Z
LAST-MODIFIED:20240912T132641Z
UID:18143-1731087000-1731096000@www.iida-carolinas.org
SUMMARY:Chapter Wide Event- Fall Forum 2024; Register Now!
DESCRIPTION:IIDA Silent Auction Under the Big Top | Chapter Wide Event\nJoin us for the IIDA Carolinas Chapter’s “Under the Big Top Silent Auction” on Friday\, November 8th in Columbia\, SC! Enjoy a night of carnival-themed fun\, bid on unique items\, and support design advocacy in South Carolina. Mingle with fellow industry professionals\, participate in our annual meeting\, and savor delicious food and entertainment. EARLY BIRD Special: Register by September 14th for a discount! Let’s make a difference together! Sponsorships are available on the registration page. Book your stay at Cambira Hotel with group code WW6700 before Oct. 11th to secure your reservation
URL:https://www.iida-carolinas.org/event/chapter-wide-event-fall-forum-2024/
LOCATION:701 Whaley\, 701 Whaley St.\, Columbia\, SC\, 29201\, United States
CATEGORIES:Charlotte,Coastal,Columbia,Triad,Triangle,Upstate
END:VEVENT
BEGIN:VEVENT
DTSTART;TZID=America/New_York:20241029T173000
DTEND;TZID=America/New_York:20241029T190000
DTSTAMP:20260423T012718
CREATED:20240226T180750Z
LAST-MODIFIED:20241016T211654Z
UID:18135-1730223000-1730228400@www.iida-carolinas.org
SUMMARY:Triangle- Membership Drive- Fall for IIDA- Register Here!
DESCRIPTION:Please join us for IIDA Triangle’s October Membership Drive! \nFamilies are welcome! We will have lots of fun activities for the whole family! Kids are welcome to come dressed in their Halloween costumes for some Trick-or-Treating!
URL:https://www.iida-carolinas.org/event/triangle-membership-drive-pumpkins-and-partnership-save-the-date/
LOCATION:Hartwell Raleigh\, 620 W South Street\, Raleigh\, NC\, 27603
CATEGORIES:Triangle
END:VEVENT
BEGIN:VEVENT
DTSTART;TZID=America/New_York:20240920T130000
DTEND;TZID=America/New_York:20240922T143000
DTSTAMP:20260423T012718
CREATED:20240722T165106Z
LAST-MODIFIED:20240722T165106Z
UID:17946-1726837200-1727015400@www.iida-carolinas.org
SUMMARY:NCIDQ- Prep Course 2024
DESCRIPTION:
URL:https://www.iida-carolinas.org/event/ncidq-prep-course-2024/
LOCATION:Alfred Williams- Raleigh\, 410 S. Salisbury St.\, 200\, Raleigh\, NC\, 27601\, United States
CATEGORIES:Charlotte,Coastal,Columbia,Triad,Triangle,Upstate
ORGANIZER;CN="Whitlie Nock":MAILTO:whitlie.nock@mechoshade.com
END:VEVENT
BEGIN:VEVENT
DTSTART;TZID=America/New_York:20240917T083000
DTEND;TZID=America/New_York:20240917T140000
DTSTAMP:20260423T012718
CREATED:20240226T180236Z
LAST-MODIFIED:20240910T203738Z
UID:18123-1726561800-1726581600@www.iida-carolinas.org
SUMMARY:Triangle- Fall CEU- Register Now!
DESCRIPTION:IIDA Triangle CEU Blitz\nPlease join us for IIDA Triangle’s September CEU Blitz! We have a great lineup of CEUs this year that offer a variety of credits!
URL:https://www.iida-carolinas.org/event/triangle-fall-ceu-save-the-date-3/
LOCATION:Creative Business Interiors\, 8720 Fleet Service Dr.\, Raleigh\, NC\, 27617\, United States
CATEGORIES:Triangle
END:VEVENT
BEGIN:VEVENT
DTSTART;TZID=America/New_York:20240820T170000
DTEND;TZID=America/New_York:20240820T190000
DTSTAMP:20260423T012718
CREATED:20240226T175711Z
LAST-MODIFIED:20240809T144251Z
UID:18111-1724173200-1724180400@www.iida-carolinas.org
SUMMARY:Triangle- Summer Social at The Grove- Register Here!
DESCRIPTION:Join us for a fun night of networking and mingling as we celebrate Summer at the Grove Amenity Space!  Featuring DJ Lyd! \nInterested in Sponsoring this event – Sponsors Sign Up Here! \n \n 
URL:https://www.iida-carolinas.org/event/triangle-summer-social-save-the-date-3/
LOCATION:The Grove\, 2710 Wycliff Rd\, Raleigh\, NC
CATEGORIES:Triangle
ORGANIZER;CN="Vince Antkiewicz":MAILTO:vantkiewicz@redlinedg.com
END:VEVENT
BEGIN:VEVENT
DTSTART;TZID=America/New_York:20240502T170000
DTEND;TZID=America/New_York:20240502T200000
DTSTAMP:20260423T012718
CREATED:20240226T175208Z
LAST-MODIFIED:20240419T184915Z
UID:18099-1714669200-1714680000@www.iida-carolinas.org
SUMMARY:Triangle- Philanthropic Event- Register Now!
DESCRIPTION:Join us for our 2nd Annual Product Runway event! Design firms & reps will team up to create at least ONE garment constructed out of at least 75% manufacturer’s product. \n  \nThis article will be modeled at our LIVE fashion show on May 2nd. Team registration includes team admission and participation in the fashion show. This year’s theme is FASHION OF THE AGES! \n\nNo more than 2 reps per team\, 6 designers per team (total of 8 people max).\nFirms can have more than 1 team participate. Reps may only participate with 1 team.\nTeams can consist of designers from more than one firm.\n\nRegistration includes general admission\, team registration and sponsorships!
URL:https://www.iida-carolinas.org/event/triangle-philanthropic-event-save-the-date-3/
LOCATION:PMC Raleigh\, 1331 Sunday Drive\, Raleigh\, NC\, 27607
CATEGORIES:Triangle,Volunteer
END:VEVENT
BEGIN:VEVENT
DTSTART;VALUE=DATE:20240319
DTEND;VALUE=DATE:20240320
DTSTAMP:20260423T012718
CREATED:20240226T174453Z
LAST-MODIFIED:20240226T174453Z
UID:18086-1710806400-1710892799@www.iida-carolinas.org
SUMMARY:Triangle- Spring CEU- Save the Date!
DESCRIPTION:More Information to come!
URL:https://www.iida-carolinas.org/event/triangle-spring-ceu-save-the-date-2/
LOCATION:NC
CATEGORIES:Triangle
END:VEVENT
BEGIN:VEVENT
DTSTART;TZID=America/New_York:20240220T160000
DTEND;TZID=America/New_York:20240220T183000
DTSTAMP:20260423T012718
CREATED:20240210T202144Z
LAST-MODIFIED:20240226T173142Z
UID:17972-1708444800-1708453800@www.iida-carolinas.org
SUMMARY:Triangle- 2024 Student Design Days
DESCRIPTION:
URL:https://www.iida-carolinas.org/event/triangle-2024-student-design-days/
LOCATION:Storr Office Environments\, 10800 World Trade Blvd\, Raleigh\, NC\, 27617\, United States
CATEGORIES:Triangle
END:VEVENT
BEGIN:VEVENT
DTSTART;VALUE=DATE:20231208
DTEND;VALUE=DATE:20231209
DTSTAMP:20260423T012718
CREATED:20230622T145035Z
LAST-MODIFIED:20230623T150511Z
UID:16834-1701993600-1702079999@www.iida-carolinas.org
SUMMARY:2023 Designworks - Save the Date
DESCRIPTION:
URL:https://www.iida-carolinas.org/event/2023-designworks-save-the-date/
LOCATION:JW Marriot\, Charlotte\, NC
CATEGORIES:Charlotte,Coastal,Columbia,IIDA Carolinas,Multiple Centers,Triad,Triangle,Upstate
END:VEVENT
BEGIN:VEVENT
DTSTART;TZID=America/New_York:20231019T173000
DTEND;TZID=America/New_York:20231019T193000
DTSTAMP:20260423T012718
CREATED:20230111T131428Z
LAST-MODIFIED:20231006T210812Z
UID:16563-1697736600-1697743800@www.iida-carolinas.org
SUMMARY:Triangle - Membership Drive
DESCRIPTION:
URL:https://www.iida-carolinas.org/event/triangle-membership-drive-save-the-date-2/
LOCATION:Bowstring Brewery\, 1930 Wake Forest Rd.\, Raleigh\, NC\, 27608\, United States
CATEGORIES:Triangle
ORGANIZER;CN="Dina Khalek":MAILTO:dina.khalek@studiotk.com
END:VEVENT
BEGIN:VEVENT
DTSTART;VALUE=DATE:20230926
DTEND;VALUE=DATE:20230927
DTSTAMP:20260423T012718
CREATED:20230111T131319Z
LAST-MODIFIED:20230111T131319Z
UID:16559-1695686400-1695772799@www.iida-carolinas.org
SUMMARY:Triangle - Fall CEU - Save the Date!
DESCRIPTION:More info to come!
URL:https://www.iida-carolinas.org/event/triangle-fall-ceu-save-the-date-2/
LOCATION:NC
CATEGORIES:Triangle
ORGANIZER;CN="Dina Khalek":MAILTO:dina.khalek@studiotk.com
END:VEVENT
BEGIN:VEVENT
DTSTART;TZID=America/New_York:20230824T173000
DTEND;TZID=America/New_York:20230824T193000
DTSTAMP:20260423T012718
CREATED:20230111T131150Z
LAST-MODIFIED:20230714T182014Z
UID:16557-1692898200-1692905400@www.iida-carolinas.org
SUMMARY:Triangle - Summer Social
DESCRIPTION:
URL:https://www.iida-carolinas.org/event/triangle-summer-social-save-the-date-2/
LOCATION:Smoky Hollow Amenity Space\, 2nd Floor\, 421 N Harrington St\, Raleigh\, NC
CATEGORIES:Triangle
ORGANIZER;CN="Dina Khalek":MAILTO:dina.khalek@studiotk.com
END:VEVENT
BEGIN:VEVENT
DTSTART;TZID=America/New_York:20230519T140000
DTEND;TZID=America/New_York:20230519T190000
DTSTAMP:20260423T012718
CREATED:20230111T133853Z
LAST-MODIFIED:20230316T145902Z
UID:16590-1684504800-1684522800@www.iida-carolinas.org
SUMMARY:Chapter Wide Event  - Spring Forum 2023
DESCRIPTION:
URL:https://www.iida-carolinas.org/event/chapter-wide-event-spring-forum-2023/
LOCATION:Grand Bohemian Hotel Greenville\, SC
CATEGORIES:Charlotte,Coastal,Columbia,Triad,Triangle,Upstate
ORGANIZER;CN="Whitlie Nock":MAILTO:whitlie.nock@mechoshade.com
END:VEVENT
BEGIN:VEVENT
DTSTART;TZID=America/New_York:20230427T180000
DTEND;TZID=America/New_York:20230427T200000
DTSTAMP:20260423T012718
CREATED:20230111T131035Z
LAST-MODIFIED:20230328T205333Z
UID:16555-1682618400-1682625600@www.iida-carolinas.org
SUMMARY:Triangle - Philanthropic Event - Product Runway
DESCRIPTION:
URL:https://www.iida-carolinas.org/event/triangle-philanthropic-event-save-the-date-2/
LOCATION:Coverings NC\, 8004 Winchester Drive\, Raleigh\, NC
CATEGORIES:Triangle,Volunteer
ORGANIZER;CN="Dina Khalek":MAILTO:dina.khalek@studiotk.com
END:VEVENT
BEGIN:VEVENT
DTSTART;TZID=America/New_York:20230321T080000
DTEND;TZID=America/New_York:20230321T100000
DTSTAMP:20260423T012718
CREATED:20230111T130920Z
LAST-MODIFIED:20230310T164540Z
UID:16553-1679385600-1679392800@www.iida-carolinas.org
SUMMARY:Triangle - Spring CEU
DESCRIPTION:
URL:https://www.iida-carolinas.org/event/triangle-spring-ceu-save-the-date/
LOCATION:Bonitz Raleigh\, 10701 World Trade Blvd\, Raleigh\, NC\, 27617
CATEGORIES:Triangle
ORGANIZER;CN="Dina Khalek":MAILTO:dina.khalek@studiotk.com
END:VEVENT
BEGIN:VEVENT
DTSTART;TZID=America/New_York:20230228T163000
DTEND;TZID=America/New_York:20230228T190000
DTSTAMP:20260423T012718
CREATED:20230111T124348Z
LAST-MODIFIED:20230120T023151Z
UID:16528-1677601800-1677610800@www.iida-carolinas.org
SUMMARY:Triangle Student Design Day
DESCRIPTION:
URL:https://www.iida-carolinas.org/event/triangle-student-design-day-save-the-date/
LOCATION:Storr Office Environments\, 10800 World Trade Blvd\, Raleigh\, NC\, 27617\, United States
CATEGORIES:Triangle
ORGANIZER;CN="Dina Khalek":MAILTO:dina.khalek@studiotk.com
END:VEVENT
BEGIN:VEVENT
DTSTART;TZID=America/New_York:20230224T130000
DTEND;TZID=America/New_York:20230226T130000
DTSTAMP:20260423T012718
CREATED:20230112T150411Z
LAST-MODIFIED:20230112T150411Z
UID:16620-1677243600-1677416400@www.iida-carolinas.org
SUMMARY:NCIDQ - Spring Prep Course 2023
DESCRIPTION:
URL:https://www.iida-carolinas.org/event/ncidq-spring-prep-course-2023/
LOCATION:Interior Elements – Charlotte\, 1018 Jay Street\, Suite 210\, Charlotte\, NC\, 28208
CATEGORIES:Charlotte,Coastal,Columbia,Triad,Triangle,Upstate
ORGANIZER;CN="Whitlie Nock":MAILTO:whitlie.nock@mechoshade.com
END:VEVENT
BEGIN:VEVENT
DTSTART;TZID=America/New_York:20221208T180000
DTEND;TZID=America/New_York:20221208T210000
DTSTAMP:20260423T012718
CREATED:20210920T161640Z
LAST-MODIFIED:20221114T170833Z
UID:15279-1670522400-1670533200@www.iida-carolinas.org
SUMMARY:Triangle - Holiday Party
DESCRIPTION: 
URL:https://www.iida-carolinas.org/event/triangle-holiday-party-save-the-date/
LOCATION:decree company\, 135 E. Martin Street\, Raleigh\, NC
CATEGORIES:Triangle
ORGANIZER;CN="Vince Antkiewicz":MAILTO:vantkiewicz@redlinedg.com
END:VEVENT
BEGIN:VEVENT
DTSTART;TZID=America/New_York:20221104T163000
DTEND;TZID=America/New_York:20221104T210000
DTSTAMP:20260423T012718
CREATED:20220916T182835Z
LAST-MODIFIED:20220916T191933Z
UID:16254-1667579400-1667595600@www.iida-carolinas.org
SUMMARY:Carolinas Chapter Fall Forum
DESCRIPTION:
URL:https://www.iida-carolinas.org/event/carolinas-chapter-fall-forum/
LOCATION:The Cotton Room\, 807 E. Main Street Unit 350\, Durham\, NC
CATEGORIES:Charlotte,Coastal,Columbia,IIDA Carolinas,Triad,Triangle,Upstate
ORGANIZER;CN="Whitlie Nock":MAILTO:whitlie.nock@mechoshade.com
END:VEVENT
BEGIN:VEVENT
DTSTART;TZID=America/New_York:20221019T170000
DTEND;TZID=America/New_York:20221019T190000
DTSTAMP:20260423T012718
CREATED:20211028T150030Z
LAST-MODIFIED:20221003T155421Z
UID:15360-1666198800-1666206000@www.iida-carolinas.org
SUMMARY:Triangle - Membership Drive Pumpkins and Partnership
DESCRIPTION:
URL:https://www.iida-carolinas.org/event/triangle-membership-drive-save-the-date/
LOCATION:Bowstring Pizza + Brewyard\, 1930 Wake Forest Rd\, Raleigh\, NC
CATEGORIES:Triangle
ORGANIZER;CN="Dina Khalek":MAILTO:dina.khalek@studiotk.com
END:VEVENT
BEGIN:VEVENT
DTSTART;TZID=America/New_York:20220922T080000
DTEND;TZID=America/New_York:20220922T150000
DTSTAMP:20260423T012718
CREATED:20220408T170817Z
LAST-MODIFIED:20220909T184434Z
UID:15530-1663833600-1663858800@www.iida-carolinas.org
SUMMARY:Triangle Fall CEU Blitz
DESCRIPTION:
URL:https://www.iida-carolinas.org/event/triangle-fall-ceu-save-the-date/
LOCATION:Brock Contract Services\, 1108 Nowell Road\, Raleigh\, NC
CATEGORIES:Triangle
ORGANIZER;CN="Dina Khalek":MAILTO:dina.khalek@studiotk.com
END:VEVENT
BEGIN:VEVENT
DTSTART;TZID=America/New_York:20220811T170000
DTEND;TZID=America/New_York:20220811T190000
DTSTAMP:20260423T012718
CREATED:20211028T145540Z
LAST-MODIFIED:20220713T161537Z
UID:15355-1660237200-1660244400@www.iida-carolinas.org
SUMMARY:Triangle - Summer Social
DESCRIPTION:
URL:https://www.iida-carolinas.org/event/triangle-summer-social-save-the-date/
LOCATION:Hartwell Raleigh\, 620 W South Street\, Raleigh\, NC\, 27603
CATEGORIES:Triangle
END:VEVENT
BEGIN:VEVENT
DTSTART;TZID=America/New_York:20220428T160000
DTEND;TZID=America/New_York:20220428T180000
DTSTAMP:20260423T012718
CREATED:20211028T145318Z
LAST-MODIFIED:20220412T164256Z
UID:15350-1651161600-1651168800@www.iida-carolinas.org
SUMMARY:Triangle - Philanthropic Event at Green Chair Project
DESCRIPTION:
URL:https://www.iida-carolinas.org/event/triangle-philanthropic-event-save-the-date/
LOCATION:The Green Chair Project\, 1853 Capital Blvd\, Raleigh\, NC
CATEGORIES:Triangle
END:VEVENT
BEGIN:VEVENT
DTSTART;TZID=America/New_York:20220331T081500
DTEND;TZID=America/New_York:20220331T100000
DTSTAMP:20260423T012718
CREATED:20220314T173106Z
LAST-MODIFIED:20220314T174608Z
UID:15434-1648714500-1648720800@www.iida-carolinas.org
SUMMARY:Triangle March CEU Breakfast
DESCRIPTION:Breakfast CEU event @ PMC Sunday Drive 1331 Sunday Dr\, Raleigh\, NC 27607 \nTopic: Trends Influencing the Future Workplace \nPresenter: John Scott\, Senior Workplace Design Strategist- Haworth \nSponsored by PMC \nTime: 8:15-9:00am Check in/Networking 9:00am-10:00am Breakfast & CEU \n  \nAIA Course #: HAW100\nProgramming & Analysis/Building Analysis and Programming\nIDCEC Course #: 111150\nSubject Code: 3. Interior Design Education/1. Instruction
URL:https://www.iida-carolinas.org/event/triangle-march-ceu-breakfast/
LOCATION:PMC Raleigh\, 1331 Sunday Drive\, Raleigh\, NC\, 27607
CATEGORIES:Triangle
END:VEVENT
END:VCALENDAR