BEGIN:VCALENDAR
VERSION:2.0
PRODID:-//IIDA Carolinas - ECPv6.15.13//NONSGML v1.0//EN
CALSCALE:GREGORIAN
METHOD:PUBLISH
X-WR-CALNAME:IIDA Carolinas
X-ORIGINAL-URL:https://www.iida-carolinas.org
X-WR-CALDESC:Events for IIDA Carolinas
REFRESH-INTERVAL;VALUE=DURATION:PT1H
X-Robots-Tag:noindex
X-PUBLISHED-TTL:PT1H
BEGIN:VTIMEZONE
TZID:America/New_York
BEGIN:DAYLIGHT
TZOFFSETFROM:-0500
TZOFFSETTO:-0400
TZNAME:EDT
DTSTART:20180311T070000
END:DAYLIGHT
BEGIN:STANDARD
TZOFFSETFROM:-0400
TZOFFSETTO:-0500
TZNAME:EST
DTSTART:20181104T060000
END:STANDARD
BEGIN:DAYLIGHT
TZOFFSETFROM:-0500
TZOFFSETTO:-0400
TZNAME:EDT
DTSTART:20190310T070000
END:DAYLIGHT
BEGIN:STANDARD
TZOFFSETFROM:-0400
TZOFFSETTO:-0500
TZNAME:EST
DTSTART:20191103T060000
END:STANDARD
BEGIN:DAYLIGHT
TZOFFSETFROM:-0500
TZOFFSETTO:-0400
TZNAME:EDT
DTSTART:20200308T070000
END:DAYLIGHT
BEGIN:STANDARD
TZOFFSETFROM:-0400
TZOFFSETTO:-0500
TZNAME:EST
DTSTART:20201101T060000
END:STANDARD
BEGIN:DAYLIGHT
TZOFFSETFROM:-0500
TZOFFSETTO:-0400
TZNAME:EDT
DTSTART:20210314T070000
END:DAYLIGHT
BEGIN:STANDARD
TZOFFSETFROM:-0400
TZOFFSETTO:-0500
TZNAME:EST
DTSTART:20211107T060000
END:STANDARD
BEGIN:DAYLIGHT
TZOFFSETFROM:-0500
TZOFFSETTO:-0400
TZNAME:EDT
DTSTART:20220313T070000
END:DAYLIGHT
BEGIN:STANDARD
TZOFFSETFROM:-0400
TZOFFSETTO:-0500
TZNAME:EST
DTSTART:20221106T060000
END:STANDARD
BEGIN:DAYLIGHT
TZOFFSETFROM:-0500
TZOFFSETTO:-0400
TZNAME:EDT
DTSTART:20230312T070000
END:DAYLIGHT
BEGIN:STANDARD
TZOFFSETFROM:-0400
TZOFFSETTO:-0500
TZNAME:EST
DTSTART:20231105T060000
END:STANDARD
END:VTIMEZONE
BEGIN:VEVENT
DTSTART;TZID=America/New_York:20220217T163000
DTEND;TZID=America/New_York:20220217T190000
DTSTAMP:20260423T052207
CREATED:20211028T144958Z
LAST-MODIFIED:20220121T201145Z
UID:15343-1645115400-1645124400@www.iida-carolinas.org
SUMMARY:Triangle - Student Design Day
DESCRIPTION:We have a great list of Professionals Signed up to review portfolios!  Looking forward to seeing the talent from the students! \n 
URL:https://www.iida-carolinas.org/event/triangle-student-design-days/
LOCATION:Storr Office Environments\, 10800 World Trade Blvd\, Raleigh\, NC\, 27617\, United States
CATEGORIES:Triangle
END:VEVENT
BEGIN:VEVENT
DTSTART;TZID=America/New_York:20211208T180000
DTEND;TZID=America/New_York:20211208T210000
DTSTAMP:20260423T052207
CREATED:20211028T150148Z
LAST-MODIFIED:20211118T205257Z
UID:15362-1638986400-1638997200@www.iida-carolinas.org
SUMMARY:Triangle - Holiday Party
DESCRIPTION:Join us for a special Holiday Party as we celebrate the year end\, and come together for a great cause! This year\, we will be hosting a Wreath Competition + Silent Auction. All funds will be donated to a local cause.
URL:https://www.iida-carolinas.org/event/triangle-holiday-party-save-the-date-2/
LOCATION:CAM Raleigh\, 409 W. Martin Street\, Raleigh\, NC\, 27603\, United States
CATEGORIES:Triangle
END:VEVENT
BEGIN:VEVENT
DTSTART;TZID=America/New_York:20211112T150000
DTEND;TZID=America/New_York:20211112T193000
DTSTAMP:20260423T052207
CREATED:20211020T214043Z
LAST-MODIFIED:20211020T214224Z
UID:15334-1636729200-1636745400@www.iida-carolinas.org
SUMMARY:IIDA Carolinas Fall Forum
DESCRIPTION:
URL:https://www.iida-carolinas.org/event/iida-carolinas-fall-forum/
LOCATION:Congdon Yards\, High Point\, NC
CATEGORIES:Charlotte,Coastal,Columbia,IIDA Carolinas,Multiple Centers,Triad,Triangle,Upstate
END:VEVENT
BEGIN:VEVENT
DTSTART;TZID=America/New_York:20211028T170000
DTEND;TZID=America/New_York:20211028T193000
DTSTAMP:20260423T052207
CREATED:20210920T161912Z
LAST-MODIFIED:20211014T144522Z
UID:15284-1635440400-1635449400@www.iida-carolinas.org
SUMMARY:Triangle - Harvest Fest
DESCRIPTION:
URL:https://www.iida-carolinas.org/event/triangle-harvest-fest-save-the-date/
LOCATION:Raleigh Beer Garden\, 614 Glenwood Ave\, Raleigh\, NC\, 27603\, United States
CATEGORIES:Triangle
END:VEVENT
BEGIN:VEVENT
DTSTART;TZID=America/New_York:20210922T090000
DTEND;TZID=America/New_York:20210922T150000
DTSTAMP:20260423T052207
CREATED:20211028T145912Z
LAST-MODIFIED:20211028T145912Z
UID:15357-1632301200-1632322800@www.iida-carolinas.org
SUMMARY:Triangle - September CEU Blitz - Save the Date!
DESCRIPTION:Mark your calendars and stay tuned for more info to come!
URL:https://www.iida-carolinas.org/event/triangle-september-ceu-blitz-save-the-date/
LOCATION:NC
CATEGORIES:Triangle
END:VEVENT
BEGIN:VEVENT
DTSTART;TZID=America/New_York:20210921T120000
DTEND;TZID=America/New_York:20210921T130000
DTSTAMP:20260423T052207
CREATED:20210920T160333Z
LAST-MODIFIED:20210920T170330Z
UID:15271-1632225600-1632229200@www.iida-carolinas.org
SUMMARY:Triangle Virtual CEU: Discovery Dilemma
DESCRIPTION:
URL:https://www.iida-carolinas.org/event/triangle-virtual-ceu-discovery-dilemna/
LOCATION:NC
CATEGORIES:Triangle
END:VEVENT
BEGIN:VEVENT
DTSTART;TZID=America/New_York:20210820T163000
DTEND;TZID=America/New_York:20210820T230000
DTSTAMP:20260423T052207
CREATED:20210618T180826Z
LAST-MODIFIED:20210714T210706Z
UID:14643-1629477000-1629500400@www.iida-carolinas.org
SUMMARY:Designworks 2021
DESCRIPTION:
URL:https://www.iida-carolinas.org/event/designworks-2021-save-the-date/
LOCATION:Byron’s South End\, 101 Worthington Ave.\, Charlotte\, NC\, 28203\, United States
CATEGORIES:Campus Centers,Charlotte,Coastal,Columbia,IIDA Carolinas,Multiple Centers,Triad,Triangle,Upstate
ORGANIZER;CN="Whitlie Nock":MAILTO:whitlie.nock@mechoshade.com
END:VEVENT
BEGIN:VEVENT
DTSTART;TZID=America/New_York:20210813T080000
DTEND;TZID=America/New_York:20210815T170000
DTSTAMP:20260423T052207
CREATED:20210714T210546Z
LAST-MODIFIED:20210714T210625Z
UID:14662-1628841600-1629046800@www.iida-carolinas.org
SUMMARY:NCIDQ Fall Prep Course
DESCRIPTION:
URL:https://www.iida-carolinas.org/event/ncidq-fall-prep-course/
LOCATION:Interior Elements – Raleigh\, 621 Hillsborough Street Suite 201\, Raleigh\, NC\, 27603\, United States
CATEGORIES:Charlotte,Coastal,Columbia,IIDA Carolinas,Multiple Centers,Triad,Triangle,Upstate
ORGANIZER;CN="Whitlie Nock":MAILTO:whitlie.nock@mechoshade.com
END:VEVENT
BEGIN:VEVENT
DTSTART;TZID=America/New_York:20210812T180000
DTEND;TZID=America/New_York:20210812T210000
DTSTAMP:20260423T052207
CREATED:20210702T150146Z
LAST-MODIFIED:20210702T150146Z
UID:14645-1628791200-1628802000@www.iida-carolinas.org
SUMMARY:Triangle - Art by Design and Summer Social
DESCRIPTION:
URL:https://www.iida-carolinas.org/event/triangle-art-by-design-and-summer-social/
LOCATION:2 Hillsborough Amenties Suite\, 621 Hillsborough Street\, Raleigh\, NC\, 27603\, United States
CATEGORIES:Triangle
END:VEVENT
BEGIN:VEVENT
DTSTART;TZID=America/New_York:20210318T120000
DTEND;TZID=America/New_York:20210318T130000
DTSTAMP:20260423T052207
CREATED:20210301T225202Z
LAST-MODIFIED:20210302T145903Z
UID:14547-1616068800-1616072400@www.iida-carolinas.org
SUMMARY:Triangle - Spring Virtual CEU
DESCRIPTION:Please join us for our 2021 March CEU on the WELL Building Standard and how floor covering impacts Health and Well-Being. \nPresented by Milliken
URL:https://www.iida-carolinas.org/event/triangle-spring-virtual-ceu/
LOCATION:NC
CATEGORIES:Triangle
END:VEVENT
BEGIN:VEVENT
DTSTART;TZID=America/New_York:20210216T163000
DTEND;TZID=America/New_York:20210216T183000
DTSTAMP:20260423T052207
CREATED:20210211T164719Z
LAST-MODIFIED:20210211T164719Z
UID:14462-1613493000-1613500200@www.iida-carolinas.org
SUMMARY:Triangle - Student Virtual Portfolio Reviews
DESCRIPTION:
URL:https://www.iida-carolinas.org/event/triangle-student-virtual-portfolio-reviews/
LOCATION:NC
CATEGORIES:Triangle
END:VEVENT
BEGIN:VEVENT
DTSTART;TZID=America/New_York:20201020T160000
DTEND;TZID=America/New_York:20201020T190000
DTSTAMP:20260423T052207
CREATED:20200916T154150Z
LAST-MODIFIED:20201006T190230Z
UID:13943-1603209600-1603220400@www.iida-carolinas.org
SUMMARY:Triangle - Trunk or Treat Vender Show
DESCRIPTION:Join us for a vendor show to share the latest products and fun from our benefactors. There will also be pumpkin decorating\, membership sign up\, a vendor scavenger hunt and halloween fun!  We hope you can join us!
URL:https://www.iida-carolinas.org/event/triangle-save-the-date-trunk-or-treat-vender-show/
LOCATION:Storr Office Environments\, 10800 World Trade Blvd\, Raleigh\, NC\, 27617\, United States
CATEGORIES:Triangle
END:VEVENT
BEGIN:VEVENT
DTSTART;TZID=America/New_York:20200922T140000
DTEND;TZID=America/New_York:20200922T153000
DTSTAMP:20260423T052207
CREATED:20200916T145309Z
LAST-MODIFIED:20200916T145309Z
UID:13913-1600783200-1600788600@www.iida-carolinas.org
SUMMARY:Triangle CEU - Scandinavian Design
DESCRIPTION:
URL:https://www.iida-carolinas.org/event/triangle-ceu-scandinavian-design/
LOCATION:NC
CATEGORIES:Triangle
ORGANIZER;CN="Kimberly Clancy":MAILTO:kimberly.mott@in-elements.com
END:VEVENT
BEGIN:VEVENT
DTSTART;TZID=America/New_York:20200827T191500
DTEND;TZID=America/New_York:20200827T203000
DTSTAMP:20260423T052207
CREATED:20191030T222204Z
LAST-MODIFIED:20200827T151558Z
UID:13499-1598555700-1598560200@www.iida-carolinas.org
SUMMARY:DesignWorks 2020: Virtual Awards Show
DESCRIPTION:We hope that you’ll join us for another exciting IIDA Carolinas DesignWorks Awards + Forum Event. This year\, the event will be virtual. \nWatch live here: \n\nDESIGNWORKS 2020 \n\nTune into a watch party here: \nhttps://us02web.zoom.us/j/85810326908?pwd=QmNYUmZOUzdQU1R0bHhLVHpOMC9MQT09#success \nAnd use the password: watchparty \n 
URL:https://www.iida-carolinas.org/event/designworks-2020/
LOCATION:NC\, United States
CATEGORIES:Charlotte,Coastal,Columbia,IIDA Carolinas,Multiple Centers,Triad,Triangle,Upstate
ATTACH;FMTTYPE=image/jpeg:https://www.iida-carolinas.org/wp-content/uploads/2020/04/IIDA-2020_Register-To-Attend_V7-scaled.jpg
END:VEVENT
BEGIN:VEVENT
DTSTART;VALUE=DATE:20200501
DTEND;VALUE=DATE:20200502
DTSTAMP:20260423T052207
CREATED:20200311T191014Z
LAST-MODIFIED:20200311T191014Z
UID:13631-1588291200-1588377599@www.iida-carolinas.org
SUMMARY:Art By Design
DESCRIPTION:We are searching for designers and industry members to display their artistic talents and enter their works of art for our silent auction and/or People’s Choice competition. Entries to be submitted the day of the event. People’s Choice categories for Photography\, Sculpture\, Painting & Mixed Media.
URL:https://www.iida-carolinas.org/event/art-by-design/
LOCATION:The Stockroom at 230\, 230 Fayetteville Street\, 2nd Floor\, Raleigh\, NC\, 27601\, United States
CATEGORIES:Triangle
ATTACH;FMTTYPE=image/png:https://www.iida-carolinas.org/wp-content/uploads/2020/03/IIDA-art-by-design-2020.png
END:VEVENT
BEGIN:VEVENT
DTSTART;TZID=America/New_York:20200318T173000
DTEND;TZID=America/New_York:20200318T200000
DTSTAMP:20260423T052207
CREATED:20200318T003517Z
LAST-MODIFIED:20200318T113622Z
UID:13658-1584552600-1584561600@www.iida-carolinas.org
SUMMARY:Triangle March CEU - CANCELED
DESCRIPTION:This event has been canceled. \nDue to current COVID-19 related health concerns the March 18 CEU hosted by IIDA\, Allsteel & Interior Elements has been cancelled.
URL:https://www.iida-carolinas.org/event/triangle-march-ceu/
LOCATION:NC
CATEGORIES:Triangle
END:VEVENT
BEGIN:VEVENT
DTSTART;TZID=America/New_York:20200211T160000
DTEND;TZID=America/New_York:20200211T183000
DTSTAMP:20260423T052207
CREATED:20200114T193513Z
LAST-MODIFIED:20200114T193724Z
UID:13550-1581436800-1581445800@www.iida-carolinas.org
SUMMARY:Design Days 2020 - Triangle
DESCRIPTION:Join the IIDA Triangle City Center for portfolio review sessions – speed dating style! Raleigh’s top design professionals will be on hand to review students’ design portfolios. Mingle with your peers\, designers and sales professionals. We will raffle two IIDA 2020 Student Memberships! Registration desk opens at 4:00 and event will begin at 4:30. \nRegister NOW!
URL:https://www.iida-carolinas.org/event/design-days-2020/
LOCATION:Bonitz\, 10701 World Trade Blvd\, Raleigh\, NC\, 27617\, United States
CATEGORIES:Triangle
ATTACH;FMTTYPE=image/jpeg:https://www.iida-carolinas.org/wp-content/uploads/2020/01/iida-portfolio-reviews.jpg
END:VEVENT
BEGIN:VEVENT
DTSTART;VALUE=DATE:20200114
DTEND;VALUE=DATE:20200115
DTSTAMP:20260423T052207
CREATED:20200114T195010Z
LAST-MODIFIED:20200114T195010Z
UID:13561-1578960000-1579046399@www.iida-carolinas.org
SUMMARY:IIDA 2020 Student Mentoring Registration
DESCRIPTION:The IIDA Student Mentoring Program is one of the most dynamic student/mentor programs in the interior design industry. Throughout the country\, IIDA pairs more than 1\,000 students and mentors\, taking students out of the classroom and placing them into the world of interior design for a day of job shadowing in March 2020. You must be an IIDA Student Member to participate. Please note: Students and mentors are responsible for setting up a date in March for their mentoring session. \nOn Monday\, February 10\, 2020\, IIDA will provide you with information regarding your match. \n  \nLast day to Register is Friday\, January 31\, 2020!
URL:https://www.iida-carolinas.org/event/iida-2020-student-mentoring-registration/
LOCATION:NC
CATEGORIES:Campus Centers,Charlotte,Coastal,Columbia,Multiple Centers,Triad,Triangle,Upstate
ATTACH;FMTTYPE=image/png:https://www.iida-carolinas.org/wp-content/uploads/2020/01/mentoring.png
END:VEVENT
BEGIN:VEVENT
DTSTART;TZID=America/New_York:20191210T173000
DTEND;TZID=America/New_York:20191210T210000
DTSTAMP:20260423T052207
CREATED:20191001T154619Z
LAST-MODIFIED:20191205T225057Z
UID:13433-1575999000-1576011600@www.iida-carolinas.org
SUMMARY:Holiday Party - Triangle
DESCRIPTION:Join us at Cantina 18 in Cameron Village for our annual holiday party!
URL:https://www.iida-carolinas.org/event/holiday-party-triangle/
LOCATION:Cantina 18\, 433 Daniels St\, Raleigh\, NC\, 27605\, United States
CATEGORIES:IIDA Carolinas,Triangle
ATTACH;FMTTYPE=image/jpeg:https://www.iida-carolinas.org/wp-content/uploads/2019/10/unnamed.jpg
END:VEVENT
BEGIN:VEVENT
DTSTART;VALUE=DATE:20191025
DTEND;VALUE=DATE:20191026
DTSTAMP:20260423T052207
CREATED:20191001T152102Z
LAST-MODIFIED:20191018T154612Z
UID:13414-1571961600-1572047999@www.iida-carolinas.org
SUMMARY:Healthcare Forum
DESCRIPTION:Join us for the Healthcare Forum! Our CEU this year will be : “FleXX: A Framework for Flexibility\, Tested in Practice” by Annette Klaus ! \nDuring this event we will also be offering FREE headshots! \nRegister today! \nThe Venue\n21 N Market St\nAsheville\, NC 28801
URL:https://www.iida-carolinas.org/event/fall-forum/
LOCATION:The Venue\, 21 N Market Street\, Asheville\, NC\, 28801\, United States
CATEGORIES:Charlotte,Coastal,Columbia,IIDA Carolinas,Multiple Centers,Triad,Triangle,Upstate
ATTACH;FMTTYPE=image/png:https://www.iida-carolinas.org/wp-content/uploads/2019/09/Register_Updated_10012019.png
END:VEVENT
END:VCALENDAR