BEGIN:VCALENDAR
VERSION:2.0
PRODID:-//IIDA Carolinas - ECPv6.15.13//NONSGML v1.0//EN
CALSCALE:GREGORIAN
METHOD:PUBLISH
X-ORIGINAL-URL:https://www.iida-carolinas.org
X-WR-CALDESC:Events for IIDA Carolinas
REFRESH-INTERVAL;VALUE=DURATION:PT1H
X-Robots-Tag:noindex
X-PUBLISHED-TTL:PT1H
BEGIN:VTIMEZONE
TZID:America/New_York
BEGIN:DAYLIGHT
TZOFFSETFROM:-0500
TZOFFSETTO:-0400
TZNAME:EDT
DTSTART:20230312T070000
END:DAYLIGHT
BEGIN:STANDARD
TZOFFSETFROM:-0400
TZOFFSETTO:-0500
TZNAME:EST
DTSTART:20231105T060000
END:STANDARD
BEGIN:DAYLIGHT
TZOFFSETFROM:-0500
TZOFFSETTO:-0400
TZNAME:EDT
DTSTART:20240310T070000
END:DAYLIGHT
BEGIN:STANDARD
TZOFFSETFROM:-0400
TZOFFSETTO:-0500
TZNAME:EST
DTSTART:20241103T060000
END:STANDARD
BEGIN:DAYLIGHT
TZOFFSETFROM:-0500
TZOFFSETTO:-0400
TZNAME:EDT
DTSTART:20250309T070000
END:DAYLIGHT
BEGIN:STANDARD
TZOFFSETFROM:-0400
TZOFFSETTO:-0500
TZNAME:EST
DTSTART:20251102T060000
END:STANDARD
END:VTIMEZONE
BEGIN:VEVENT
DTSTART;TZID=America/New_York:20240516T160000
DTEND;TZID=America/New_York:20240516T190000
DTSTAMP:20260424T114930
CREATED:20240226T175403Z
LAST-MODIFIED:20240411T212330Z
UID:18103-1715875200-1715886000@www.iida-carolinas.org
SUMMARY:Upstate- Philanthropic Event- Register Now!
DESCRIPTION:We are ready for another year of fun and fellowship for a great cause. Will last year’s winners reign victorious yet again? \nGather your teams of six and decide on a theme or costume for your bay. This year\, we will have an extra hour of networking prior to teeing off at 5:00pm sharp! \nWe will have prizes for: \n\nBest overall team\nBest individual player\nBest team theme or costume\nLongest Drive winner\nClosest to the Pin winner\nHole-in-One Putting Challenge winner\n\nAll player registration includes entry into the Longest Drive and Closest to the Pin contests. The Hole-in-One Putting Challenge is an “add on” item for players to enter and an opportunity to raise more funds for Donate Life SC. \nWe encourage you to register as a team\, as we cannot guarantee pairings for individuals. If you have questions or need a split invoice\, please reach out to Shannon Mckenzie: smckenzie@youngoffice.com
URL:https://www.iida-carolinas.org/event/upstate-philanthropic-event-save-the-date/
LOCATION:TopGolf Greenville\, 201 Clifton Ct.
CATEGORIES:Upstate,Volunteer
END:VEVENT
END:VCALENDAR