BEGIN:VCALENDAR
VERSION:2.0
PRODID:-//IIDA Carolinas - ECPv6.15.13//NONSGML v1.0//EN
CALSCALE:GREGORIAN
METHOD:PUBLISH
X-WR-CALNAME:IIDA Carolinas
X-ORIGINAL-URL:https://www.iida-carolinas.org
X-WR-CALDESC:Events for IIDA Carolinas
REFRESH-INTERVAL;VALUE=DURATION:PT1H
X-Robots-Tag:noindex
X-PUBLISHED-TTL:PT1H
BEGIN:VTIMEZONE
TZID:America/New_York
BEGIN:DAYLIGHT
TZOFFSETFROM:-0500
TZOFFSETTO:-0400
TZNAME:EDT
DTSTART:20230312T070000
END:DAYLIGHT
BEGIN:STANDARD
TZOFFSETFROM:-0400
TZOFFSETTO:-0500
TZNAME:EST
DTSTART:20231105T060000
END:STANDARD
BEGIN:DAYLIGHT
TZOFFSETFROM:-0500
TZOFFSETTO:-0400
TZNAME:EDT
DTSTART:20240310T070000
END:DAYLIGHT
BEGIN:STANDARD
TZOFFSETFROM:-0400
TZOFFSETTO:-0500
TZNAME:EST
DTSTART:20241103T060000
END:STANDARD
BEGIN:DAYLIGHT
TZOFFSETFROM:-0500
TZOFFSETTO:-0400
TZNAME:EDT
DTSTART:20250309T070000
END:DAYLIGHT
BEGIN:STANDARD
TZOFFSETFROM:-0400
TZOFFSETTO:-0500
TZNAME:EST
DTSTART:20251102T060000
END:STANDARD
END:VTIMEZONE
BEGIN:VEVENT
DTSTART;TZID=America/New_York:20240820T160000
DTEND;TZID=America/New_York:20240820T180000
DTSTAMP:20260424T061328
CREATED:20240226T175850Z
LAST-MODIFIED:20240807T132849Z
UID:18115-1724169600-1724176800@www.iida-carolinas.org
SUMMARY:Upstate- Summer Social- Register Here!
DESCRIPTION:Summer Social with CREW Greenville & IIDA Carolinas | Upstate City Center\nJoin members from CREW Greenville & IIDA Carolinas | Upstate City Center for this year’s Summer Social at Up on the Roof. REGISTER EARLY – SPACE IS LIMITED! Sponsorships are available on the registration page\n 
URL:https://www.iida-carolinas.org/event/upstate-summer-social-save-the-date-3/
LOCATION:Up on the Roof\, 250 Riverplace\, Greenville\, SC\, 29601\, United States
CATEGORIES:Upstate
ORGANIZER;CN="Hope Williams":MAILTO:hope.williams@cbi-sc.com
END:VEVENT
END:VCALENDAR