BEGIN:VCALENDAR
VERSION:2.0
PRODID:-//IIDA Carolinas - ECPv6.15.13//NONSGML v1.0//EN
CALSCALE:GREGORIAN
METHOD:PUBLISH
X-ORIGINAL-URL:https://www.iida-carolinas.org
X-WR-CALDESC:Events for IIDA Carolinas
REFRESH-INTERVAL;VALUE=DURATION:PT1H
X-Robots-Tag:noindex
X-PUBLISHED-TTL:PT1H
BEGIN:VTIMEZONE
TZID:America/New_York
BEGIN:DAYLIGHT
TZOFFSETFROM:-0500
TZOFFSETTO:-0400
TZNAME:EDT
DTSTART:20220313T070000
END:DAYLIGHT
BEGIN:STANDARD
TZOFFSETFROM:-0400
TZOFFSETTO:-0500
TZNAME:EST
DTSTART:20221106T060000
END:STANDARD
BEGIN:DAYLIGHT
TZOFFSETFROM:-0500
TZOFFSETTO:-0400
TZNAME:EDT
DTSTART:20230312T070000
END:DAYLIGHT
BEGIN:STANDARD
TZOFFSETFROM:-0400
TZOFFSETTO:-0500
TZNAME:EST
DTSTART:20231105T060000
END:STANDARD
BEGIN:DAYLIGHT
TZOFFSETFROM:-0500
TZOFFSETTO:-0400
TZNAME:EDT
DTSTART:20240310T070000
END:DAYLIGHT
BEGIN:STANDARD
TZOFFSETFROM:-0400
TZOFFSETTO:-0500
TZNAME:EST
DTSTART:20241103T060000
END:STANDARD
END:VTIMEZONE
BEGIN:VEVENT
DTSTART;VALUE=DATE:20230413
DTEND;VALUE=DATE:20230414
DTSTAMP:20260425T072708
CREATED:20230111T125201Z
LAST-MODIFIED:20230328T205109Z
UID:16534-1681344000-1681430399@www.iida-carolinas.org
SUMMARY:Charlotte -Philanthropic Event - Save the Date!
DESCRIPTION:More info to come!
URL:https://www.iida-carolinas.org/event/charlotte-philanthropic-event-save-the-date/
LOCATION:NC
CATEGORIES:Charlotte,Volunteer
ORGANIZER;CN="Amanda Bingham":MAILTO:amanda.bingham@in-elements.com
END:VEVENT
BEGIN:VEVENT
DTSTART;VALUE=DATE:20230419
DTEND;VALUE=DATE:20230420
DTSTAMP:20260425T072708
CREATED:20230111T132618Z
LAST-MODIFIED:20230328T205140Z
UID:16582-1681862400-1681948799@www.iida-carolinas.org
SUMMARY:Coastal -  Philanthropic Event - Save the Date!
DESCRIPTION:More info to come!
URL:https://www.iida-carolinas.org/event/coastal-philanthropic-event-save-the-date-2/
LOCATION:NC
CATEGORIES:Coastal,Volunteer
ORGANIZER;CN="Avonlea Denny":MAILTO:adenney@hitt-gc.com
END:VEVENT
BEGIN:VEVENT
DTSTART;VALUE=DATE:20230420
DTEND;VALUE=DATE:20230421
DTSTAMP:20260425T072708
CREATED:20230111T130026Z
LAST-MODIFIED:20230328T205216Z
UID:16544-1681948800-1682035199@www.iida-carolinas.org
SUMMARY:Triad - Philanthropic Event - Save the Date!
DESCRIPTION:more info to come!
URL:https://www.iida-carolinas.org/event/triad-philanthropic-event-save-the-date-2/
LOCATION:NC
CATEGORIES:Triad,Volunteer
ORGANIZER;CN="Martha Lawrence":MAILTO:martha_lawrence@hermanmiller.com
END:VEVENT
BEGIN:VEVENT
DTSTART;VALUE=DATE:20230427
DTEND;VALUE=DATE:20230428
DTSTAMP:20260425T072708
CREATED:20230111T131843Z
LAST-MODIFIED:20230328T205300Z
UID:16567-1682553600-1682639999@www.iida-carolinas.org
SUMMARY:Columbia - Philanthropic Event - Save the Date!
DESCRIPTION:More info to come!
URL:https://www.iida-carolinas.org/event/columbia-philanthropic-event-save-the-date-2/
LOCATION:NC
CATEGORIES:Columbia,Volunteer
ORGANIZER;CN="Jimmy Wall":MAILTO:columbia.citycenter@gmail.com
END:VEVENT
BEGIN:VEVENT
DTSTART;TZID=America/New_York:20230427T180000
DTEND;TZID=America/New_York:20230427T200000
DTSTAMP:20260425T072708
CREATED:20230111T131035Z
LAST-MODIFIED:20230328T205333Z
UID:16555-1682618400-1682625600@www.iida-carolinas.org
SUMMARY:Triangle - Philanthropic Event - Product Runway
DESCRIPTION:
URL:https://www.iida-carolinas.org/event/triangle-philanthropic-event-save-the-date-2/
LOCATION:Coverings NC\, 8004 Winchester Drive\, Raleigh\, NC
CATEGORIES:Triangle,Volunteer
ORGANIZER;CN="Dina Khalek":MAILTO:dina.khalek@studiotk.com
END:VEVENT
END:VCALENDAR