BEGIN:VCALENDAR
VERSION:2.0
PRODID:-//IIDA Carolinas - ECPv6.15.13//NONSGML v1.0//EN
CALSCALE:GREGORIAN
METHOD:PUBLISH
X-ORIGINAL-URL:https://www.iida-carolinas.org
X-WR-CALDESC:Events for IIDA Carolinas
REFRESH-INTERVAL;VALUE=DURATION:PT1H
X-Robots-Tag:noindex
X-PUBLISHED-TTL:PT1H
BEGIN:VTIMEZONE
TZID:America/New_York
BEGIN:DAYLIGHT
TZOFFSETFROM:-0500
TZOFFSETTO:-0400
TZNAME:EDT
DTSTART:20250309T070000
END:DAYLIGHT
BEGIN:STANDARD
TZOFFSETFROM:-0400
TZOFFSETTO:-0500
TZNAME:EST
DTSTART:20251102T060000
END:STANDARD
BEGIN:DAYLIGHT
TZOFFSETFROM:-0500
TZOFFSETTO:-0400
TZNAME:EDT
DTSTART:20260308T070000
END:DAYLIGHT
BEGIN:STANDARD
TZOFFSETFROM:-0400
TZOFFSETTO:-0500
TZNAME:EST
DTSTART:20261101T060000
END:STANDARD
BEGIN:DAYLIGHT
TZOFFSETFROM:-0500
TZOFFSETTO:-0400
TZNAME:EDT
DTSTART:20270314T070000
END:DAYLIGHT
BEGIN:STANDARD
TZOFFSETFROM:-0400
TZOFFSETTO:-0500
TZNAME:EST
DTSTART:20271107T060000
END:STANDARD
END:VTIMEZONE
BEGIN:VEVENT
DTSTART;VALUE=DATE:20260730
DTEND;VALUE=DATE:20260731
DTSTAMP:20260423T010039
CREATED:20260126T140332Z
LAST-MODIFIED:20260126T140332Z
UID:20638-1785369600-1785455999@www.iida-carolinas.org
SUMMARY:Triangle- Summer Social- Save the Date!
DESCRIPTION:More Information the Follow!
URL:https://www.iida-carolinas.org/event/triangle-summer-social-save-the-date-5/
LOCATION:NC
CATEGORIES:Triangle
END:VEVENT
BEGIN:VEVENT
DTSTART;VALUE=DATE:20260827
DTEND;VALUE=DATE:20260828
DTSTAMP:20260423T010039
CREATED:20260401T175222Z
LAST-MODIFIED:20260401T175222Z
UID:20772-1787788800-1787875199@www.iida-carolinas.org
SUMMARY:Upstate- Summer Social- Save the Date!
DESCRIPTION:More Information to Follow!
URL:https://www.iida-carolinas.org/event/upstate-summer-social-save-the-date-5/
LOCATION:NC
CATEGORIES:Upstate
END:VEVENT
BEGIN:VEVENT
DTSTART;VALUE=DATE:20260915
DTEND;VALUE=DATE:20260916
DTSTAMP:20260423T010039
CREATED:20260126T140433Z
LAST-MODIFIED:20260326T180217Z
UID:20640-1789430400-1789516799@www.iida-carolinas.org
SUMMARY:Triangle- CEU Blitz- Save the Date!
DESCRIPTION:More Information to Follow!
URL:https://www.iida-carolinas.org/event/triangle-ceu-blitz-save-the-date/
LOCATION:NC
CATEGORIES:Triangle
END:VEVENT
BEGIN:VEVENT
DTSTART;VALUE=DATE:20260916
DTEND;VALUE=DATE:20260917
DTSTAMP:20260423T010039
CREATED:20260126T141244Z
LAST-MODIFIED:20260126T141244Z
UID:20652-1789516800-1789603199@www.iida-carolinas.org
SUMMARY:Charlotte- Fall CEU- Save the Date!
DESCRIPTION:More Information to Follow!
URL:https://www.iida-carolinas.org/event/charlotte-fall-ceu-save-the-date-6/
LOCATION:NC
CATEGORIES:Charlotte
END:VEVENT
BEGIN:VEVENT
DTSTART;VALUE=DATE:20261021
DTEND;VALUE=DATE:20261022
DTSTAMP:20260423T010039
CREATED:20260126T141331Z
LAST-MODIFIED:20260126T141809Z
UID:20654-1792540800-1792627199@www.iida-carolinas.org
SUMMARY:Charlotte- Membership Event- Save the Date!
DESCRIPTION:More Information to Follow!
URL:https://www.iida-carolinas.org/event/charlotte-membership-event-save-the-date/
LOCATION:NC
CATEGORIES:Charlotte
END:VEVENT
BEGIN:VEVENT
DTSTART;VALUE=DATE:20261022
DTEND;VALUE=DATE:20261023
DTSTAMP:20260423T010039
CREATED:20260126T140527Z
LAST-MODIFIED:20260126T140527Z
UID:20642-1792627200-1792713599@www.iida-carolinas.org
SUMMARY:Triangle- Membership Drive- Save the Date!
DESCRIPTION:More Information to Follow!
URL:https://www.iida-carolinas.org/event/triangle-membership-drive-save-the-date-4/
LOCATION:NC
CATEGORIES:Triangle
END:VEVENT
BEGIN:VEVENT
DTSTART;VALUE=DATE:20261106
DTEND;VALUE=DATE:20261107
DTSTAMP:20260423T010039
CREATED:20260421T141824Z
LAST-MODIFIED:20260421T141852Z
UID:20780-1793923200-1794009599@www.iida-carolinas.org
SUMMARY:Chapter Wide Event- Fall Forum 2026; Save the Date!
DESCRIPTION:
URL:https://www.iida-carolinas.org/event/chapter-wide-event-fall-forum-2026-save-the-date/
LOCATION:Holl and Stone Farms\, 920 Buffaloe Rd.\, Garner\, NC\, 27529\, United States
CATEGORIES:IIDA Carolinas
END:VEVENT
BEGIN:VEVENT
DTSTART;VALUE=DATE:20261202
DTEND;VALUE=DATE:20261203
DTSTAMP:20260423T010039
CREATED:20260126T141413Z
LAST-MODIFIED:20260126T141413Z
UID:20656-1796169600-1796255999@www.iida-carolinas.org
SUMMARY:Charlotte- Holiday Party- Save the Date!
DESCRIPTION:More Information the Follow!
URL:https://www.iida-carolinas.org/event/charlotte-holiday-party-save-the-date-4/
LOCATION:NC
CATEGORIES:Charlotte
END:VEVENT
BEGIN:VEVENT
DTSTART;VALUE=DATE:20261203
DTEND;VALUE=DATE:20261204
DTSTAMP:20260423T010039
CREATED:20260126T140621Z
LAST-MODIFIED:20260126T140621Z
UID:20644-1796256000-1796342399@www.iida-carolinas.org
SUMMARY:Triangle- Holiday Party- Save the Date!
DESCRIPTION:More Information to Follow!
URL:https://www.iida-carolinas.org/event/triangle-holiday-party-save-the-date-5/
LOCATION:NC
CATEGORIES:Triangle
END:VEVENT
END:VCALENDAR