BEGIN:VCALENDAR
VERSION:2.0
PRODID:-//IIDA Carolinas - ECPv6.15.13//NONSGML v1.0//EN
CALSCALE:GREGORIAN
METHOD:PUBLISH
X-WR-CALNAME:IIDA Carolinas
X-ORIGINAL-URL:https://www.iida-carolinas.org
X-WR-CALDESC:Events for IIDA Carolinas
REFRESH-INTERVAL;VALUE=DURATION:PT1H
X-Robots-Tag:noindex
X-PUBLISHED-TTL:PT1H
BEGIN:VTIMEZONE
TZID:America/New_York
BEGIN:DAYLIGHT
TZOFFSETFROM:-0500
TZOFFSETTO:-0400
TZNAME:EDT
DTSTART:20210314T070000
END:DAYLIGHT
BEGIN:STANDARD
TZOFFSETFROM:-0400
TZOFFSETTO:-0500
TZNAME:EST
DTSTART:20211107T060000
END:STANDARD
BEGIN:DAYLIGHT
TZOFFSETFROM:-0500
TZOFFSETTO:-0400
TZNAME:EDT
DTSTART:20220313T070000
END:DAYLIGHT
BEGIN:STANDARD
TZOFFSETFROM:-0400
TZOFFSETTO:-0500
TZNAME:EST
DTSTART:20221106T060000
END:STANDARD
BEGIN:DAYLIGHT
TZOFFSETFROM:-0500
TZOFFSETTO:-0400
TZNAME:EDT
DTSTART:20230312T070000
END:DAYLIGHT
BEGIN:STANDARD
TZOFFSETFROM:-0400
TZOFFSETTO:-0500
TZNAME:EST
DTSTART:20231105T060000
END:STANDARD
END:VTIMEZONE
BEGIN:VEVENT
DTSTART;TZID=America/New_York:20221215T180000
DTEND;TZID=America/New_York:20221215T220000
DTSTAMP:20260424T103457
CREATED:20220408T173604Z
LAST-MODIFIED:20221114T171344Z
UID:15565-1671127200-1671141600@www.iida-carolinas.org
SUMMARY:Coastal - Holiday Party
DESCRIPTION:
URL:https://www.iida-carolinas.org/event/coastal-holiday-party-save-the-date/
LOCATION:edmunds oast\, 1081 Morrison Dr\, Charleston\, SC
CATEGORIES:Coastal
ORGANIZER;CN="Avonlea Denny":MAILTO:adenney@hitt-gc.com
END:VEVENT
BEGIN:VEVENT
DTSTART;TZID=America/New_York:20221208T180000
DTEND;TZID=America/New_York:20221208T220000
DTSTAMP:20260424T103457
CREATED:20220408T171613Z
LAST-MODIFIED:20221114T180741Z
UID:15540-1670522400-1670536800@www.iida-carolinas.org
SUMMARY:Columbia - Holiday Party
DESCRIPTION:
URL:https://www.iida-carolinas.org/event/columbia-holiday-party-save-the-date-2/
LOCATION:Girls Scouts of South Carolina\, 1107 Williams Street\, Columbia\, SC
CATEGORIES:Columbia
ORGANIZER;CN="Lynne Leach":MAILTO:columbia.citycenter@gmail.com
END:VEVENT
BEGIN:VEVENT
DTSTART;TZID=America/New_York:20221208T180000
DTEND;TZID=America/New_York:20221208T210000
DTSTAMP:20260424T103457
CREATED:20210920T161640Z
LAST-MODIFIED:20221114T170833Z
UID:15279-1670522400-1670533200@www.iida-carolinas.org
SUMMARY:Triangle - Holiday Party
DESCRIPTION: 
URL:https://www.iida-carolinas.org/event/triangle-holiday-party-save-the-date/
LOCATION:decree company\, 135 E. Martin Street\, Raleigh\, NC
CATEGORIES:Triangle
ORGANIZER;CN="Vince Antkiewicz":MAILTO:vantkiewicz@redlinedg.com
END:VEVENT
BEGIN:VEVENT
DTSTART;TZID=America/New_York:20221207T173000
DTEND;TZID=America/New_York:20221207T193000
DTSTAMP:20260424T103457
CREATED:20220408T170125Z
LAST-MODIFIED:20221114T170245Z
UID:15522-1670434200-1670441400@www.iida-carolinas.org
SUMMARY:Triad Holiday Party
DESCRIPTION:
URL:https://www.iida-carolinas.org/event/triad-holiday-party-save-the-date-3/
LOCATION:Paul J Ciener Botanical Garden\, 215 S Main Street\, Kernersville\, NC
CATEGORIES:Triad
ORGANIZER;CN="Megan Hess":MAILTO:megan.hess@cjmw.com
END:VEVENT
BEGIN:VEVENT
DTSTART;TZID=America/New_York:20221201T173000
DTEND;TZID=America/New_York:20221201T213000
DTSTAMP:20260424T103457
CREATED:20220408T132607Z
LAST-MODIFIED:20221114T172234Z
UID:15509-1669915800-1669930200@www.iida-carolinas.org
SUMMARY:Charlotte - Holiday Party
DESCRIPTION:
URL:https://www.iida-carolinas.org/event/charlotte-holiday-party-save-the-date-2/
LOCATION:DPR Construction\, 200 Southside Drive\, Charlotte\, NC
CATEGORIES:Charlotte
ORGANIZER;CN="Amanda Bingham":MAILTO:amanda.bingham@in-elements.com
END:VEVENT
BEGIN:VEVENT
DTSTART;TZID=America/New_York:20221130T170000
DTEND;TZID=America/New_York:20221130T200000
DTSTAMP:20260424T103457
CREATED:20220408T172806Z
LAST-MODIFIED:20221114T165553Z
UID:15555-1669827600-1669838400@www.iida-carolinas.org
SUMMARY:Upstate - Winter Social
DESCRIPTION:
URL:https://www.iida-carolinas.org/event/upstate-holiday-party-save-the-date/
LOCATION:South Carolina Children’s Theater\, 153 Augusta Street\, Greenville\, SC
CATEGORIES:Upstate
ORGANIZER;CN="elizabeth johnson":MAILTO:elizabeth_johnson@mohawkind.com
END:VEVENT
BEGIN:VEVENT
DTSTART;TZID=America/New_York:20221104T163000
DTEND;TZID=America/New_York:20221104T210000
DTSTAMP:20260424T103457
CREATED:20220916T182835Z
LAST-MODIFIED:20220916T191933Z
UID:16254-1667579400-1667595600@www.iida-carolinas.org
SUMMARY:Carolinas Chapter Fall Forum
DESCRIPTION:
URL:https://www.iida-carolinas.org/event/carolinas-chapter-fall-forum/
LOCATION:The Cotton Room\, 807 E. Main Street Unit 350\, Durham\, NC
CATEGORIES:Charlotte,Coastal,Columbia,IIDA Carolinas,Triad,Triangle,Upstate
ORGANIZER;CN="Whitlie Nock":MAILTO:whitlie.nock@mechoshade.com
END:VEVENT
BEGIN:VEVENT
DTSTART;VALUE=DATE:20221027
DTEND;VALUE=DATE:20221028
DTSTAMP:20260424T103457
CREATED:20220408T172707Z
LAST-MODIFIED:20220408T172707Z
UID:15553-1666828800-1666915199@www.iida-carolinas.org
SUMMARY:Upstate - Membership Drive Save the Date
DESCRIPTION:More info to come on our Pumpkins and Partnership Membership Drive! \nPlease SAVE THE DATE!
URL:https://www.iida-carolinas.org/event/upstate-membership-drive-save-the-date/
LOCATION:South Carolina
CATEGORIES:Upstate
ORGANIZER;CN="elizabeth johnson":MAILTO:elizabeth_johnson@mohawkind.com
END:VEVENT
BEGIN:VEVENT
DTSTART;TZID=America/New_York:20221020T173000
DTEND;TZID=America/New_York:20221020T193000
DTSTAMP:20260424T103457
CREATED:20220408T170032Z
LAST-MODIFIED:20220923T132237Z
UID:15520-1666287000-1666294200@www.iida-carolinas.org
SUMMARY:Triad - Membership Drive Pumpkins & Partnership
DESCRIPTION:
URL:https://www.iida-carolinas.org/event/triad-membership-drive-save-the-date/
LOCATION:Old Homeplace Vineyard\, 623 McGee Road\, Winston Salem\, NC
CATEGORIES:Triad
ORGANIZER;CN="Martha Lawrence":MAILTO:martha_lawrence@hermanmiller.com
END:VEVENT
BEGIN:VEVENT
DTSTART;TZID=America/New_York:20221020T113000
DTEND;TZID=America/New_York:20221020T130000
DTSTAMP:20260424T103457
CREATED:20220408T171521Z
LAST-MODIFIED:20220930T180820Z
UID:15538-1666265400-1666270800@www.iida-carolinas.org
SUMMARY:Columbia - Membership Drive Pumpkins & Partnership
DESCRIPTION:
URL:https://www.iida-carolinas.org/event/columbia-membership-drive-save-the-date/
LOCATION:5th & Sloan\, 2901 Rosewood Drive\, Columbai\, SC
CATEGORIES:Columbia
ORGANIZER;CN="Lynne Leach":MAILTO:columbia.citycenter@gmail.com
END:VEVENT
BEGIN:VEVENT
DTSTART;TZID=America/New_York:20221019T170000
DTEND;TZID=America/New_York:20221019T190000
DTSTAMP:20260424T103457
CREATED:20211028T150030Z
LAST-MODIFIED:20221003T155421Z
UID:15360-1666198800-1666206000@www.iida-carolinas.org
SUMMARY:Triangle - Membership Drive Pumpkins and Partnership
DESCRIPTION:
URL:https://www.iida-carolinas.org/event/triangle-membership-drive-save-the-date/
LOCATION:Bowstring Pizza + Brewyard\, 1930 Wake Forest Rd\, Raleigh\, NC
CATEGORIES:Triangle
ORGANIZER;CN="Dina Khalek":MAILTO:dina.khalek@studiotk.com
END:VEVENT
BEGIN:VEVENT
DTSTART;TZID=America/New_York:20221013T163000
DTEND;TZID=America/New_York:20221013T190000
DTSTAMP:20260424T103457
CREATED:20220408T173508Z
LAST-MODIFIED:20220930T181837Z
UID:15563-1665678600-1665687600@www.iida-carolinas.org
SUMMARY:Coastal - Membership Drive Pumpkins & Partnership
DESCRIPTION:
URL:https://www.iida-carolinas.org/event/coastal-membership-drive-save-the-date/
LOCATION:bevi bene Brewing Co\, 1859 Summerville Ave\, Ste 100\, Charleston\, SC
CATEGORIES:Coastal
ORGANIZER;CN="Avonlea Denny":MAILTO:adenney@hitt-gc.com
END:VEVENT
BEGIN:VEVENT
DTSTART;TZID=America/New_York:20221011T160000
DTEND;TZID=America/New_York:20221011T200000
DTSTAMP:20260424T103457
CREATED:20220408T132450Z
LAST-MODIFIED:20220923T131934Z
UID:15507-1665504000-1665518400@www.iida-carolinas.org
SUMMARY:Charlotte - Membership Drive Pumpkins & Partnership
DESCRIPTION:
URL:https://www.iida-carolinas.org/event/charlotte-membership-drive-save-the-date/
LOCATION:DLR Group Charlotte\, 1213 W. Morehead Street Suite 210\, Charlotte\, NC
CATEGORIES:Charlotte
ORGANIZER;CN="Amanda Bingham":MAILTO:amanda.bingham@in-elements.com
END:VEVENT
BEGIN:VEVENT
DTSTART;TZID=America/New_York:20220928T170000
DTEND;TZID=America/New_York:20220928T190000
DTSTAMP:20260424T103457
CREATED:20220408T172602Z
LAST-MODIFIED:20220909T184752Z
UID:15551-1664384400-1664391600@www.iida-carolinas.org
SUMMARY:Upstate - Fall CEU
DESCRIPTION:
URL:https://www.iida-carolinas.org/event/upstate-fall-ceu-save-the-date/
LOCATION:The Upper Room\, 7 College Street\, Greenville\, SC
CATEGORIES:Upstate
ORGANIZER;CN="elizabeth johnson":MAILTO:elizabeth_johnson@mohawkind.com
END:VEVENT
BEGIN:VEVENT
DTSTART;TZID=America/New_York:20220927T113000
DTEND;TZID=America/New_York:20220927T130000
DTSTAMP:20260424T103457
CREATED:20220408T171235Z
LAST-MODIFIED:20220909T125748Z
UID:15536-1664278200-1664283600@www.iida-carolinas.org
SUMMARY:Columbia - Fall CEU
DESCRIPTION:
URL:https://www.iida-carolinas.org/event/columbia-fall-ceu-save-the-date/
LOCATION:Bonitz Columbia\, 645 Rosewood Drive\, Columbia\, north carolina\, 29201
CATEGORIES:Columbia
ORGANIZER;CN="Lynne Leach":MAILTO:columbia.citycenter@gmail.com
END:VEVENT
BEGIN:VEVENT
DTSTART;TZID=America/New_York:20220922T080000
DTEND;TZID=America/New_York:20220922T150000
DTSTAMP:20260424T103457
CREATED:20220408T170817Z
LAST-MODIFIED:20220909T184434Z
UID:15530-1663833600-1663858800@www.iida-carolinas.org
SUMMARY:Triangle Fall CEU Blitz
DESCRIPTION:
URL:https://www.iida-carolinas.org/event/triangle-fall-ceu-save-the-date/
LOCATION:Brock Contract Services\, 1108 Nowell Road\, Raleigh\, NC
CATEGORIES:Triangle
ORGANIZER;CN="Dina Khalek":MAILTO:dina.khalek@studiotk.com
END:VEVENT
BEGIN:VEVENT
DTSTART;TZID=America/New_York:20220921T170000
DTEND;TZID=America/New_York:20220921T190000
DTSTAMP:20260424T103457
CREATED:20220408T132237Z
LAST-MODIFIED:20220909T133336Z
UID:15505-1663779600-1663786800@www.iida-carolinas.org
SUMMARY:Charlotte - Fall CEU
DESCRIPTION:
URL:https://www.iida-carolinas.org/event/charlotte-fall-ceu-save-the-date-2/
LOCATION:Balfour Beatty\, 1930 Camden Rd Suite 280\, Charlotte\, NC
CATEGORIES:Charlotte
ORGANIZER;CN="Amanda Bingham":MAILTO:amanda.bingham@in-elements.com
END:VEVENT
BEGIN:VEVENT
DTSTART;TZID=America/New_York:20220915T083000
DTEND;TZID=America/New_York:20220915T100000
DTSTAMP:20260424T103457
CREATED:20220408T165855Z
LAST-MODIFIED:20220909T130157Z
UID:15518-1663230600-1663236000@www.iida-carolinas.org
SUMMARY:Triad - Fall CEU
DESCRIPTION:
URL:https://www.iida-carolinas.org/event/triad-fall-ceu-save-the-date/
LOCATION:Secca\, 750 Marguerite Drive\, Winston-Salem\, NC
CATEGORIES:Triad
ORGANIZER;CN="Megan Hess":MAILTO:megan.hess@cjmw.com
END:VEVENT
BEGIN:VEVENT
DTSTART;TZID=America/New_York:20220914T113000
DTEND;TZID=America/New_York:20220914T130000
DTSTAMP:20260424T103457
CREATED:20220408T173354Z
LAST-MODIFIED:20220906T131130Z
UID:15561-1663155000-1663160400@www.iida-carolinas.org
SUMMARY:Coastal - Fall CEU
DESCRIPTION:
URL:https://www.iida-carolinas.org/event/coastal-fall-ceu-save-the-date/
LOCATION:PMC Charleston\, 1834 Summerville Ave - Suite 100\, Charleston\, SC
CATEGORIES:Coastal
ORGANIZER;CN="Avonlea Denny":MAILTO:adenney@hitt-gc.com
END:VEVENT
BEGIN:VEVENT
DTSTART;VALUE=DATE:20220825
DTEND;VALUE=DATE:20220826
DTSTAMP:20260424T103457
CREATED:20220408T172446Z
LAST-MODIFIED:20220408T172446Z
UID:15549-1661385600-1661471999@www.iida-carolinas.org
SUMMARY:Upstate - Summer Social Save the Date
DESCRIPTION:More  info to come! \nPlease SAVE THE DATE!
URL:https://www.iida-carolinas.org/event/upstate-summer-social-save-the-date/
LOCATION:South Carolina
CATEGORIES:Upstate
ORGANIZER;CN="elizabeth johnson":MAILTO:elizabeth_johnson@mohawkind.com
END:VEVENT
BEGIN:VEVENT
DTSTART;TZID=America/New_York:20220818T173000
DTEND;TZID=America/New_York:20220818T193000
DTSTAMP:20260424T103457
CREATED:20220408T165701Z
LAST-MODIFIED:20220713T161316Z
UID:15516-1660843800-1660851000@www.iida-carolinas.org
SUMMARY:Triad - Summer Social
DESCRIPTION: 
URL:https://www.iida-carolinas.org/event/triad-summer-social-save-the-date/
LOCATION:Davis Furniture\, 2400 College Drive\, High Point\, NC\, 27260
CATEGORIES:Triad
ORGANIZER;CN="Emily Shoffner":MAILTO:iidatriad@gmail.com
END:VEVENT
BEGIN:VEVENT
DTSTART;VALUE=DATE:20220818
DTEND;VALUE=DATE:20220819
DTSTAMP:20260424T103457
CREATED:20220408T171130Z
LAST-MODIFIED:20220408T171130Z
UID:15534-1660780800-1660867199@www.iida-carolinas.org
SUMMARY:Columbia - Summer Social Save the Date
DESCRIPTION:More info to come! \nPlease SAVE THE DATE!
URL:https://www.iida-carolinas.org/event/columbia-summer-social-save-the-date/
LOCATION:South Carolina
CATEGORIES:Columbia
END:VEVENT
BEGIN:VEVENT
DTSTART;TZID=America/New_York:20220811T170000
DTEND;TZID=America/New_York:20220811T190000
DTSTAMP:20260424T103457
CREATED:20211028T145540Z
LAST-MODIFIED:20220713T161537Z
UID:15355-1660237200-1660244400@www.iida-carolinas.org
SUMMARY:Triangle - Summer Social
DESCRIPTION:
URL:https://www.iida-carolinas.org/event/triangle-summer-social-save-the-date/
LOCATION:Hartwell Raleigh\, 620 W South Street\, Raleigh\, NC\, 27603
CATEGORIES:Triangle
END:VEVENT
BEGIN:VEVENT
DTSTART;TZID=America/New_York:20220811T160000
DTEND;TZID=America/New_York:20220811T200000
DTSTAMP:20260424T103457
CREATED:20220408T132032Z
LAST-MODIFIED:20220714T010143Z
UID:15503-1660233600-1660248000@www.iida-carolinas.org
SUMMARY:Charlotte - Summer Social
DESCRIPTION:
URL:https://www.iida-carolinas.org/event/charlotte-summer-social-save-the-date/
LOCATION:Interior Elements – Charlotte\, 1018 Jay Street\, Suite 210\, Charlotte\, NC\, 28208
CATEGORIES:Charlotte
ORGANIZER;CN="Amanda Bingham":MAILTO:amanda.bingham@in-elements.com
END:VEVENT
BEGIN:VEVENT
DTSTART;TZID=America/New_York:20220804T163000
DTEND;TZID=America/New_York:20220804T193000
DTSTAMP:20260424T103457
CREATED:20220408T173311Z
LAST-MODIFIED:20220720T130843Z
UID:15559-1659630600-1659641400@www.iida-carolinas.org
SUMMARY:Coastal
DESCRIPTION:
URL:https://www.iida-carolinas.org/event/coastal-summer-social-save-the-date/
LOCATION:Interior Elements – Charleston\, 1940 Algonquin Drive - Suite 104\, Charleston\, SC\, 29405
CATEGORIES:Coastal
ORGANIZER;CN="Avonlea Denny":MAILTO:adenney@hitt-gc.com
END:VEVENT
BEGIN:VEVENT
DTSTART;TZID=America/New_York:20220429T080000
DTEND;TZID=America/New_York:20220429T130000
DTSTAMP:20260424T103457
CREATED:20220408T172320Z
LAST-MODIFIED:20220408T172320Z
UID:15542-1651219200-1651237200@www.iida-carolinas.org
SUMMARY:Upstate - Philanthropic Golf Tournament
DESCRIPTION:
URL:https://www.iida-carolinas.org/event/upstate-philanthropic-golf-tournament/
LOCATION:3’s Greeville Golf & Grill\, 61 Villa Road\, Greenville\, SC\, 29615
CATEGORIES:Upstate
ORGANIZER;CN="elizabeth johnson":MAILTO:elizabeth_johnson@mohawkind.com
END:VEVENT
BEGIN:VEVENT
DTSTART;TZID=America/New_York:20220428T160000
DTEND;TZID=America/New_York:20220428T180000
DTSTAMP:20260424T103457
CREATED:20211028T145318Z
LAST-MODIFIED:20220412T164256Z
UID:15350-1651161600-1651168800@www.iida-carolinas.org
SUMMARY:Triangle - Philanthropic Event at Green Chair Project
DESCRIPTION:
URL:https://www.iida-carolinas.org/event/triangle-philanthropic-event-save-the-date/
LOCATION:The Green Chair Project\, 1853 Capital Blvd\, Raleigh\, NC
CATEGORIES:Triangle
END:VEVENT
BEGIN:VEVENT
DTSTART;TZID=America/New_York:20220421T180000
DTEND;TZID=America/New_York:20220421T200000
DTSTAMP:20260424T103457
CREATED:20220408T165509Z
LAST-MODIFIED:20220412T164444Z
UID:15514-1650564000-1650571200@www.iida-carolinas.org
SUMMARY:Triad -Philanthropic Event  - Dog House Design/Build
DESCRIPTION:
URL:https://www.iida-carolinas.org/event/triad-philanthropic-event-save-the-date/
LOCATION:Paul J. Ciener Botanical Center\, 215 S. Main Street\, Kernersville\, NC
CATEGORIES:Triad
ORGANIZER;CN="Emily Shoffner":MAILTO:iidatriad@gmail.com
END:VEVENT
BEGIN:VEVENT
DTSTART;VALUE=DATE:20220421
DTEND;VALUE=DATE:20220422
DTSTAMP:20260424T103457
CREATED:20220408T170955Z
LAST-MODIFIED:20220408T171027Z
UID:15532-1650499200-1650585599@www.iida-carolinas.org
SUMMARY:Columbia - Philanthropic Event Save the Date
DESCRIPTION:More info to come! \nPlease SAVE THE DATE!
URL:https://www.iida-carolinas.org/event/columbia-philanthropic-event-save-the-date/
LOCATION:South Carolina
CATEGORIES:Columbia
END:VEVENT
BEGIN:VEVENT
DTSTART;VALUE=DATE:20220414
DTEND;VALUE=DATE:20220415
DTSTAMP:20260424T103457
CREATED:20220408T173220Z
LAST-MODIFIED:20220408T173220Z
UID:15557-1649894400-1649980799@www.iida-carolinas.org
SUMMARY:Coastal - Philanthropic Event Save the Date
DESCRIPTION:More info to come! \nPlease SAVE THE DATE!
URL:https://www.iida-carolinas.org/event/coastal-philanthropic-event-save-the-date/
LOCATION:South Carolina
CATEGORIES:Coastal
ORGANIZER;CN="Avonlea Denny":MAILTO:adenney@hitt-gc.com
END:VEVENT
END:VCALENDAR