BEGIN:VCALENDAR
VERSION:2.0
PRODID:-//IIDA Carolinas - ECPv6.15.13//NONSGML v1.0//EN
CALSCALE:GREGORIAN
METHOD:PUBLISH
X-WR-CALNAME:IIDA Carolinas
X-ORIGINAL-URL:https://www.iida-carolinas.org
X-WR-CALDESC:Events for IIDA Carolinas
REFRESH-INTERVAL;VALUE=DURATION:PT1H
X-Robots-Tag:noindex
X-PUBLISHED-TTL:PT1H
BEGIN:VTIMEZONE
TZID:America/New_York
BEGIN:DAYLIGHT
TZOFFSETFROM:-0500
TZOFFSETTO:-0400
TZNAME:EDT
DTSTART:20240310T070000
END:DAYLIGHT
BEGIN:STANDARD
TZOFFSETFROM:-0400
TZOFFSETTO:-0500
TZNAME:EST
DTSTART:20241103T060000
END:STANDARD
BEGIN:DAYLIGHT
TZOFFSETFROM:-0500
TZOFFSETTO:-0400
TZNAME:EDT
DTSTART:20250309T070000
END:DAYLIGHT
BEGIN:STANDARD
TZOFFSETFROM:-0400
TZOFFSETTO:-0500
TZNAME:EST
DTSTART:20251102T060000
END:STANDARD
BEGIN:DAYLIGHT
TZOFFSETFROM:-0500
TZOFFSETTO:-0400
TZNAME:EDT
DTSTART:20260308T070000
END:DAYLIGHT
BEGIN:STANDARD
TZOFFSETFROM:-0400
TZOFFSETTO:-0500
TZNAME:EST
DTSTART:20261101T060000
END:STANDARD
END:VTIMEZONE
BEGIN:VEVENT
DTSTART;TZID=America/New_York:20251007T160000
DTEND;TZID=America/New_York:20251007T190000
DTSTAMP:20260423T064102
CREATED:20250303T164405Z
LAST-MODIFIED:20250917T154733Z
UID:18652-1759852800-1759863600@www.iida-carolinas.org
SUMMARY:Upstate Membership Drive - Register Now!
DESCRIPTION:More Information to follow!
URL:https://www.iida-carolinas.org/event/update-membership-drive-option-1-save-the-date/
LOCATION:New Realm Brewing\, 912 S. Main St.\, Greenville\, SC\, 29601\, United States
CATEGORIES:Upstate
END:VEVENT
BEGIN:VEVENT
DTSTART;VALUE=DATE:20250930
DTEND;VALUE=DATE:20251001
DTSTAMP:20260423T064102
CREATED:20250806T212942Z
LAST-MODIFIED:20250806T213242Z
UID:18933-1759190400-1759276799@www.iida-carolinas.org
SUMMARY:Western Carolina University- Design to Survive- Save the Date!
DESCRIPTION:More Information to Follow!
URL:https://www.iida-carolinas.org/event/western-carolina-university-design-to-survive-save-the-date/
CATEGORIES:Campus Centers
END:VEVENT
BEGIN:VEVENT
DTSTART;TZID=America/New_York:20250918T170000
DTEND;TZID=America/New_York:20250918T190000
DTSTAMP:20260423T064102
CREATED:20250303T164714Z
LAST-MODIFIED:20250819T163702Z
UID:18661-1758214800-1758222000@www.iida-carolinas.org
SUMMARY:Coastal Fall CEU - Register Now!
DESCRIPTION:
URL:https://www.iida-carolinas.org/event/coastal-fall-ceu-option-1-save-the-date/
LOCATION:Cooper Building\, 176 Concord St.\, Charleston\, SC\, 29401\, United States
CATEGORIES:Coastal
END:VEVENT
BEGIN:VEVENT
DTSTART;VALUE=DATE:20250918
DTEND;VALUE=DATE:20250919
DTSTAMP:20260423T064102
CREATED:20250303T162934Z
LAST-MODIFIED:20250811T212956Z
UID:18636-1758153600-1758239999@www.iida-carolinas.org
SUMMARY:Columbia Fall CEU - Save the Date!
DESCRIPTION:More Information to follow!
URL:https://www.iida-carolinas.org/event/columbia-fall-ceu-save-the-date-4/
CATEGORIES:Columbia
END:VEVENT
BEGIN:VEVENT
DTSTART;TZID=America/New_York:20250917T113000
DTEND;TZID=America/New_York:20250917T130000
DTSTAMP:20260423T064102
CREATED:20250209T183051Z
LAST-MODIFIED:20250807T125752Z
UID:18569-1758108600-1758114000@www.iida-carolinas.org
SUMMARY:Charlotte Fall CEU- Register Now!
DESCRIPTION:IIDA Charlotte and Alfred Williams & Company Fall CEU\nJoin IIDA for a networking lunch and HSW CEU presentation with our industry partners Alfred Williams & Company and Mohawk. 11:30am – 12pm Networking 12pm – 1pm Lunch & CEU Presentation \nMohawk Sustainability Director\, Roxanne Sharif\, presents Transforming the Built Environment Through Circularity\n (1 Credit – AIA\, IDCEC\, HSW)
URL:https://www.iida-carolinas.org/event/charlotte-fall-ceu-save-the-date-5/
LOCATION:Alfred Williams- Charlotte\, 505 S. Cedar St.\, charlotte\, NC\, 28202\, United States
CATEGORIES:Charlotte
END:VEVENT
BEGIN:VEVENT
DTSTART;VALUE=DATE:20250916
DTEND;VALUE=DATE:20250917
DTSTAMP:20260423T064102
CREATED:20250806T212854Z
LAST-MODIFIED:20250806T212854Z
UID:18931-1757980800-1758067199@www.iida-carolinas.org
SUMMARY:Western Carolina University- Craft and Chat- Save the Date!
DESCRIPTION:More Information to Follow!
URL:https://www.iida-carolinas.org/event/western-carolina-university-craft-and-chat-save-the-date/
CATEGORIES:Campus Centers
END:VEVENT
BEGIN:VEVENT
DTSTART;VALUE=DATE:20250916
DTEND;VALUE=DATE:20250917
DTSTAMP:20260423T064102
CREATED:20250303T162623Z
LAST-MODIFIED:20250807T204410Z
UID:18630-1757980800-1758067199@www.iida-carolinas.org
SUMMARY:Triangle Fall CEU- Save the Date!
DESCRIPTION:More Information to follow!
URL:https://www.iida-carolinas.org/event/triangle-fall-ceu-save-the-date-4/
CATEGORIES:Triangle
END:VEVENT
BEGIN:VEVENT
DTSTART;TZID=America/New_York:20250911T083000
DTEND;TZID=America/New_York:20250911T103000
DTSTAMP:20260423T064102
CREATED:20250807T203106Z
LAST-MODIFIED:20250807T203106Z
UID:18949-1757579400-1757586600@www.iida-carolinas.org
SUMMARY:Triad Fall CEU-Register Now!
DESCRIPTION:FREE CEU | The Art of Leather\n\n\n\n\n\n\n\nJoin us over coffee & breakfast for CEU credit & networking. \nThe Art of Leather\, presented by Julia Edwards.\nIDCEC & HSW Certified. \nRegistration closes at 11:30pm on 9/9/25.\nVenue accessible by stairs only
URL:https://www.iida-carolinas.org/event/triad-fall-ceu-register-now/
LOCATION:CBI Winston Salem\, 814 Angelo Bros Ave.\, Winston Salem\, NC\, 27101\, United States
CATEGORIES:Triad
END:VEVENT
BEGIN:VEVENT
DTSTART;TZID=America/New_York:20250904T113000
DTEND;TZID=America/New_York:20250904T130000
DTSTAMP:20260423T064102
CREATED:20250303T164229Z
LAST-MODIFIED:20250807T203644Z
UID:18648-1756985400-1756990800@www.iida-carolinas.org
SUMMARY:Upstate Fall CEU - Register Now!
DESCRIPTION:Fall CEU| Navigating Difficult Conversations\n\n\n\n\n\n\n\nJoin us for our fall CEU event at Craig Gaulden Davis! \nWe’re constantly engaging in difficult conversations in both our professional and personal lives\, but most of us don’t know how to handle them effectively. In this session\, you’ll learn how to spot a difficult conversation\, your conflict style under stress\, how to identify what you really want from a conversation\, and ways to structure them to effectively convey your message and build safety with the recipient. \n11:30AM – Arrival and Networking\n12PM – CEU and Lunch \nIDCEC and AIA Course Credits – 1.0 CEU / 1 LU \nSponsored by Shaw Contract
URL:https://www.iida-carolinas.org/event/upstate-fall-ceu-option-1-save-the-date/
LOCATION:Craig Gaulden Davis Architecture\, 19 Washington Park\, Greenville\, South Carolina\, 29601
CATEGORIES:Upstate
END:VEVENT
BEGIN:VEVENT
DTSTART;VALUE=DATE:20250902
DTEND;VALUE=DATE:20250903
DTSTAMP:20260423T064102
CREATED:20250806T212800Z
LAST-MODIFIED:20250806T212800Z
UID:18929-1756771200-1756857599@www.iida-carolinas.org
SUMMARY:Western Carolina University- Meet and Greet- Save the Date!
DESCRIPTION:More Information to Follow.
URL:https://www.iida-carolinas.org/event/western-carolina-university-meet-and-greet-save-the-date/
CATEGORIES:Campus Centers
END:VEVENT
BEGIN:VEVENT
DTSTART;TZID=America/New_York:20250822T130000
DTEND;TZID=America/New_York:20250824T143000
DTSTAMP:20260423T064102
CREATED:20250623T144814Z
LAST-MODIFIED:20250623T145308Z
UID:18831-1755867600-1756045800@www.iida-carolinas.org
SUMMARY:NCIDQ PREP COURSE- FALL 2025- Register Here!
DESCRIPTION:2025 IIDA Carolinas Chapter Fall Q Prep Course\nIIDA Carolinas Chapter is providing an NCIDQ prep course for members to prepare for the Practicum portion of the NCIDQ exam. This three day course will take a deep dive to set you up for success. Our Benefactors have made it possible for us to provide this as free benefit to our members.  \nSchedule:  \nFriday 8/22 – 1 pm – 6 pm  \nSaturday 8/23 – 8 am – 5 pm (lunch provided)  \nSunday 8/24 – 8 am – 2:30 pm (box lunch)  \n** Note – this course is in Raleigh\, NC IF REGISTRATION IS FULL FOR IIDA CAROLINAS\, EMAIL ALISON VOLCKENS avolckens@cdesigninc.com FOR A WAITING LIST. THERE ARE PAID SPOTS AVAILABLE. \n  \nLocation: Alfred Williams & Company\, 410 S Salisbury St\, Suite 200\, Raleigh\, NC 27601 \nDate and time: Fri\, Aug 22\, 2025 1:00 PM – Sun\, Aug 24\, 2025 2:30 PM \nOrganizer: Alison Volckens\, (704) 930-6034\, avolckens@cdesigninc.com
URL:https://www.iida-carolinas.org/event/ncidq-prep-course-fall-2025-register-here/
LOCATION:Alfred Williams- Raleigh\, 410 S. Salisbury St.\, 200\, Raleigh\, NC\, 27601\, United States
CATEGORIES:Charlotte,Coastal,Columbia,IIDA Carolinas,Triad,Triangle,Upstate,Wilmington
ORGANIZER;CN="Alison Volckens":MAILTO:avolckens@cdesigninc.com
END:VEVENT
BEGIN:VEVENT
DTSTART;TZID=America/New_York:20250819T080000
DTEND;TZID=America/New_York:20250819T090000
DTSTAMP:20260423T064102
CREATED:20250707T203744Z
LAST-MODIFIED:20250707T203744Z
UID:18902-1755590400-1755594000@www.iida-carolinas.org
SUMMARY:Columbia- Design Discussion- Save the Date
DESCRIPTION:
URL:https://www.iida-carolinas.org/event/columbia-design-discussion-save-the-date/
LOCATION:Indah Coffee\, 2238 Sumter St.\, Columbia\, SC\, United States
CATEGORIES:Columbia
END:VEVENT
BEGIN:VEVENT
DTSTART;TZID=America/New_York:20250814T170000
DTEND;TZID=America/New_York:20250814T190000
DTSTAMP:20260423T064102
CREATED:20250106T185559Z
LAST-MODIFIED:20250707T203226Z
UID:18545-1755190800-1755198000@www.iida-carolinas.org
SUMMARY:Triangle - Summer Social - Register Now!
DESCRIPTION:
URL:https://www.iida-carolinas.org/event/triangle-summer-social-save-the-date-4/
LOCATION:Glen Lake Three\, 4300 Edwards Mill Rd.\, Raleigh\, NC\, 27612\, United States
CATEGORIES:Triangle
ORGANIZER;CN="Vince Antkiewicz":MAILTO:vantkiewicz@redlinedg.com
END:VEVENT
BEGIN:VEVENT
DTSTART;TZID=America/New_York:20250626T173000
DTEND;TZID=America/New_York:20250626T200000
DTSTAMP:20260423T064102
CREATED:20250106T185512Z
LAST-MODIFIED:20250603T132010Z
UID:18543-1750959000-1750968000@www.iida-carolinas.org
SUMMARY:Triad - Summer Social - Register Now!
DESCRIPTION:
URL:https://www.iida-carolinas.org/event/triad-summer-social-save-the-date-4/
LOCATION:Tuckers Tapyard\, 1010 N. Liberty St.\, Winston Salem\, NC\, 27101\, United States
CATEGORIES:Triad
END:VEVENT
BEGIN:VEVENT
DTSTART;TZID=America/New_York:20250626T160000
DTEND;TZID=America/New_York:20250626T180000
DTSTAMP:20260423T064102
CREATED:20250308T155333Z
LAST-MODIFIED:20250522T131236Z
UID:18690-1750953600-1750960800@www.iida-carolinas.org
SUMMARY:Wilmington Summer Social- Register Here!
DESCRIPTION:
URL:https://www.iida-carolinas.org/event/wilmington-summer-social-save-the-date/
LOCATION:Flying Machine Brewery\, 3130 Randall Pkwy\, Wilmington\, NC\, 28403\, United States
CATEGORIES:Wilmington
END:VEVENT
BEGIN:VEVENT
DTSTART;VALUE=DATE:20250626
DTEND;VALUE=DATE:20250627
DTSTAMP:20260423T064102
CREATED:20250106T185416Z
LAST-MODIFIED:20250515T193002Z
UID:18541-1750896000-1750982399@www.iida-carolinas.org
SUMMARY:Columbia - Summer Social - Save the Date!
DESCRIPTION:More to come!
URL:https://www.iida-carolinas.org/event/columbia-summer-social-save-the-date-4/
LOCATION:Bierkeller\, 600 Canalside St.\, Columbia\, 29201\, United States
CATEGORIES:Columbia
ORGANIZER;CN="Lynne Leach":MAILTO:columbia.citycenter@gmail.com
END:VEVENT
BEGIN:VEVENT
DTSTART;TZID=America/New_York:20250625T170000
DTEND;TZID=America/New_York:20250625T190000
DTSTAMP:20260423T064102
CREATED:20250106T184618Z
LAST-MODIFIED:20250507T194729Z
UID:18538-1750870800-1750878000@www.iida-carolinas.org
SUMMARY:Charlotte - Summer Social - Register Now!
DESCRIPTION:
URL:https://www.iida-carolinas.org/event/charlotte-summer-social-save-the-date-4/
LOCATION:Queen City Park Social\, 4125 Yancey Rd.\, charlotte\, NC\, 28217\, United States
CATEGORIES:Charlotte
ORGANIZER;CN="dustin webb":MAILTO:dustin_webb@mohawkind.com
END:VEVENT
BEGIN:VEVENT
DTSTART;TZID=America/New_York:20250625T163000
DTEND;TZID=America/New_York:20250625T193000
DTSTAMP:20260423T064102
CREATED:20241112T192956Z
LAST-MODIFIED:20250522T130538Z
UID:18461-1750869000-1750879800@www.iida-carolinas.org
SUMMARY:Coastal- Summer Social- Register Here!
DESCRIPTION:
URL:https://www.iida-carolinas.org/event/coastal-summer-social-save-the-date-4/
LOCATION:Mix\, 730 Coleman Blvd.\, Mt. Pleasant\, SC\, United States
CATEGORIES:Coastal
END:VEVENT
BEGIN:VEVENT
DTSTART;TZID=America/New_York:20250624T163000
DTEND;TZID=America/New_York:20250624T183000
DTSTAMP:20260423T064102
CREATED:20250106T184450Z
LAST-MODIFIED:20250515T192827Z
UID:18536-1750782600-1750789800@www.iida-carolinas.org
SUMMARY:Upstate - Summer Social - Save the Date!
DESCRIPTION:More info to come!
URL:https://www.iida-carolinas.org/event/upstate-summer-social-save-the-date-4/
LOCATION:Paloma\, 315 S. Main St\, Greenville\, SC\, 29601\, United States
CATEGORIES:Upstate
ORGANIZER;CN="Hope Williams":MAILTO:hope.williams@cbi-sc.com
END:VEVENT
BEGIN:VEVENT
DTSTART;TZID=America/New_York:20250609T080000
DTEND;TZID=America/New_York:20250611T170000
DTSTAMP:20260423T064102
CREATED:20250106T184351Z
LAST-MODIFIED:20250106T185239Z
UID:18534-1749456000-1749661200@www.iida-carolinas.org
SUMMARY:Neocon 2025 - Chicago
DESCRIPTION:
URL:https://www.iida-carolinas.org/event/neocon-2025-chicago/
CATEGORIES:IIDA Carolinas
END:VEVENT
BEGIN:VEVENT
DTSTART;TZID=America/New_York:20250606T080000
DTEND;TZID=America/New_York:20250608T170000
DTSTAMP:20260423T064102
CREATED:20250106T184310Z
LAST-MODIFIED:20250106T184310Z
UID:18532-1749196800-1749402000@www.iida-carolinas.org
SUMMARY:IIDA Summer CLC - Chicago
DESCRIPTION:
URL:https://www.iida-carolinas.org/event/iida-summer-clc-chicago/
CATEGORIES:IIDA Carolinas
END:VEVENT
BEGIN:VEVENT
DTSTART;TZID=America/New_York:20250522T130000
DTEND;TZID=America/New_York:20250522T150000
DTSTAMP:20260423T064102
CREATED:20250106T184138Z
LAST-MODIFIED:20250507T203029Z
UID:18528-1747918800-1747926000@www.iida-carolinas.org
SUMMARY:Columbia - Philanthropic Event - Register Now!
DESCRIPTION:
URL:https://www.iida-carolinas.org/event/columbia-philanthropic-event-save-the-date-3/
LOCATION:Columbia Animal Services\, 127 Humane Ln.\, Columbia\, SC\, 29209\, United States
CATEGORIES:Columbia
ORGANIZER;CN="Lynne Leach":MAILTO:columbia.citycenter@gmail.com
END:VEVENT
BEGIN:VEVENT
DTSTART;TZID=America/New_York:20250521T170000
DTEND;TZID=America/New_York:20250521T190000
DTSTAMP:20260423T064102
CREATED:20250106T184031Z
LAST-MODIFIED:20250331T174003Z
UID:18526-1747846800-1747854000@www.iida-carolinas.org
SUMMARY:Charlotte - Philanthropic Event - Register Now!
DESCRIPTION:IIDA Philanthropy 2025: Blankets & Baskets\nJoin us in supporting Charlotte’s local Ronald McDonald House by making fleece blankets and baskets of essential supplies for the families and children being supported in our community! We would appreciate for you to bring any additional donations listed below that we will be collecting at the event: – Hand lotion – Gum – Water bottle – Gas cards – Gift cards – Socks – Hand sanitizer – Journals – Games Please see the link below if you or your company would like to make an additional donation to Ronald McDonald House! https://rmhclt.org/donate/ Food and drinks provided at the event
URL:https://www.iida-carolinas.org/event/charlotte-philanthropic-event-save-the-date-2/
LOCATION:JLL\, 650 S. Tryon St.\, Suite 600\, charlotte\, NC\, 28202\, United States
CATEGORIES:Charlotte
ORGANIZER;CN="dustin webb":MAILTO:dustin_webb@mohawkind.com
END:VEVENT
BEGIN:VEVENT
DTSTART;TZID=America/New_York:20250515T173000
DTEND;TZID=America/New_York:20250515T200000
DTSTAMP:20260423T064102
CREATED:20250106T183939Z
LAST-MODIFIED:20250209T184510Z
UID:18524-1747330200-1747339200@www.iida-carolinas.org
SUMMARY:Triangle - Philanthropic Product Runway - Register Now!
DESCRIPTION:
URL:https://www.iida-carolinas.org/event/triangle-philanthropic-project-runway-save-the-date/
LOCATION:PMC Raleigh\, 1331 Sunday Drive\, Raleigh\, NC\, 27607
CATEGORIES:Triangle
ORGANIZER;CN="Vince Antkiewicz":MAILTO:vantkiewicz@redlinedg.com
END:VEVENT
BEGIN:VEVENT
DTSTART;TZID=America/New_York:20250515T170000
DTEND;TZID=America/New_York:20250515T193000
DTSTAMP:20260423T064102
CREATED:20241112T192903Z
LAST-MODIFIED:20250409T192901Z
UID:18459-1747328400-1747337400@www.iida-carolinas.org
SUMMARY:Coastal- Philanthropic- Register Now!
DESCRIPTION:IIDA Coastal Philanthropic Event – Architectural Scavenger Hunt\nJoin IIDA Coast for design and historic scavenger hunt around beautiful downtown Charleston! This year\, we’re proud to support the Charleston Animal Society by collecting donations from their Wish List.  \n📍Check in: 5:00 PM Washington Square Park  \n📜 Hunt begins at: 5:30 PM  \n🍻 Wrap-up at: Blind Tiger Pub at 6:30 PM for drinks & appetizers  \n🏆 Winners announced at: 7:00 PM  \nTo enter\, donate an item from the CAS Wish List after registration and show a screenshot at check-in. Teams of six will have one hour to explore Charleston\, snap photos of scavenger hunt items\, and compete for a prize.
URL:https://www.iida-carolinas.org/event/coastal-philanthropic-save-the-date/
LOCATION:Washington Square Park\, 80 Broad St.\, Charleston\, SC\, 29401\, United States
CATEGORIES:Coastal
END:VEVENT
BEGIN:VEVENT
DTSTART;TZID=America/New_York:20250508T180000
DTEND;TZID=America/New_York:20250508T200000
DTSTAMP:20260423T064102
CREATED:20250106T184225Z
LAST-MODIFIED:20250505T130243Z
UID:18530-1746727200-1746734400@www.iida-carolinas.org
SUMMARY:Triad - Philanthropic Event - Register for this Event!
DESCRIPTION:Bookmarks & Blueprints\nJoin Us for a Philanthropic Evening at the Bienenstock Furniture Library. \n Experience an exclusive tour of the library\, explore its rare book collection\, and network over hors d’oeuvres and drinks. A portion of your registration fee will support the Future Designers Summit hosted by the Bienenstock Library.  \nThe Bienenstock Furniture Library is a world-class research facility housing over 5\,000 volumes on furniture\, interiors\, architecture\, and design—featuring rare works dating back to 1640.  \nLearn more: https://www.furniturelibrary.com/
URL:https://www.iida-carolinas.org/event/triad-philanthropic-event-save-the-date-4/
LOCATION:Bienenstock Furniture Library\, 1009 North Main St.\, High Point\, NC\, 27262\, United States
CATEGORIES:Triad
END:VEVENT
BEGIN:VEVENT
DTSTART;VALUE=DATE:20250501
DTEND;VALUE=DATE:20250502
DTSTAMP:20260423T064102
CREATED:20250106T183845Z
LAST-MODIFIED:20250106T183845Z
UID:18522-1746057600-1746143999@www.iida-carolinas.org
SUMMARY:Upstate - Philanthropic Golf Tournament - Save the Date!
DESCRIPTION:More info to come!
URL:https://www.iida-carolinas.org/event/upstate-philanthropic-golf-tournament-save-the-date/
CATEGORIES:Upstate
ORGANIZER;CN="Hope Williams":MAILTO:hope.williams@cbi-sc.com
END:VEVENT
BEGIN:VEVENT
DTSTART;TZID=America/New_York:20250424T113000
DTEND;TZID=America/New_York:20250424T130000
DTSTAMP:20260423T064102
CREATED:20241112T192759Z
LAST-MODIFIED:20250313T183328Z
UID:18457-1745494200-1745499600@www.iida-carolinas.org
SUMMARY:Coastal- Spring CEU- Register Now!
DESCRIPTION:Coastal CEU Course – Neurodiversity: Space & Design Considerations\nNeurodiversity is an appreciation that there are vast differences in the ways our brains process inputs. Discussions about neurodiversity often focus on considerations for cognitive disabilities but may also include considerations for more subtle differences in the way we respond to inputs from the world – inputs like color\, sound\, smell\, and space. Designing for a neurodiverse population involves consideration of sensory integration and the variety of interpretations of inputs for all five sense. AIA# FSW (HSW) IDCEC #118402 (HSW)
URL:https://www.iida-carolinas.org/event/coastal-spring-ceu-save-the-date-2/
LOCATION:Interior Elements – Charleston\, 1940 Algonquin Drive - Suite 104\, Charleston\, SC\, 29405
CATEGORIES:Coastal
ORGANIZER;CN="Jasmaine Jarvis":MAILTO:jjarvis@moseleyarchitects.com
END:VEVENT
BEGIN:VEVENT
DTSTART;TZID=America/New_York:20250422T160000
DTEND;TZID=America/New_York:20250422T180000
DTSTAMP:20260423T064102
CREATED:20250106T183720Z
LAST-MODIFIED:20250318T222304Z
UID:18520-1745337600-1745344800@www.iida-carolinas.org
SUMMARY:Triangle - Spring CEU - Register Here!
DESCRIPTION:More info to come!
URL:https://www.iida-carolinas.org/event/triangle-spring-ceu-save-the-date-3/
LOCATION:Cosentino\, 221 S. Rogers Ln.\, Suite 100\, Raleigh\, NC\, 27610\, United States
CATEGORIES:Triangle
ORGANIZER;CN="Vince Antkiewicz":MAILTO:vantkiewicz@redlinedg.com
END:VEVENT
BEGIN:VEVENT
DTSTART;VALUE=DATE:20250421
DTEND;VALUE=DATE:20250422
DTSTAMP:20260423T064102
CREATED:20250209T201725Z
LAST-MODIFIED:20250209T201725Z
UID:18601-1745193600-1745279999@www.iida-carolinas.org
SUMMARY:Western Carolina University- End of the Year Celebration- Save the Date!
DESCRIPTION:
URL:https://www.iida-carolinas.org/event/western-carolina-university-end-of-the-year-celebration-save-the-date/
CATEGORIES:Campus Centers
ORGANIZER;CN="shani kitchen":MAILTO:sfkitchen3@catamount.wcu.edu
END:VEVENT
END:VCALENDAR