BEGIN:VCALENDAR
VERSION:2.0
PRODID:-//IIDA Carolinas - ECPv6.15.13//NONSGML v1.0//EN
CALSCALE:GREGORIAN
METHOD:PUBLISH
X-WR-CALNAME:IIDA Carolinas
X-ORIGINAL-URL:https://www.iida-carolinas.org
X-WR-CALDESC:Events for IIDA Carolinas
REFRESH-INTERVAL;VALUE=DURATION:PT1H
X-Robots-Tag:noindex
X-PUBLISHED-TTL:PT1H
BEGIN:VTIMEZONE
TZID:America/New_York
BEGIN:DAYLIGHT
TZOFFSETFROM:-0500
TZOFFSETTO:-0400
TZNAME:EDT
DTSTART:20180311T070000
END:DAYLIGHT
BEGIN:STANDARD
TZOFFSETFROM:-0400
TZOFFSETTO:-0500
TZNAME:EST
DTSTART:20181104T060000
END:STANDARD
BEGIN:DAYLIGHT
TZOFFSETFROM:-0500
TZOFFSETTO:-0400
TZNAME:EDT
DTSTART:20190310T070000
END:DAYLIGHT
BEGIN:STANDARD
TZOFFSETFROM:-0400
TZOFFSETTO:-0500
TZNAME:EST
DTSTART:20191103T060000
END:STANDARD
BEGIN:DAYLIGHT
TZOFFSETFROM:-0500
TZOFFSETTO:-0400
TZNAME:EDT
DTSTART:20200308T070000
END:DAYLIGHT
BEGIN:STANDARD
TZOFFSETFROM:-0400
TZOFFSETTO:-0500
TZNAME:EST
DTSTART:20201101T060000
END:STANDARD
END:VTIMEZONE
BEGIN:VEVENT
DTSTART;TZID=America/New_York:20191205T173000
DTEND;TZID=America/New_York:20191205T213000
DTSTAMP:20260425T091519
CREATED:20191001T154134Z
LAST-MODIFIED:20191030T214640Z
UID:13427-1575567000-1575581400@www.iida-carolinas.org
SUMMARY:Holiday Party - Charlotte
DESCRIPTION:Join us for a wonderful evening of celebrating the holiday season with industry friends\, and giving back to our local community through some friendly competition! THAT’S RIGHT! This year is our 2nd Annual Wreath Competition Silent Auction to benefit The Harvest Center! Don’t forget to make a team and/or bring donations! The galleries will be open!
URL:https://www.iida-carolinas.org/event/holiday-party-2/
LOCATION:The Bechtler Museum of Modern Art\, 420 S. Tryon St.\, Charlotte\, NC\, 28202\, United States
CATEGORIES:Charlotte,IIDA Carolinas
ATTACH;FMTTYPE=image/png:https://www.iida-carolinas.org/wp-content/uploads/2019/10/Charlotte.png
END:VEVENT
BEGIN:VEVENT
DTSTART;TZID=America/New_York:20191121T173000
DTEND;TZID=America/New_York:20191121T203000
DTSTAMP:20260425T091519
CREATED:20190830T093353Z
LAST-MODIFIED:20191030T213621Z
UID:12986-1574357400-1574368200@www.iida-carolinas.org
SUMMARY:Holiday Party - Triad
DESCRIPTION:Please join us for a Friendsgiving this year to celebrate the holiday season early! We will have a silent auction helping Helping Hands.
URL:https://www.iida-carolinas.org/event/holiday-party/
LOCATION:Footnote\, 634 W 4th Street\, Winston-Salem\, NC\, 27101\, United States
CATEGORIES:IIDA Carolinas,Triad
ATTACH;FMTTYPE=image/png:https://www.iida-carolinas.org/wp-content/uploads/2019/08/Triad-Friendsgiving.png
END:VEVENT
BEGIN:VEVENT
DTSTART;VALUE=DATE:20191025
DTEND;VALUE=DATE:20191026
DTSTAMP:20260425T091519
CREATED:20191001T152102Z
LAST-MODIFIED:20191018T154612Z
UID:13414-1571961600-1572047999@www.iida-carolinas.org
SUMMARY:Healthcare Forum
DESCRIPTION:Join us for the Healthcare Forum! Our CEU this year will be : “FleXX: A Framework for Flexibility\, Tested in Practice” by Annette Klaus ! \nDuring this event we will also be offering FREE headshots! \nRegister today! \nThe Venue\n21 N Market St\nAsheville\, NC 28801
URL:https://www.iida-carolinas.org/event/fall-forum/
LOCATION:The Venue\, 21 N Market Street\, Asheville\, NC\, 28801\, United States
CATEGORIES:Charlotte,Coastal,Columbia,IIDA Carolinas,Multiple Centers,Triad,Triangle,Upstate
ATTACH;FMTTYPE=image/png:https://www.iida-carolinas.org/wp-content/uploads/2019/09/Register_Updated_10012019.png
END:VEVENT
BEGIN:VEVENT
DTSTART;TZID=America/New_York:20190919T133000
DTEND;TZID=America/New_York:20190919T163000
DTSTAMP:20260425T091519
CREATED:20190830T093252Z
LAST-MODIFIED:20190830T093252Z
UID:12984-1568899800-1568910600@www.iida-carolinas.org
SUMMARY:September CEU
DESCRIPTION:Location: Storr Office Environments
URL:https://www.iida-carolinas.org/event/september-ceu/
LOCATION:NC
CATEGORIES:IIDA Carolinas,Triad
END:VEVENT
END:VCALENDAR