BEGIN:VCALENDAR
VERSION:2.0
PRODID:-//IIDA Carolinas - ECPv6.15.13//NONSGML v1.0//EN
CALSCALE:GREGORIAN
METHOD:PUBLISH
X-WR-CALNAME:IIDA Carolinas
X-ORIGINAL-URL:https://www.iida-carolinas.org
X-WR-CALDESC:Events for IIDA Carolinas
REFRESH-INTERVAL;VALUE=DURATION:PT1H
X-Robots-Tag:noindex
X-PUBLISHED-TTL:PT1H
BEGIN:VTIMEZONE
TZID:America/New_York
BEGIN:DAYLIGHT
TZOFFSETFROM:-0500
TZOFFSETTO:-0400
TZNAME:EDT
DTSTART:20230312T070000
END:DAYLIGHT
BEGIN:STANDARD
TZOFFSETFROM:-0400
TZOFFSETTO:-0500
TZNAME:EST
DTSTART:20231105T060000
END:STANDARD
BEGIN:DAYLIGHT
TZOFFSETFROM:-0500
TZOFFSETTO:-0400
TZNAME:EDT
DTSTART:20240310T070000
END:DAYLIGHT
BEGIN:STANDARD
TZOFFSETFROM:-0400
TZOFFSETTO:-0500
TZNAME:EST
DTSTART:20241103T060000
END:STANDARD
BEGIN:DAYLIGHT
TZOFFSETFROM:-0500
TZOFFSETTO:-0400
TZNAME:EDT
DTSTART:20250309T070000
END:DAYLIGHT
BEGIN:STANDARD
TZOFFSETFROM:-0400
TZOFFSETTO:-0500
TZNAME:EST
DTSTART:20251102T060000
END:STANDARD
END:VTIMEZONE
BEGIN:VEVENT
DTSTART;TZID=America/New_York:20240210T150000
DTEND;TZID=America/New_York:20240210T170000
DTSTAMP:20260424T115137
CREATED:20240210T210143Z
LAST-MODIFIED:20240226T173206Z
UID:18033-1707577200-1707584400@www.iida-carolinas.org
SUMMARY:Coastal- 2024 Student Design Days 4of4
DESCRIPTION:
URL:https://www.iida-carolinas.org/event/coastal-2024-student-design-days-4of4/
LOCATION:Converse University\, 580 E. Main St.\, Spartanburg\, South Carolina\, 29302
CATEGORIES:Coastal
ORGANIZER;CN="Hope Williams":MAILTO:hope.williams@cbi-sc.com
END:VEVENT
BEGIN:VEVENT
DTSTART;TZID=America/New_York:20240220T160000
DTEND;TZID=America/New_York:20240220T183000
DTSTAMP:20260424T115137
CREATED:20240210T202144Z
LAST-MODIFIED:20240226T173142Z
UID:17972-1708444800-1708453800@www.iida-carolinas.org
SUMMARY:Triangle- 2024 Student Design Days
DESCRIPTION:
URL:https://www.iida-carolinas.org/event/triangle-2024-student-design-days/
LOCATION:Storr Office Environments\, 10800 World Trade Blvd\, Raleigh\, NC\, 27617\, United States
CATEGORIES:Triangle
END:VEVENT
BEGIN:VEVENT
DTSTART;TZID=America/New_York:20240220T170000
DTEND;TZID=America/New_York:20240220T190000
DTSTAMP:20260424T115137
CREATED:20240210T203428Z
LAST-MODIFIED:20240226T173126Z
UID:17984-1708448400-1708455600@www.iida-carolinas.org
SUMMARY:Columbia- 2024 Design Days 1of4
DESCRIPTION:
URL:https://www.iida-carolinas.org/event/columbia-2024-design-days/
LOCATION:BOb Jones University\, 1700 Wade Hampton Blvd\, Greenville\, South Carolina\, 29614
CATEGORIES:Columbia
ORGANIZER;CN="Hope Williams":MAILTO:hope.williams@cbi-sc.com
END:VEVENT
BEGIN:VEVENT
DTSTART;TZID=America/New_York:20240220T170000
DTEND;TZID=America/New_York:20240220T190000
DTSTAMP:20260424T115137
CREATED:20240210T204008Z
LAST-MODIFIED:20240226T173057Z
UID:17996-1708448400-1708455600@www.iida-carolinas.org
SUMMARY:Upstate- 2024 Design Days 1of4
DESCRIPTION:
URL:https://www.iida-carolinas.org/event/upstate-2024-design-days/
LOCATION:BOb Jones University\, 1700 Wade Hampton Blvd\, Greenville\, South Carolina\, 29614
CATEGORIES:Upstate
ORGANIZER;CN="Hope Williams":MAILTO:hope.williams@cbi-sc.com
END:VEVENT
BEGIN:VEVENT
DTSTART;TZID=America/New_York:20240220T170000
DTEND;TZID=America/New_York:20240220T190000
DTSTAMP:20260424T115137
CREATED:20240210T204136Z
LAST-MODIFIED:20240226T173031Z
UID:18002-1708448400-1708455600@www.iida-carolinas.org
SUMMARY:Coastal- 2024 Design Days 1of4
DESCRIPTION:
URL:https://www.iida-carolinas.org/event/coastal-2024-design-days/
LOCATION:BOb Jones University\, 1700 Wade Hampton Blvd\, Greenville\, South Carolina\, 29614
CATEGORIES:Coastal
ORGANIZER;CN="Hope Williams":MAILTO:hope.williams@cbi-sc.com
END:VEVENT
BEGIN:VEVENT
DTSTART;TZID=America/New_York:20240220T170000
DTEND;TZID=America/New_York:20240220T193000
DTSTAMP:20260424T115137
CREATED:20240210T201101Z
LAST-MODIFIED:20240226T173018Z
UID:17965-1708448400-1708457400@www.iida-carolinas.org
SUMMARY:Triad- 2024 Student Design Days
DESCRIPTION:
URL:https://www.iida-carolinas.org/event/triad-2024-student-design-days/
LOCATION:NC
CATEGORIES:Triad
END:VEVENT
BEGIN:VEVENT
DTSTART;TZID=America/New_York:20240222T150000
DTEND;TZID=America/New_York:20240222T183000
DTSTAMP:20260424T115137
CREATED:20240210T195241Z
LAST-MODIFIED:20240226T173002Z
UID:17960-1708614000-1708626600@www.iida-carolinas.org
SUMMARY:Charlotte- 2024 Student Design Days
DESCRIPTION:
URL:https://www.iida-carolinas.org/event/charlotte-2024-student-design-days/
LOCATION:Little Diversified\, 615 S College St.\, Charlotte\, NC\, 28202\, United States
CATEGORIES:Charlotte
ORGANIZER;CN="Deanna Smith":MAILTO:deanna.smith@novusarchitects.com
END:VEVENT
BEGIN:VEVENT
DTSTART;TZID=America/New_York:20240223T100000
DTEND;TZID=America/New_York:20240223T120000
DTSTAMP:20260424T115137
CREATED:20240210T204607Z
LAST-MODIFIED:20240226T172944Z
UID:18007-1708682400-1708689600@www.iida-carolinas.org
SUMMARY:Columbia- 2024 Design Days 2of4
DESCRIPTION:
URL:https://www.iida-carolinas.org/event/columbia-2024-design-days-2of3/
LOCATION:Anderson University\, 316 Boulevard\, Anderson\, South Carolina\, 29621
CATEGORIES:Columbia
ORGANIZER;CN="Hope Williams":MAILTO:hope.williams@cbi-sc.com
END:VEVENT
BEGIN:VEVENT
DTSTART;TZID=America/New_York:20240223T100000
DTEND;TZID=America/New_York:20240223T120000
DTSTAMP:20260424T115137
CREATED:20240210T204732Z
LAST-MODIFIED:20240226T172923Z
UID:18011-1708682400-1708689600@www.iida-carolinas.org
SUMMARY:Upstate- 2024 Student Design Days 2of4
DESCRIPTION:
URL:https://www.iida-carolinas.org/event/upstatse-2024-student-design-days-2of3/
LOCATION:Anderson University\, 316 Boulevard\, Anderson\, South Carolina\, 29621
CATEGORIES:Upstate
ORGANIZER;CN="Hope Williams":MAILTO:hope.williams@cbi-sc.com
END:VEVENT
BEGIN:VEVENT
DTSTART;TZID=America/New_York:20240223T100000
DTEND;TZID=America/New_York:20240223T120000
DTSTAMP:20260424T115137
CREATED:20240210T204832Z
LAST-MODIFIED:20240226T172856Z
UID:18013-1708682400-1708689600@www.iida-carolinas.org
SUMMARY:Coastal- 2024 Student Design Days 2of4
DESCRIPTION:
URL:https://www.iida-carolinas.org/event/coastal-2024-student-design-days-2of3/
LOCATION:Anderson University\, 316 Boulevard\, Anderson\, South Carolina\, 29621
CATEGORIES:Coastal
ORGANIZER;CN="Hope Williams":MAILTO:hope.williams@cbi-sc.com
END:VEVENT
BEGIN:VEVENT
DTSTART;TZID=America/New_York:20240227T180000
DTEND;TZID=America/New_York:20240227T200000
DTSTAMP:20260424T115137
CREATED:20240210T205115Z
LAST-MODIFIED:20240226T172821Z
UID:18015-1709056800-1709064000@www.iida-carolinas.org
SUMMARY:Columbia- 2024 Student Design Days 3of4
DESCRIPTION:
URL:https://www.iida-carolinas.org/event/columbia-2024-student-design-days-3of4/
LOCATION:Western Carolina University\, 1 University Dr.\, Cullowhee\, NC\, 28723\, United States
CATEGORIES:Columbia
ORGANIZER;CN="Hope Williams":MAILTO:hope.williams@cbi-sc.com
END:VEVENT
BEGIN:VEVENT
DTSTART;TZID=America/New_York:20240227T180000
DTEND;TZID=America/New_York:20240227T200000
DTSTAMP:20260424T115137
CREATED:20240210T205455Z
LAST-MODIFIED:20240226T172803Z
UID:18024-1709056800-1709064000@www.iida-carolinas.org
SUMMARY:Upstate- 2024 Student Design Days 3of4
DESCRIPTION:
URL:https://www.iida-carolinas.org/event/upstate-2024-student-design-days-3of4/
LOCATION:Western Carolina University\, 1 University Dr.\, Cullowhee\, NC\, 28723\, United States
CATEGORIES:Upstate
ORGANIZER;CN="Hope Williams":MAILTO:hope.williams@cbi-sc.com
END:VEVENT
BEGIN:VEVENT
DTSTART;TZID=America/New_York:20240227T180000
DTEND;TZID=America/New_York:20240227T200000
DTSTAMP:20260424T115137
CREATED:20240210T205656Z
LAST-MODIFIED:20240226T172740Z
UID:18026-1709056800-1709064000@www.iida-carolinas.org
SUMMARY:Coastal- 2024 Student Design Days 3of4
DESCRIPTION:
URL:https://www.iida-carolinas.org/event/coastal-2024-student-design-days-3of4/
LOCATION:Western Carolina University\, 1 University Dr.\, Cullowhee\, NC\, 28723\, United States
CATEGORIES:Coastal
ORGANIZER;CN="Hope Williams":MAILTO:hope.williams@cbi-sc.com
END:VEVENT
BEGIN:VEVENT
DTSTART;TZID=America/New_York:20240229T150000
DTEND;TZID=America/New_York:20240229T170000
DTSTAMP:20260424T115137
CREATED:20240210T205932Z
LAST-MODIFIED:20240226T172718Z
UID:18028-1709218800-1709226000@www.iida-carolinas.org
SUMMARY:Columbia- 2024 Student Design Days 4of4
DESCRIPTION:
URL:https://www.iida-carolinas.org/event/columbia-2024-student-design-days-4of4/
LOCATION:Converse University\, 580 E. Main St.\, Spartanburg\, South Carolina\, 29302
CATEGORIES:Columbia
ORGANIZER;CN="Hope Williams":MAILTO:hope.williams@cbi-sc.com
END:VEVENT
BEGIN:VEVENT
DTSTART;TZID=America/New_York:20240229T150000
DTEND;TZID=America/New_York:20240229T170000
DTSTAMP:20260424T115137
CREATED:20240210T210053Z
LAST-MODIFIED:20240210T212144Z
UID:18031-1709218800-1709226000@www.iida-carolinas.org
SUMMARY:Upstate- 2024 Student Design Days 4of4
DESCRIPTION:
URL:https://www.iida-carolinas.org/event/upstate-2024-student-design-days-4of4/
LOCATION:Converse University\, 580 E. Main St.\, Spartanburg\, South Carolina\, 29302
CATEGORIES:Upstate
ORGANIZER;CN="Hope Williams":MAILTO:hope.williams@cbi-sc.com
END:VEVENT
END:VCALENDAR