BEGIN:VCALENDAR
VERSION:2.0
PRODID:-//IIDA Carolinas - ECPv6.15.13//NONSGML v1.0//EN
CALSCALE:GREGORIAN
METHOD:PUBLISH
X-WR-CALNAME:IIDA Carolinas
X-ORIGINAL-URL:https://www.iida-carolinas.org
X-WR-CALDESC:Events for IIDA Carolinas
REFRESH-INTERVAL;VALUE=DURATION:PT1H
X-Robots-Tag:noindex
X-PUBLISHED-TTL:PT1H
BEGIN:VTIMEZONE
TZID:America/New_York
BEGIN:DAYLIGHT
TZOFFSETFROM:-0500
TZOFFSETTO:-0400
TZNAME:EDT
DTSTART:20230312T070000
END:DAYLIGHT
BEGIN:STANDARD
TZOFFSETFROM:-0400
TZOFFSETTO:-0500
TZNAME:EST
DTSTART:20231105T060000
END:STANDARD
BEGIN:DAYLIGHT
TZOFFSETFROM:-0500
TZOFFSETTO:-0400
TZNAME:EDT
DTSTART:20240310T070000
END:DAYLIGHT
BEGIN:STANDARD
TZOFFSETFROM:-0400
TZOFFSETTO:-0500
TZNAME:EST
DTSTART:20241103T060000
END:STANDARD
BEGIN:DAYLIGHT
TZOFFSETFROM:-0500
TZOFFSETTO:-0400
TZNAME:EDT
DTSTART:20250309T070000
END:DAYLIGHT
BEGIN:STANDARD
TZOFFSETFROM:-0400
TZOFFSETTO:-0500
TZNAME:EST
DTSTART:20251102T060000
END:STANDARD
END:VTIMEZONE
BEGIN:VEVENT
DTSTART;TZID=America/New_York:20240315T090000
DTEND;TZID=America/New_York:20240315T160000
DTSTAMP:20260424T100917
CREATED:20240210T212011Z
LAST-MODIFIED:20240226T171151Z
UID:18036-1710493200-1710518400@www.iida-carolinas.org
SUMMARY:Chapter Wide Growth and Wellness Summit
DESCRIPTION:
URL:https://www.iida-carolinas.org/event/chapter-wide-growth-and-wellness-summit/
LOCATION:Congdon Yards\, High Point\, NC
CATEGORIES:IIDA Carolinas
ORGANIZER;CN="Jordan Neises":MAILTO:jn@barbourspangle.com
END:VEVENT
BEGIN:VEVENT
DTSTART;VALUE=DATE:20240319
DTEND;VALUE=DATE:20240320
DTSTAMP:20260424T100917
CREATED:20240226T174453Z
LAST-MODIFIED:20240226T174453Z
UID:18086-1710806400-1710892799@www.iida-carolinas.org
SUMMARY:Triangle- Spring CEU- Save the Date!
DESCRIPTION:More Information to come!
URL:https://www.iida-carolinas.org/event/triangle-spring-ceu-save-the-date-2/
LOCATION:NC
CATEGORIES:Triangle
END:VEVENT
BEGIN:VEVENT
DTSTART;VALUE=DATE:20240328
DTEND;VALUE=DATE:20240329
DTSTAMP:20260424T100917
CREATED:20240226T174714Z
LAST-MODIFIED:20240226T174714Z
UID:18092-1711584000-1711670399@www.iida-carolinas.org
SUMMARY:Coastal- Spring CEU- Save the Date!
DESCRIPTION:More Information to come!
URL:https://www.iida-carolinas.org/event/coastal-spring-ceu-save-the-date/
LOCATION:NC
CATEGORIES:Coastal
END:VEVENT
END:VCALENDAR