BEGIN:VCALENDAR
VERSION:2.0
PRODID:-//IIDA Carolinas - ECPv6.15.13//NONSGML v1.0//EN
CALSCALE:GREGORIAN
METHOD:PUBLISH
X-WR-CALNAME:IIDA Carolinas
X-ORIGINAL-URL:https://www.iida-carolinas.org
X-WR-CALDESC:Events for IIDA Carolinas
REFRESH-INTERVAL;VALUE=DURATION:PT1H
X-Robots-Tag:noindex
X-PUBLISHED-TTL:PT1H
BEGIN:VTIMEZONE
TZID:America/New_York
BEGIN:DAYLIGHT
TZOFFSETFROM:-0500
TZOFFSETTO:-0400
TZNAME:EDT
DTSTART:20230312T070000
END:DAYLIGHT
BEGIN:STANDARD
TZOFFSETFROM:-0400
TZOFFSETTO:-0500
TZNAME:EST
DTSTART:20231105T060000
END:STANDARD
BEGIN:DAYLIGHT
TZOFFSETFROM:-0500
TZOFFSETTO:-0400
TZNAME:EDT
DTSTART:20240310T070000
END:DAYLIGHT
BEGIN:STANDARD
TZOFFSETFROM:-0400
TZOFFSETTO:-0500
TZNAME:EST
DTSTART:20241103T060000
END:STANDARD
BEGIN:DAYLIGHT
TZOFFSETFROM:-0500
TZOFFSETTO:-0400
TZNAME:EDT
DTSTART:20250309T070000
END:DAYLIGHT
BEGIN:STANDARD
TZOFFSETFROM:-0400
TZOFFSETTO:-0500
TZNAME:EST
DTSTART:20251102T060000
END:STANDARD
END:VTIMEZONE
BEGIN:VEVENT
DTSTART;TZID=America/New_York:20240626T110000
DTEND;TZID=America/New_York:20240626T120000
DTSTAMP:20260424T051826
CREATED:20240513T183424Z
LAST-MODIFIED:20240513T183424Z
UID:18277-1719399600-1719403200@www.iida-carolinas.org
SUMMARY:NCIDQ Webinar
DESCRIPTION:NCIDQ “The Q and You”\n*IIDA will submit to IDCEC for CEU on attendee’s behalf* \nPricing \nIIDA Member: Free (Login is required)\nNon-IIDA Member: $10 \nJoin IIDA for an informational webinar exploring the NCIDQ exam and certification with Kayla Karpp\, CIDQ\, Amanda Humphrey\, IIDA\, NCIDQ and Julianne J Peters\, IIDA\, NCIDQ. Learn more from our presenters about how to include the NCIDQ exam in your career path and the benefits of certification\, like expertise in understanding and applying current codes\, career advancement\, and increased compensation \nLearn more about: \n\nWhy NCIDQ matters\nIncorporating NCIDQ certification in your career path\nBenefits of being NCIDQ certified\nOverview of CIDQ requirements\nTips to prepare for the exam
URL:https://www.iida-carolinas.org/event/ncidq-webinar/
LOCATION:Zoom
END:VEVENT
END:VCALENDAR