BEGIN:VCALENDAR
VERSION:2.0
PRODID:-//IIDA Carolinas - ECPv6.15.13//NONSGML v1.0//EN
CALSCALE:GREGORIAN
METHOD:PUBLISH
X-ORIGINAL-URL:https://www.iida-carolinas.org
X-WR-CALDESC:Events for IIDA Carolinas
REFRESH-INTERVAL;VALUE=DURATION:PT1H
X-Robots-Tag:noindex
X-PUBLISHED-TTL:PT1H
BEGIN:VTIMEZONE
TZID:America/New_York
BEGIN:DAYLIGHT
TZOFFSETFROM:-0500
TZOFFSETTO:-0400
TZNAME:EDT
DTSTART:20240310T070000
END:DAYLIGHT
BEGIN:STANDARD
TZOFFSETFROM:-0400
TZOFFSETTO:-0500
TZNAME:EST
DTSTART:20241103T060000
END:STANDARD
BEGIN:DAYLIGHT
TZOFFSETFROM:-0500
TZOFFSETTO:-0400
TZNAME:EDT
DTSTART:20250309T070000
END:DAYLIGHT
BEGIN:STANDARD
TZOFFSETFROM:-0400
TZOFFSETTO:-0500
TZNAME:EST
DTSTART:20251102T060000
END:STANDARD
BEGIN:DAYLIGHT
TZOFFSETFROM:-0500
TZOFFSETTO:-0400
TZNAME:EDT
DTSTART:20260308T070000
END:DAYLIGHT
BEGIN:STANDARD
TZOFFSETFROM:-0400
TZOFFSETTO:-0500
TZNAME:EST
DTSTART:20261101T060000
END:STANDARD
END:VTIMEZONE
BEGIN:VEVENT
DTSTART;VALUE=DATE:20250403
DTEND;VALUE=DATE:20250404
DTSTAMP:20260423T132259
CREATED:20250209T201126Z
LAST-MODIFIED:20250209T201126Z
UID:18594-1743638400-1743724799@www.iida-carolinas.org
SUMMARY:Queens University- Design Firm Tour- Save the Date!
DESCRIPTION:
URL:https://www.iida-carolinas.org/event/queens-university-design-firm-tour-save-the-date/
LOCATION:NC
CATEGORIES:Campus Centers
ORGANIZER;CN="Esther Monahan":MAILTO:monahane@queens.edu
END:VEVENT
BEGIN:VEVENT
DTSTART;TZID=America/New_York:20250403T083000
DTEND;TZID=America/New_York:20250403T223000
DTSTAMP:20260423T132259
CREATED:20250106T183549Z
LAST-MODIFIED:20250314T143744Z
UID:18518-1743669000-1743719400@www.iida-carolinas.org
SUMMARY:Triad - Spring CEU - Register Now!
DESCRIPTION:
URL:https://www.iida-carolinas.org/event/triad-spring-ceu-save-the-date-3/
LOCATION:Bonitz Winston-Salem\, 3480 Myer Lee Dr\, Winston-Salem\, NC\, 27101\, United States
CATEGORIES:Triad
END:VEVENT
BEGIN:VEVENT
DTSTART;VALUE=DATE:20250407
DTEND;VALUE=DATE:20250408
DTSTAMP:20260423T132259
CREATED:20250209T201629Z
LAST-MODIFIED:20250209T201913Z
UID:18599-1743984000-1744070399@www.iida-carolinas.org
SUMMARY:Western Carolina University- Jack the Dipper Night- Save the Date!
DESCRIPTION:
URL:https://www.iida-carolinas.org/event/western-carolina-university-jack-the-dipper-night-save-the-date/
LOCATION:NC
CATEGORIES:Campus Centers
ORGANIZER;CN="shani kitchen":MAILTO:sfkitchen3@catamount.wcu.edu
END:VEVENT
BEGIN:VEVENT
DTSTART;TZID=America/New_York:20250409T083000
DTEND;TZID=America/New_York:20250409T093000
DTSTAMP:20260423T132259
CREATED:20250106T183210Z
LAST-MODIFIED:20250304T141343Z
UID:18514-1744187400-1744191000@www.iida-carolinas.org
SUMMARY:Charlotte - Spring CEU - Register Now!
DESCRIPTION:
URL:https://www.iida-carolinas.org/event/charlotte-spring-ceu-save-the-date-3/
LOCATION:1930 Camden Rd.\, Suite 280\, 1930 Camden Rd.\, Suite 280\, charlotte\, NC\, 28203\, United States
CATEGORIES:Charlotte
ORGANIZER;CN="dustin webb":MAILTO:dustin_webb@mohawkind.com
END:VEVENT
BEGIN:VEVENT
DTSTART;VALUE=DATE:20250410
DTEND;VALUE=DATE:20250411
DTSTAMP:20260423T132259
CREATED:20250106T183508Z
LAST-MODIFIED:20250106T183508Z
UID:18516-1744243200-1744329599@www.iida-carolinas.org
SUMMARY:Columbia - Spring CEU - Save the Date!
DESCRIPTION:More info to come!
URL:https://www.iida-carolinas.org/event/columbia-spring-ceu-save-the-date-3/
LOCATION:NC
CATEGORIES:Columbia
ORGANIZER;CN="Lynne Leach":MAILTO:columbia.citycenter@gmail.com
END:VEVENT
BEGIN:VEVENT
DTSTART;TZID=America/New_York:20250411T113000
DTEND;TZID=America/New_York:20250411T140000
DTSTAMP:20260423T132259
CREATED:20250106T183109Z
LAST-MODIFIED:20250318T221912Z
UID:18512-1744371000-1744380000@www.iida-carolinas.org
SUMMARY:Upstate - Spring CEU - Register Now!
DESCRIPTION:Upstate CEU + Building Tour\nPlease join us on Friday April 11th for a tour of Greenville Technical College’s newest building on their Barton Campus – the Prisma Center for Health & Life Sciences. This new building is a facility for students to pursue careers in the healthcare field\, as well as general educational programs. The 125\,000 square foot\, three-story facility is sited in the heart of campus and is a landmark building for the College. Lunch Location: McMillan Pazdan Smith\, 400 Augusta Street\, 1st Floor\, Greenville SC CEU Location: Greenville Tech Barton Campus
URL:https://www.iida-carolinas.org/event/upstate-spring-ceu-save-the-date-2/
LOCATION:Greenville Technical College\, 506 S. Pleasantburg Dr.\, Greenville\, SC\, 29607\, United States
CATEGORIES:Upstate
ORGANIZER;CN="Hope Williams":MAILTO:hope.williams@cbi-sc.com
END:VEVENT
BEGIN:VEVENT
DTSTART;TZID=America/New_York:20250417T083000
DTEND;TZID=America/New_York:20250417T093000
DTSTAMP:20260423T132259
CREATED:20250308T182759Z
LAST-MODIFIED:20250308T182759Z
UID:18692-1744878600-1744882200@www.iida-carolinas.org
SUMMARY:Columbia- IIDA Member Networking Event- Save the Date!
DESCRIPTION:Espresso Yourself- More Information to Come!
URL:https://www.iida-carolinas.org/event/columbia-iida-member-networking-event-save-the-date/
LOCATION:Dulce Bakery and Cafe\, 1213 Lincoln St.\, Columbia\, SC\, 29201\, United States
ORGANIZER;CN="Lynne Leach":MAILTO:columbia.citycenter@gmail.com
END:VEVENT
BEGIN:VEVENT
DTSTART;VALUE=DATE:20250421
DTEND;VALUE=DATE:20250422
DTSTAMP:20260423T132259
CREATED:20250209T201725Z
LAST-MODIFIED:20250209T201725Z
UID:18601-1745193600-1745279999@www.iida-carolinas.org
SUMMARY:Western Carolina University- End of the Year Celebration- Save the Date!
DESCRIPTION:
URL:https://www.iida-carolinas.org/event/western-carolina-university-end-of-the-year-celebration-save-the-date/
LOCATION:NC
CATEGORIES:Campus Centers
ORGANIZER;CN="shani kitchen":MAILTO:sfkitchen3@catamount.wcu.edu
END:VEVENT
BEGIN:VEVENT
DTSTART;TZID=America/New_York:20250422T160000
DTEND;TZID=America/New_York:20250422T180000
DTSTAMP:20260423T132259
CREATED:20250106T183720Z
LAST-MODIFIED:20250318T222304Z
UID:18520-1745337600-1745344800@www.iida-carolinas.org
SUMMARY:Triangle - Spring CEU - Register Here!
DESCRIPTION:More info to come!
URL:https://www.iida-carolinas.org/event/triangle-spring-ceu-save-the-date-3/
LOCATION:Cosentino\, 221 S. Rogers Ln.\, Suite 100\, Raleigh\, NC\, 27610\, United States
CATEGORIES:Triangle
ORGANIZER;CN="Vince Antkiewicz":MAILTO:vantkiewicz@redlinedg.com
END:VEVENT
BEGIN:VEVENT
DTSTART;TZID=America/New_York:20250424T113000
DTEND;TZID=America/New_York:20250424T130000
DTSTAMP:20260423T132259
CREATED:20241112T192759Z
LAST-MODIFIED:20250313T183328Z
UID:18457-1745494200-1745499600@www.iida-carolinas.org
SUMMARY:Coastal- Spring CEU- Register Now!
DESCRIPTION:Coastal CEU Course – Neurodiversity: Space & Design Considerations\nNeurodiversity is an appreciation that there are vast differences in the ways our brains process inputs. Discussions about neurodiversity often focus on considerations for cognitive disabilities but may also include considerations for more subtle differences in the way we respond to inputs from the world – inputs like color\, sound\, smell\, and space. Designing for a neurodiverse population involves consideration of sensory integration and the variety of interpretations of inputs for all five sense. AIA# FSW (HSW) IDCEC #118402 (HSW)
URL:https://www.iida-carolinas.org/event/coastal-spring-ceu-save-the-date-2/
LOCATION:Interior Elements – Charleston\, 1940 Algonquin Drive - Suite 104\, Charleston\, SC\, 29405
CATEGORIES:Coastal
ORGANIZER;CN="Jasmaine Jarvis":MAILTO:jjarvis@moseleyarchitects.com
END:VEVENT
END:VCALENDAR