BEGIN:VCALENDAR
VERSION:2.0
PRODID:-//IIDA Carolinas - ECPv6.15.13//NONSGML v1.0//EN
CALSCALE:GREGORIAN
METHOD:PUBLISH
X-WR-CALNAME:IIDA Carolinas
X-ORIGINAL-URL:https://www.iida-carolinas.org
X-WR-CALDESC:Events for IIDA Carolinas
REFRESH-INTERVAL;VALUE=DURATION:PT1H
X-Robots-Tag:noindex
X-PUBLISHED-TTL:PT1H
BEGIN:VTIMEZONE
TZID:America/New_York
BEGIN:DAYLIGHT
TZOFFSETFROM:-0500
TZOFFSETTO:-0400
TZNAME:EDT
DTSTART:20240310T070000
END:DAYLIGHT
BEGIN:STANDARD
TZOFFSETFROM:-0400
TZOFFSETTO:-0500
TZNAME:EST
DTSTART:20241103T060000
END:STANDARD
BEGIN:DAYLIGHT
TZOFFSETFROM:-0500
TZOFFSETTO:-0400
TZNAME:EDT
DTSTART:20250309T070000
END:DAYLIGHT
BEGIN:STANDARD
TZOFFSETFROM:-0400
TZOFFSETTO:-0500
TZNAME:EST
DTSTART:20251102T060000
END:STANDARD
BEGIN:DAYLIGHT
TZOFFSETFROM:-0500
TZOFFSETTO:-0400
TZNAME:EDT
DTSTART:20260308T070000
END:DAYLIGHT
BEGIN:STANDARD
TZOFFSETFROM:-0400
TZOFFSETTO:-0500
TZNAME:EST
DTSTART:20261101T060000
END:STANDARD
END:VTIMEZONE
BEGIN:VEVENT
DTSTART;TZID=America/New_York:20250814T170000
DTEND;TZID=America/New_York:20250814T190000
DTSTAMP:20260423T063601
CREATED:20250106T185559Z
LAST-MODIFIED:20250707T203226Z
UID:18545-1755190800-1755198000@www.iida-carolinas.org
SUMMARY:Triangle - Summer Social - Register Now!
DESCRIPTION:
URL:https://www.iida-carolinas.org/event/triangle-summer-social-save-the-date-4/
LOCATION:Glen Lake Three\, 4300 Edwards Mill Rd.\, Raleigh\, NC\, 27612\, United States
CATEGORIES:Triangle
ORGANIZER;CN="Vince Antkiewicz":MAILTO:vantkiewicz@redlinedg.com
END:VEVENT
BEGIN:VEVENT
DTSTART;TZID=America/New_York:20250819T080000
DTEND;TZID=America/New_York:20250819T090000
DTSTAMP:20260423T063601
CREATED:20250707T203744Z
LAST-MODIFIED:20250707T203744Z
UID:18902-1755590400-1755594000@www.iida-carolinas.org
SUMMARY:Columbia- Design Discussion- Save the Date
DESCRIPTION:
URL:https://www.iida-carolinas.org/event/columbia-design-discussion-save-the-date/
LOCATION:Indah Coffee\, 2238 Sumter St.\, Columbia\, SC\, United States
CATEGORIES:Columbia
END:VEVENT
BEGIN:VEVENT
DTSTART;TZID=America/New_York:20250822T130000
DTEND;TZID=America/New_York:20250824T143000
DTSTAMP:20260423T063601
CREATED:20250623T144814Z
LAST-MODIFIED:20250623T145308Z
UID:18831-1755867600-1756045800@www.iida-carolinas.org
SUMMARY:NCIDQ PREP COURSE- FALL 2025- Register Here!
DESCRIPTION:2025 IIDA Carolinas Chapter Fall Q Prep Course\nIIDA Carolinas Chapter is providing an NCIDQ prep course for members to prepare for the Practicum portion of the NCIDQ exam. This three day course will take a deep dive to set you up for success. Our Benefactors have made it possible for us to provide this as free benefit to our members.  \nSchedule:  \nFriday 8/22 – 1 pm – 6 pm  \nSaturday 8/23 – 8 am – 5 pm (lunch provided)  \nSunday 8/24 – 8 am – 2:30 pm (box lunch)  \n** Note – this course is in Raleigh\, NC IF REGISTRATION IS FULL FOR IIDA CAROLINAS\, EMAIL ALISON VOLCKENS avolckens@cdesigninc.com FOR A WAITING LIST. THERE ARE PAID SPOTS AVAILABLE. \n  \nLocation: Alfred Williams & Company\, 410 S Salisbury St\, Suite 200\, Raleigh\, NC 27601 \nDate and time: Fri\, Aug 22\, 2025 1:00 PM – Sun\, Aug 24\, 2025 2:30 PM \nOrganizer: Alison Volckens\, (704) 930-6034\, avolckens@cdesigninc.com
URL:https://www.iida-carolinas.org/event/ncidq-prep-course-fall-2025-register-here/
LOCATION:Alfred Williams- Raleigh\, 410 S. Salisbury St.\, 200\, Raleigh\, NC\, 27601\, United States
CATEGORIES:Charlotte,Coastal,Columbia,IIDA Carolinas,Triad,Triangle,Upstate,Wilmington
ORGANIZER;CN="Alison Volckens":MAILTO:avolckens@cdesigninc.com
END:VEVENT
END:VCALENDAR