BEGIN:VCALENDAR
VERSION:2.0
PRODID:-//IIDA Carolinas - ECPv6.15.13//NONSGML v1.0//EN
CALSCALE:GREGORIAN
METHOD:PUBLISH
X-WR-CALNAME:IIDA Carolinas
X-ORIGINAL-URL:https://www.iida-carolinas.org
X-WR-CALDESC:Events for IIDA Carolinas
REFRESH-INTERVAL;VALUE=DURATION:PT1H
X-Robots-Tag:noindex
X-PUBLISHED-TTL:PT1H
BEGIN:VTIMEZONE
TZID:America/New_York
BEGIN:DAYLIGHT
TZOFFSETFROM:-0500
TZOFFSETTO:-0400
TZNAME:EDT
DTSTART:20250309T070000
END:DAYLIGHT
BEGIN:STANDARD
TZOFFSETFROM:-0400
TZOFFSETTO:-0500
TZNAME:EST
DTSTART:20251102T060000
END:STANDARD
BEGIN:DAYLIGHT
TZOFFSETFROM:-0500
TZOFFSETTO:-0400
TZNAME:EDT
DTSTART:20260308T070000
END:DAYLIGHT
BEGIN:STANDARD
TZOFFSETFROM:-0400
TZOFFSETTO:-0500
TZNAME:EST
DTSTART:20261101T060000
END:STANDARD
BEGIN:DAYLIGHT
TZOFFSETFROM:-0500
TZOFFSETTO:-0400
TZNAME:EDT
DTSTART:20270314T070000
END:DAYLIGHT
BEGIN:STANDARD
TZOFFSETFROM:-0400
TZOFFSETTO:-0500
TZNAME:EST
DTSTART:20271107T060000
END:STANDARD
END:VTIMEZONE
BEGIN:VEVENT
DTSTART;TZID=America/New_York:20260423T163000
DTEND;TZID=America/New_York:20260423T173000
DTSTAMP:20260422T180859
CREATED:20260126T142951Z
LAST-MODIFIED:20260126T142951Z
UID:20677-1776961800-1776965400@www.iida-carolinas.org
SUMMARY:Western Carolina- Club Meeting- Save the Date!
DESCRIPTION:More Information the Follow!
URL:https://www.iida-carolinas.org/event/western-carolina-club-meeting-save-the-date-6/
LOCATION:NC
CATEGORIES:Campus Centers
END:VEVENT
BEGIN:VEVENT
DTSTART;TZID=America/New_York:20260423T163000
DTEND;TZID=America/New_York:20260423T183000
DTSTAMP:20260422T180859
CREATED:20260126T141007Z
LAST-MODIFIED:20260305T163648Z
UID:20646-1776961800-1776969000@www.iida-carolinas.org
SUMMARY:Charlotte- CEU- Register Now!
DESCRIPTION:
URL:https://www.iida-carolinas.org/event/charlotte-spring-breakfast-club-ceu-save-the-date/
LOCATION:NC
CATEGORIES:Charlotte
END:VEVENT
END:VCALENDAR